{"text_format":"1","workbook":"xlsx","n_sheets":10,"sheets":["기본사항","신고서","급여내역","인적공제","신용카드","기부금","감면","영수증","징수부","사용가이드"],"not_rendered":{"charts":0,"images":0,"macros":1,"external_links":0,"defined_names":9,"comments":7,"pivot_tables":0},"unopened":[],"bounds":{"document_bytes":16777216,"sheet_cells":100000,"rows_first":2000,"rows_last":500,"rows_between":2000,"halvings":0,"cell_chars":16384,"cell_head_chars":4096},"cells_cut":0,"cells_raw":0,"read":"whole","date_system":"1900"}

{"sheet":"기본사항","index":0,"n_rows":23,"n_cols":16,"rows_kept":23,"cut":false,"hidden":false,"merged":[[22,15,22,20],[19,6,19,13],[20,15,20,20],[15,2,15,5],[15,6,15,13],[18,2,18,5],[17,6,17,13],[18,6,18,13],[17,2,17,5],[19,15,19,20],[19,2,19,5],[14,6,14,13],[4,2,5,13],[9,2,9,5],[6,6,6,13],[21,15,21,20],[16,2,16,5],[4,15,5,19],[16,6,16,13],[7,2,7,5],[6,2,6,5],[13,2,13,5],[7,6,7,13],[14,2,14,5],[9,6,9,13],[11,2,12,13],[2,15,2,19],[3,15,3,19],[8,2,8,5],[8,6,8,13],[13,6,13,13]]}
[]
[]
[null,null,null,null,null,null,null,null,null,null,null,null,null,null,null,"사용가이드"]
[]
[null,null,"소득자 인적사항"]
[]
[null,null,"성명",null,null,null,"이영화"]
[null,null,"주민등록번호",null,null,null,"123456-1234567"]
[null,null,"주소",null,null,null,"서울 중구 다산로11길 25"]
[null,null,"귀속연도",null,null,null,2021]
[]
[null,null,"원천징수의무자 인적사항"]
[]
[null,null,"상호",null,null,null,"(주)조세통람"]
[null,null,"대표자성명",null,null,null,"김철수"]
[null,null,"사업자등록번호",null,null,null,"203-81-11111"]
[null,null,"주민등록번호",null,null,null,"123456-1234567"]
[null,null,"사업장주소",null,null,null,"서울 중구 동호로14길 5-6"]
[null,null,"신고년월일",null,null,null,"2022-03-02"]
[null,null,"관할세무서",null,null,null,"중부세무서장"]
[]
[null,null,null,null,null,null,null,null,null,null,null,null,null,null,null,"최신세무·회계·법령서비스"]
[null,null,null,null,null,null,null,null,null,null,null,null,null,null,null,"http://www.taxnet.co.kr/"]

{"sheet":"신고서","index":1,"n_rows":276,"n_cols":56,"rows_kept":276,"cut":false,"hidden":false,"merged":[[30,2,30,4],[30,7,30,12],[57,2,59,4],[57,5,57,6],[58,5,58,6],[59,5,59,6],[42,45,44,48],[45,45,47,48],[48,45,50,48],[51,45,53,48],[54,45,56,48],[57,45,59,48],[42,5,42,6],[43,5,43,6],[44,5,44,6],[42,2,44,4],[45,2,47,4],[45,5,45,6],[46,5,46,6],[47,5,47,6],[48,2,50,4],[48,5,48,6],[49,5,49,6],[50,5,50,6],[51,2,53,4],[51,5,51,6],[52,5,52,6],[53,5,53,6],[54,5,54,6],[55,5,55,6],[56,5,56,6],[49,38,49,44],[120,43,120,48],[121,31,121,36],[121,43,121,48],[144,37,144,42],[144,43,144,48],[138,1,139,48],[137,2,137,22],[129,31,129,36],[129,37,129,42],[129,43,129,48],[136,23,136,30],[136,2,136,22],[135,31,135,36],[135,37,135,42],[135,43,135,48],[39,5,41,6],[14,5,14,12],[15,5,15,12],[17,2,17,12],[18,5,18,12],[19,5,19,12],[20,5,20,12],[21,5,21,12],[22,5,22,12],[23,5,23,12],[24,5,24,12],[25,5,25,12],[26,5,26,12],[27,5,27,12],[28,5,28,12],[31,2,31,4],[31,7,31,12],[123,37,124,42],[124,20,124,22],[125,8,126,19],[125,20,125,22],[125,23,126,30],[125,37,126,42],[126,20,126,22],[137,23,137,30],[137,31,137,36],[131,23,131,30],[134,23,134,30],[134,8,134,22],[142,31,142,36],[130,37,130,42],[142,37,142,48],[143,37,143,42],[143,43,143,48],[133,43,133,48],[134,31,134,36],[127,31,127,36],[127,37,127,42],[135,23,135,30],[128,23,128,30],[129,23,129,30],[130,23,130,30],[132,23,132,30],[133,23,133,30],[131,8,131,22],[135,2,135,22],[127,23,127,30],[121,2,127,7],[130,31,130,36],[143,10,143,21],[143,22,143,30],[143,31,143,36],[123,8,124,19],[119,31,119,36],[123,20,123,22],[123,23,124,30],[8,1,8,9],[8,10,8,15],[8,17,8,25],[8,26,8,34],[8,35,8,40],[8,42,8,48],[5,26,5,34],[5,35,5,48],[6,1,6,9],[6,26,6,34],[6,44,6,46],[6,47,6,48],[5,1,5,9],[5,10,5,25],[17,26,17,28],[17,16,17,18],[13,26,13,48],[13,2,13,25],[6,35,6,37],[9,35,9,37],[6,38,6,43],[9,38,9,43],[12,1,12,9],[12,12,12,13],[17,22,17,25],[17,29,17,30],[17,31,17,32],[17,33,17,34],[17,35,17,36],[17,37,17,38],[17,39,17,40],[19,16,19,18],[19,22,19,25],[19,26,19,28],[20,19,20,21],[20,22,20,25],[20,26,20,28],[26,2,26,4],[2,1,2,48],[3,1,3,48],[4,1,4,9],[4,10,4,25],[4,26,4,34],[4,35,4,48],[11,1,11,9],[11,26,11,34],[16,2,16,12],[15,2,15,4],[15,16,15,18],[14,26,15,28],[15,13,15,15],[12,16,12,18],[9,1,9,9],[9,26,9,34],[9,44,9,46],[9,47,9,48],[12,26,12,48],[13,1,67,1],[14,2,14,4],[18,2,18,4],[20,2,20,4],[20,13,20,18],[21,2,21,4],[21,13,21,15],[19,2,19,4],[27,19,27,21],[27,22,27,25],[24,2,24,4],[23,19,23,21],[24,22,24,25],[24,26,24,28],[24,19,24,21],[23,2,23,4],[23,13,23,15],[23,16,23,18],[23,22,23,25],[23,26,23,28],[21,16,21,18],[22,13,22,18],[22,22,22,25],[22,26,22,28],[22,2,22,4],[21,19,21,21],[21,22,21,25],[21,26,21,28],[22,19,22,21],[25,19,25,21],[25,22,25,25],[25,26,25,28],[25,2,25,4],[25,13,25,15],[25,16,25,18],[26,13,26,18],[26,26,26,28],[27,2,27,4],[61,45,61,48],[29,2,29,4],[27,13,27,15],[27,16,27,18],[42,19,42,24],[29,19,29,21],[29,22,29,25],[27,26,27,28],[36,26,36,28],[29,26,29,28],[30,26,30,28],[42,25,42,30],[28,26,28,28],[29,13,29,15],[29,16,29,18],[60,45,60,48],[54,19,54,24],[31,19,31,21],[31,22,31,25],[31,26,31,28],[37,26,37,28],[28,29,28,30],[61,31,61,37],[48,31,48,37],[48,38,48,44],[42,7,42,12],[42,13,42,18],[36,41,36,42],[36,43,36,44],[42,31,42,37],[42,38,42,44],[54,2,56,4],[26,19,26,21],[26,22,26,25],[36,2,36,4],[39,2,41,4],[40,7,41,12],[40,13,41,18],[40,19,41,24],[28,13,28,18],[28,19,28,21],[28,22,28,25],[36,19,36,21],[36,22,36,25],[37,2,37,4],[51,31,51,37],[45,31,45,37],[32,2,32,4],[32,7,32,12],[32,13,32,18],[32,19,32,21],[32,22,32,25],[32,26,32,28],[33,22,33,25],[33,26,33,28],[33,2,33,4],[33,7,33,12],[34,2,34,4],[34,7,34,12],[34,13,34,18],[34,19,34,21],[34,22,34,25],[34,26,34,28],[35,2,35,4],[60,25,60,30],[36,7,36,12],[35,22,35,25],[35,26,35,28],[54,7,54,12],[54,13,54,18],[36,13,36,18],[60,31,60,37],[45,38,45,44],[61,13,61,18],[61,19,61,24],[61,25,61,30],[51,13,51,18],[51,19,51,24],[51,25,51,30],[51,38,51,44],[51,7,51,12],[35,7,35,12],[35,13,35,15],[35,16,35,18],[35,19,35,21],[54,25,54,30],[54,31,54,37],[54,38,54,44],[37,7,37,12],[37,13,37,15],[37,16,37,18],[37,19,37,21],[61,38,61,44],[35,29,35,30],[35,31,35,32],[35,33,35,34],[62,19,62,24],[62,25,62,30],[62,31,62,37],[62,38,62,44],[62,45,62,48],[63,2,63,4],[63,7,63,12],[63,13,63,18],[63,19,63,24],[64,2,64,4],[64,7,64,12],[64,13,64,18],[64,19,64,24],[64,25,64,30],[63,25,63,30],[63,31,63,37],[63,38,63,44],[63,45,63,48],[66,45,66,48],[67,13,67,18],[61,7,61,12],[57,19,57,24],[57,25,57,30],[57,31,57,37],[57,38,57,44],[67,25,67,30],[67,31,67,37],[66,2,66,4],[66,7,66,12],[66,13,66,18],[66,19,66,24],[60,38,60,44],[65,2,65,4],[65,7,65,12],[65,13,65,18],[65,19,65,24],[65,25,65,30],[64,38,64,44],[64,45,64,48],[60,2,60,4],[60,7,60,12],[60,13,60,18],[60,19,60,24],[61,2,61,4],[65,31,65,37],[65,38,65,44],[65,45,65,48],[62,2,62,4],[62,7,62,12],[62,13,62,18],[33,13,33,15],[33,16,33,18],[33,19,33,21],[37,22,37,25],[48,7,48,12],[45,7,45,12],[45,13,45,18],[45,19,45,24],[45,25,45,30],[81,34,81,46],[80,10,80,19],[81,10,81,19],[66,25,66,30],[66,31,66,37],[66,38,66,44],[80,20,80,33],[81,20,81,33],[80,34,80,46],[74,7,74,14],[74,15,74,18],[74,19,74,28],[74,43,74,46],[74,29,74,32],[74,33,74,42],[73,7,73,14],[73,15,73,18],[73,19,73,28],[73,43,73,46],[73,29,73,32],[73,33,73,42],[70,2,70,48],[64,31,64,37],[31,13,31,15],[31,16,31,18],[67,38,67,44],[67,45,67,48],[72,33,72,42],[80,7,80,9],[71,2,71,48],[72,7,72,14],[72,15,72,18],[72,19,72,28],[72,43,72,46],[72,29,72,32],[36,33,36,34],[36,35,36,36],[36,37,36,38],[36,39,36,40],[36,47,36,48],[37,29,37,30],[37,31,37,32],[37,33,37,34],[37,35,37,36],[33,47,33,48],[34,29,34,30],[34,31,34,32],[34,33,34,34],[34,35,34,36],[34,37,34,38],[34,39,34,40],[34,41,34,42],[34,43,34,44],[34,45,34,46],[34,47,34,48],[30,13,30,18],[30,19,30,21],[30,22,30,25],[69,1,69,48],[57,7,57,12],[57,13,57,18],[67,2,67,4],[67,7,67,12],[67,19,67,24],[30,29,30,30],[30,31,30,32],[30,33,30,34],[30,35,30,36],[30,37,30,38],[30,39,30,40],[33,29,33,30],[33,31,33,32],[33,33,33,34],[33,35,33,36],[33,37,33,38],[33,39,33,40],[36,29,36,30],[36,31,36,32],[37,37,37,38],[37,39,37,40],[37,41,37,42],[37,43,37,44],[37,45,37,46],[37,47,37,48],[33,41,33,42],[33,43,33,44],[33,45,33,46],[88,1,88,7],[88,31,88,36],[88,37,88,42],[88,43,88,48],[99,14,99,22],[100,14,100,22],[99,23,100,30],[98,8,98,22],[98,23,98,30],[93,23,93,30],[76,7,76,45],[77,2,77,47],[78,2,78,47],[75,7,75,14],[75,15,75,18],[75,19,75,28],[75,43,75,46],[75,29,75,32],[75,33,75,42],[81,7,81,9],[84,2,84,46],[83,2,83,47],[88,23,88,30],[88,8,88,22],[89,23,89,30],[90,23,90,30],[91,23,91,30],[91,43,91,48],[92,31,92,36],[92,37,92,42],[92,43,92,48],[92,23,92,30],[89,43,89,48],[90,31,90,36],[90,37,90,42],[90,43,90,48],[89,14,89,22],[90,14,90,22],[89,37,89,42],[91,8,92,13],[89,1,93,1],[89,2,93,7],[89,8,90,13],[89,31,89,36],[91,31,91,36],[101,23,109,30],[101,14,101,22],[102,14,102,22],[103,14,103,22],[104,14,104,22],[105,14,105,22],[106,16,106,22],[94,23,94,30],[95,23,95,30],[96,23,96,30],[97,23,97,30],[94,14,94,22],[95,14,95,22],[97,14,97,22],[96,14,96,22],[93,8,93,22],[98,37,98,42],[100,31,100,36],[98,31,98,36],[103,43,103,48],[104,43,104,48],[105,31,105,36],[105,43,105,48],[93,31,93,36],[93,37,93,42],[93,43,93,48],[100,43,100,48],[99,43,99,48],[98,43,98,48],[96,37,96,42],[96,43,96,48],[97,31,97,36],[97,37,97,42],[97,43,97,48],[91,14,91,22],[91,37,91,42],[92,14,92,22],[94,37,94,42],[94,43,94,48],[95,31,95,36],[95,37,95,42],[95,43,95,48],[107,16,107,22],[102,31,102,36],[106,31,106,36],[112,8,112,22],[99,31,99,36],[118,43,118,48],[116,43,116,48],[116,2,116,22],[106,11,109,13],[106,14,108,15],[109,16,109,22],[110,8,110,22],[110,23,110,30],[99,37,100,42],[107,31,107,36],[101,43,101,48],[101,8,109,10],[110,43,110,48],[99,2,110,7],[99,8,100,13],[114,8,114,22],[114,23,114,30],[112,31,112,36],[112,43,112,48],[106,43,106,48],[107,43,107,48],[109,43,109,48],[108,43,108,48],[109,14,109,15],[109,31,109,36],[102,43,102,48],[103,31,103,36],[94,1,114,1],[131,31,131,36],[116,31,116,36],[116,37,116,42],[120,31,120,36],[113,31,113,36],[110,31,110,36],[110,37,110,42],[108,31,108,36],[120,37,120,42],[115,23,115,30],[115,2,115,22],[114,31,114,36],[114,37,114,42],[114,43,114,48],[115,43,115,48],[125,43,125,48],[113,43,113,48],[113,23,113,30],[113,8,113,22],[101,11,103,13],[101,31,101,36],[128,43,128,48],[94,2,98,7],[94,8,95,13],[94,31,94,36],[96,8,97,13],[96,31,96,36],[101,37,109,42],[104,11,105,13],[104,31,104,36],[108,16,108,22],[125,31,125,36],[134,37,134,42],[134,43,134,48],[131,37,131,42],[131,43,131,48],[117,2,120,7],[117,31,117,36],[117,37,117,42],[117,43,117,48],[118,31,118,36],[118,37,118,42],[119,37,119,42],[119,43,119,48],[118,23,118,30],[119,23,119,30],[121,8,122,19],[121,20,121,22],[121,23,122,30],[121,37,122,42],[122,20,122,22],[117,8,117,22],[118,8,118,22],[119,8,119,22],[127,8,127,22],[120,23,120,30],[120,8,120,22],[117,23,117,30],[128,8,128,22],[129,8,129,22],[130,8,130,22],[132,8,132,22],[133,8,133,22],[137,37,137,42],[137,43,137,48],[140,1,140,3],[140,4,140,21],[140,22,140,48],[115,1,137,1],[115,31,115,36],[115,37,115,42],[116,23,116,30],[136,31,136,36],[136,37,136,42],[136,43,136,48],[149,37,149,41],[149,42,149,44],[149,45,149,48],[150,4,153,9],[150,10,150,21],[150,22,150,25],[150,26,150,31],[150,32,152,36],[150,37,150,41],[150,45,150,48],[130,43,130,48],[132,31,132,36],[132,37,132,42],[132,43,132,48],[133,31,133,36],[133,37,133,42],[127,43,127,48],[128,2,134,7],[128,31,128,36],[128,37,128,42],[141,1,182,1],[141,2,148,3],[141,4,144,9],[141,10,141,13],[142,10,142,21],[142,22,142,30],[144,10,144,21],[144,22,144,30],[149,2,182,3],[149,4,149,21],[149,22,149,31],[147,4,147,21],[147,22,147,30],[147,31,147,36],[147,37,147,42],[147,43,147,48],[154,42,154,44],[154,45,154,48],[155,10,155,21],[155,22,155,25],[155,26,155,31],[155,32,155,36],[155,37,155,41],[155,42,155,44],[149,32,149,35],[164,16,165,16],[164,10,165,15],[164,17,165,17],[164,18,165,20],[164,21,165,21],[164,26,165,31],[144,31,144,36],[148,4,148,21],[148,22,148,30],[148,31,148,36],[148,37,148,42],[148,43,148,48],[150,42,152,44],[145,4,145,21],[145,22,145,30],[145,31,145,36],[145,37,145,42],[145,43,145,48],[146,4,146,21],[146,22,146,30],[146,31,146,36],[146,37,146,42],[146,43,146,48],[153,10,153,21],[153,22,153,25],[153,26,153,31],[153,32,153,36],[153,37,153,41],[153,45,153,48],[151,10,151,21],[151,22,151,25],[151,26,151,31],[151,37,151,41],[151,45,151,48],[152,10,152,21],[152,22,152,25],[152,26,152,31],[152,37,152,41],[152,45,152,48],[161,45,161,48],[160,10,160,21],[160,22,160,25],[160,26,160,31],[154,10,154,21],[154,22,154,25],[154,26,154,31],[154,32,154,36],[156,10,156,21],[156,22,156,25],[156,26,156,31],[161,10,161,21],[161,22,161,25],[161,26,161,31],[161,32,161,36],[161,37,161,41],[161,42,161,44],[158,26,158,31],[158,37,158,41],[158,42,158,44],[158,45,158,48],[155,45,155,48],[156,37,156,41],[156,42,156,44],[156,45,156,48],[157,10,157,21],[157,22,157,25],[157,26,157,31],[157,32,159,36],[157,37,157,41],[156,32,156,36],[154,37,154,41],[157,8,161,9],[167,37,167,41],[167,45,167,48],[166,10,166,16],[166,18,166,20],[168,10,168,21],[159,10,159,21],[159,22,159,25],[159,26,159,31],[159,37,159,41],[159,42,159,44],[159,45,159,48],[157,42,157,44],[157,45,157,48],[158,10,158,21],[158,22,158,25],[166,26,166,31],[168,37,168,41],[168,45,168,48],[166,22,166,25],[166,32,166,36],[166,37,166,41],[166,45,166,48],[167,10,167,15],[167,18,167,20],[167,22,167,25],[167,26,167,31],[167,32,167,36],[162,8,168,9],[162,10,162,21],[162,22,162,25],[162,26,162,31],[172,22,172,25],[172,26,172,31],[172,37,172,41],[172,45,172,48],[171,32,171,36],[171,37,171,41],[162,32,162,36],[162,37,162,41],[162,45,162,48],[163,10,163,15],[163,18,163,20],[169,42,169,44],[169,45,169,48],[170,14,170,21],[170,22,170,25],[170,26,170,31],[170,37,170,41],[170,45,170,48],[170,42,175,44],[169,37,169,41],[171,10,171,21],[171,22,171,25],[163,22,163,25],[163,26,163,31],[163,32,163,36],[163,37,163,41],[163,45,163,48],[164,37,165,41],[164,45,165,48],[162,42,167,44],[164,22,165,25],[164,32,165,36],[173,10,173,21],[177,37,177,42],[177,43,177,48],[178,22,178,30],[178,31,178,36],[178,37,178,42],[178,43,178,48],[175,45,175,48],[173,22,173,25],[176,4,181,21],[176,22,176,30],[176,31,176,36],[176,37,176,42],[176,43,176,48],[177,22,177,30],[177,31,177,36],[175,10,175,21],[175,22,175,25],[175,26,175,31],[175,32,175,36],[175,37,175,41],[173,26,173,31],[173,37,173,41],[173,45,173,48],[174,10,174,21],[174,22,174,25],[174,26,174,31],[174,37,174,41],[174,45,174,48],[154,4,175,7],[154,8,156,9],[171,45,171,48],[189,7,189,12],[183,43,183,48],[189,13,189,21],[189,22,189,29],[189,37,189,48],[184,2,184,48],[181,22,181,30],[181,31,181,36],[181,37,181,42],[181,43,181,48],[182,4,182,21],[182,22,182,30],[182,31,182,36],[182,37,182,42],[182,43,182,48],[183,4,183,21],[179,22,179,30],[179,31,179,36],[179,37,179,42],[179,43,179,48],[180,22,180,30],[180,31,180,36],[180,37,180,42],[180,43,180,48],[183,22,183,30],[183,31,183,36],[183,37,183,42],[172,10,172,21],[168,22,168,25],[168,26,168,31],[168,32,168,36],[171,26,171,31],[202,26,202,34],[202,35,202,48],[197,2,197,47],[195,1,195,12],[195,23,195,24],[195,34,195,35],[169,8,175,9],[169,10,170,13],[169,14,169,21],[169,22,169,25],[169,26,169,31],[190,13,190,21],[190,22,190,29],[190,30,190,36],[191,28,192,48],[193,23,193,24],[193,25,193,26],[189,1,190,4],[193,1,194,21],[190,41,190,42],[186,31,186,32],[186,35,186,41],[186,42,186,47],[187,1,187,48],[191,1,192,21],[191,25,191,26],[188,41,188,42],[190,7,190,12],[190,37,190,40],[216,38,216,48],[213,1,213,48],[214,1,214,10],[214,11,214,18],[214,19,214,29],[214,30,214,37],[214,38,214,48],[211,1,211,10],[211,11,211,18],[211,19,211,29],[211,30,211,37],[211,38,211,48],[212,1,212,48],[209,1,209,10],[209,11,209,18],[209,19,209,29],[209,30,209,37],[209,38,209,48],[210,1,210,10],[210,11,210,18],[210,19,210,29],[210,30,210,37],[210,38,210,48],[274,2,274,47],[253,37,253,39],[254,1,254,9],[254,10,254,15],[254,26,254,32],[254,33,254,36],[254,37,254,39],[252,1,253,9],[252,10,253,15],[252,26,253,32],[263,44,263,48],[261,31,261,34],[266,43,267,48],[262,44,262,48],[252,16,253,19],[252,33,252,39],[253,33,253,36],[262,26,262,30],[262,31,262,34],[262,35,262,39],[268,1,268,9],[268,10,268,15],[268,16,268,21],[268,22,268,25],[268,26,268,35],[271,1,271,48],[272,1,272,48],[273,1,273,48],[270,16,270,21],[270,22,270,25],[270,26,270,35],[270,36,270,39],[275,1,275,48],[28,2,28,4],[269,43,269,48],[270,1,270,9],[270,10,270,15],[191,23,191,24],[270,40,270,42],[270,43,270,48],[267,36,267,39],[267,40,267,42],[269,1,269,9],[269,10,269,15],[269,16,269,21],[269,22,269,25],[269,26,269,35],[269,36,269,39],[269,40,269,42],[264,40,264,43],[264,44,264,48],[265,1,265,48],[266,1,267,9],[266,10,267,15],[266,16,267,21],[266,22,267,25],[266,26,267,35],[266,36,266,42],[264,1,264,10],[264,11,264,16],[263,35,263,39],[262,1,262,10],[262,11,262,16],[262,17,262,25],[261,40,261,43],[256,1,256,9],[256,10,256,15],[256,26,256,32],[256,33,256,36]],"merged_total":1450,"flags":["merged_cut"]}
[]
[null,"■ 소득세법 시행규칙[별지 제37호서식(1)] <개정(안) 2021. 10. 28.>",null,null,null,null,null,null,null,null,null,null,null,null,null,null,null,null,null,null,null,null,null,null,null,null,null,null,null,null,null,null,null,null,null,null,null,null,null,null,null,null,null,null,null,null,null,null,"(8쪽 중 제1쪽)"]
[null,"소득ㆍ세액 공제신고서/근로소득자 소득ㆍ세액 공제신고서 ( 2021년 소득에 대한 연말정산용)"]
[null,"※ 근로소득자는 신고서에 소득ㆍ세액 공제 증명서류를 첨부하여 원천징수의무자(소속 회사 등)에게 제출하며, 원천징수의무자는 신고서 및 첨부서류를 확인하여 근로소득 세액계산을 하고 근로소득자에게 즉시 근로소득원천징수영수증을 발급해야 합니다. 연말정산 시 근로소득자에게 환급이 발생하는 경우 원천징수의무자는 근로소득자에게 환급세액을 지급해야 합니다."]
[null,"소득자 성명",null,null,null,null,null,null,null,null,{"$f":"기본사항!G7","v":"이영화"},null,null,null,null,null,null,null,null,null,null,null,null,null,null,null,"주민등록번호",null,null,null,null,null,null,null,null,{"$f":"기본사항!G8","v":"123456-1234567"}]
[null,"근무처 명칭",null,null,null,null,null,null,null,null,{"$f":"기본사항!G14","v":"(주)조세통람"},null,null,null,null,null,null,null,null,null,null,null,null,null,null,null,"사업자등록번호",null,null,null,null,null,null,null,null,{"$f":"기본사항!G16","v":"203-81-11111"}]
[null,"세대주여부",null,null,null,null,null,null,null,null,null,null,null,"세대주",null,null,",",null,null,null,"세대원",null,null,null,null,null,"국적",null,null,null,null,null,null,null,null,"한국",null,null,"( 국적 코드:",null,null,null,null,null,"KR",null,null,")"]
[null,null,null,null,null,null,null,null,null,null,false,null,null,null,null,null,null,null,null,null,null,null,null,null,null,false]
[null,"근무기간",null,null,null,null,null,null,null,null,20210101,null,null,null,null,null,"~",20211231,null,null,null,null,null,null,null,null,"감면기간",null,null,null,null,null,null,null,null,null,null,null,null,null,null,"~"]
[null,"거주구분",null,null,null,null,null,null,null,null,null,null,null,"거주자",null,null,",",null,null,null,"비거주자",null,null,null,null,null,"거주지국",null,null,null,null,null,null,null,null,"한국",null,null,"( 거주지국 코드:",null,null,null,null,null,"KR",null,null,")"]
[null,null,null,null,null,null,null,null,null,null,true,null,null,null,null,null,null,null,null,null,null,null,null,null,null,false]
[null,"인적공제 항목변동 여부",null,null,null,null,null,null,null,null,null,null,"   전년과동일",null,null,null,",",null,null,null,"변동",null,null,null,null,null,"분납신청 여부",null,null,null,null,null,null,null,null,null,null,null,null,"신청",null,null,",",null,null,null,"미신청"]
[null,"원천징수세액 선택",null,null,null,null,null,null,null,null,null,null,1.2,null,null,null,1,null,null,null,null,0.8,null,null,null,null,"※ 근로소득자 본인이 원하는 경우 매월 원천징수하는 세액을 법령상 세액의 120%, 100%, 80% 중 선택할 수 있습니다."]
[null,"Ⅰ.인적공제 및 소득공제명세","인적공제항목",null,null,null,null,null,null,null,null,null,null,null,null,null,null,null,null,null,null,null,null,null,null,null,"각종 소득ㆍ세액 공제 항목"]
[null,null,"관계코드",null,null,"성명",null,null,null,null,null,null,null,"기본공제",null,null,null,null,null,"경로우대",null,null,"출산입양",null,null,null,"자료\n구분",null,null,"보험료",null,null,null,null,null,null,null,"의료비",null,null,null,null,null,null,null,"교육비"]
[null,null,"내ㆍ외\n국인",null,null,"주민등록번호",null,null,null,null,null,null,null,"부녀자",null,null,"한부모",null,null,"장애인",null,null,"자녀",null,null,null,null,null,null,"건강",null,"고용",null,"보장성",null,"장애인\n전용\n보장성",null,"일반",null,"난임",null,"65세이상\n장애인\n건강보험\n산정특례자",null,"실손의료\n보험금",null,"일반",null,"장애인"]
[null,null,"인적공제 항목에 해당하는",null,null,null,null,null,null,null,null,null,null,{"$f":"인적공제!G17","v":5},null,null,null,null,null,{"$f":"인적공제!M17","v":1},null,null,{"$f":"인적공제!I17","v":1},null,null,null,"국세청계",null,null,{"$f":"AD19+AD21+AD23+AD25+AD27+AD29+AD31+AD33+AD35+AD37","v":0},null,{"$f":"AF19+AF21+AF23+AF25+AF27+AF29+AF31+AF33+AF35+AF37","v":0},null,{"$f":"AH19+AH21+AH23+AH25+AH27+AH29+AH31+AH33+AH35+AH37","v":0},null,{"$f":"AJ19+AJ21+AJ23+AJ25+AJ27+AJ29+AJ31+AJ33+AJ35+AJ37","v":0},null,{"$f":"AL19+AL21+AL23+AL25+AL27+AL29+AL31+AL33+AL35+AL37","v":0},null,{"$f":"AN19+AN21+AN23+AN25+AN27+AN29+AN31+AN33+AN35+AN37","v":0},null,{"$f":"AP19+AP21+AP23+AP25+AP27+AP29+AP31+AP33+AP35+AP37","v":0},null,{"$f":"AR19+AR21+AR23+AR25+AR27+AR29+AR31+AR33+AR35+AR37","v":0},null,{"$f":"AT19+AT21+AT23+AT25+AT27+AT29+AT31+AT33+AT35+AT37","v":0},null,{"$f":"AV19+AV21+AV23+AV25+AV27+AV29+AV31+AV33+AV35+AV37","v":0}]
[null,null,"인원수를 적습니다.",null,null,null,null,null,null,null,null,null,null,{"$f":"IF(Q18=\"\",IF(N20=\"\",\"\",1),\"\")","v":""},null,null,{"$f":"IF(Q20=\"\",\"\",1)","v":""},null,null,{"$f":"인적공제!K17","v":0},null,null,{"$f":"인적공제!L17","v":1},null,null,null,"기타계",null,null,{"$f":"AD20+AD22+AD24+AD26+AD28+AD30+AD32+AD34+AD36+AD38","v":883200},null,{"$f":"AF20+AF22+AF24+AF26+AF28+AF30+AF32+AF34+AF36+AF38","v":201600},null,{"$f":"AH20+AH22+AH24+AH26+AH28+AH30+AH32+AH34+AH36+AH38","v":0},null,{"$f":"AJ20+AJ22+AJ24+AJ26+AJ28+AJ30+AJ32+AJ34+AJ36+AJ38","v":0},null,{"$f":"AL20+AL22+AL24+AL26+AL28+AL30+AL32+AL34+AL36+AL38","v":0},null,{"$f":"AN20+AN22+AN24+AN26+AN28+AN30+AN32+AN34+AN36+AN38","v":0},null,{"$f":"AP20+AP22+AP24+AP26+AP28+AP30+AP32+AP34+AP36+AP38","v":0},null,{"$f":"AR20+AR22+AR24+AR26+AR28+AR30+AR32+AR34+AR36+AR38","v":0},null,{"$f":"AT20+AT22+AT24+AT26+AT28+AT30+AT32+AT34+AT36+AT38","v":0},null,{"$f":"AV20+AV22+AV24+AV26+AV28+AV30+AV32+AV34+AV36+AV38","v":0}]
[null,null,"0",null,null,{"$f":"K5","v":"이영화"},null,null,null,null,null,null,null,"○",null,null,null,null,null,null,null,null,"○3",null,null,null,"국세청"]
[null,null,1,null,null,"(근로자 본인)",null,null,null,null,null,null,null,null,null,null,null,null,null,null,null,null,null,null,null,null,"기타",null,null,{"$f":"급여내역!CB20+급여내역!CD20","v":883200},null,{"$f":"급여내역!CC20","v":201600}]
[null,null,3,null,null,"조세희",null,null,null,null,null,null,null,"○",null,null,null,null,null,null,null,null,null,null,null,null,"국세청"]
[null,null,1,null,null,"710415-2031653",null,null,null,null,null,null,null,null,null,null,null,null,null,null,null,null,null,null,null,null,"기타"]
[null,null,2,null,null,"편람일",null,null,null,null,null,null,null,"○",null,null,null,null,null,"○",null,null,null,null,null,null,"국세청"]
[null,null,1,null,null,"481103-2019015",null,null,null,null,null,null,null,null,null,null,null,null,null,null,null,null,null,null,null,null,"기타"]
[null,null,4,null,null,"이대한",null,null,null,null,null,null,null,"○",null,null,null,null,null,null,null,null,null,null,null,null,"국세청"]
[null,null,1,null,null,"091206-4059631",null,null,null,null,null,null,null,null,null,null,null,null,null,null,null,null,null,null,null,null,"기타"]
[null,null,4,null,null,"이민국",null,null,null,null,null,null,null,"○",null,null,null,null,null,null,null,null,null,null,null,null,"국세청"]
[null,null,1,null,null,"151230-3059632",null,null,null,null,null,null,null,null,null,null,null,null,null,null,null,null,"○",null,null,null,"기타"]
[null,null,null,null,null,null,null,null,null,null,null,null,null,null,null,null,null,null,null,null,null,null,null,null,null,null,"국세청"]
[null,null,null,null,null,null,null,null,null,null,null,null,null,null,null,null,null,null,null,null,null,null,null,null,null,null,"기타"]
[null,null,null,null,null,null,null,null,null,null,null,null,null,null,null,null,null,null,null,null,null,null,null,null,null,null,"국세청"]
[null,null,null,null,null,null,null,null,null,null,null,null,null,null,null,null,null,null,null,null,null,null,null,null,null,null,"기타"]
[null,null,null,null,null,null,null,null,null,null,null,null,null,null,null,null,null,null,null,null,null,null,null,null,null,null,"국세청"]
[null,null,null,null,null,null,null,null,null,null,null,null,null,null,null,null,null,null,null,null,null,null,null,null,null,null,"기타"]
[null,null,null,null,null,null,null,null,null,null,null,null,null,null,null,null,null,null,null,null,null,null,null,null,null,null,"국세청"]
[null,null,null,null,null,null,null,null,null,null,null,null,null,null,null,null,null,null,null,null,null,null,null,null,null,null,"기타"]
[null,null,null,null,null,null,null,null,null,null,null,null,null,null,null,null,null,null,null,null,null,null,null,null,null,null,"국세청"]
[null,null,null,null,null,null,null,null,null,null,null,null,null,null,null,null,null,null,null,null,null,null,null,null,null,null,"기타"]
[null,null,"각종 소득ㆍ세액 공제 항목"]
[null,null,"자료\n구분",null,null,"기간",null,"신용카드등 사용액",null,null,null,null,null,null,null,null,null,null,null,null,null,null,null,null,null,null,null,null,null,null,null,null,null,null,null,null,null,null,null,null,null,null,null,null,null,"기부금"]
[null,null,null,null,null,null,null,"신용카드",null,null,null,null,null,"직불카드등",null,null,null,null,null,"현금영수증",null,null,null,null,null,"도서공연등사용분\n(총급여 7천만원 이하자만 기재)",null,null,null,null,null,"전통시장사용분",null,null,null,null,null,null,"대중교통 이용분"]
[]
[null,null,"국세청계",null,null,"3월",null,{"$f":"H49+H55","v":0},null,null,null,null,null,{"$f":"N49+N55","v":0},null,null,null,null,null,{"$f":"T49+T55","v":0},null,null,null,null,null,{"$f":"Z49+Z55","v":0},null,null,null,null,null,{"$f":"AF49+AF55","v":0},null,null,null,null,null,null,{"$f":"AM49+AM55","v":0},null,null,null,null,null,null,{"$f":"AT49+AT55","v":0}]
[null,null,null,null,null,"4~7월",null,0,null,null,null,null,null,0,null,null,null,null,null,{"$f":"T50+T56","v":0},null,null,null,null,null,0,null,null,null,null,null,0,null,null,null,null,null,null,0]
[null,null,null,null,null,"그 외",null,0,null,null,null,null,null,0,null,null,null,null,null,{"$f":"T51+T57","v":0},null,null,null,null,null,0,null,null,null,null,null,0,null,null,null,null,null,null,0]
[null,null,"기타계",null,null,"3월",null,0,null,null,null,null,null,0,null,null,null,null,null,{"$f":"SUM(T52,T58)","v":0},null,null,null,null,null,0,null,null,null,null,null,0,null,null,null,null,null,null,0,null,null,null,null,null,null,{"$f":"AT52+AT58","v":0}]
[null,null,null,null,null,"4~7월",null,0,null,null,null,null,null,0,null,null,null,null,null,{"$f":"SUM(T53,T59)","v":0},null,null,null,null,null,0,null,null,null,null,null,0,null,null,null,null,null,null,0]
[null,null,null,null,null,"그 외",null,0,null,null,null,null,null,0,null,null,null,null,null,{"$f":"SUM(T54,T60)","v":0},null,null,null,null,null,0,null,null,null,null,null,0,null,null,null,null,null,null,0]
[null,null,"국세청",null,null,"3월"]
[null,null,null,null,null,"4~7월"]
[null,null,null,null,null,"그 외"]
[null,null,"기타",null,null,"3월"]
[null,null,null,null,null,"4~7월"]
[null,null,null,null,null,"그 외"]
[null,null,"국세청",null,null,"3월"]
[null,null,null,null,null,"4~7월"]
[null,null,null,null,null,"그 외"]
[null,null,"기타",null,null,"3월"]
[null,null,null,null,null,"4~7월"]
[null,null,null,null,null,"그 외"]
[null,null,"국세청",null,null,null,null,null,null,null,null,null,null,null,null,null,null,null,null,null,null,null,null,null,null,null,null,null,null,null,null,null,null,null,null,null,null,null,null,null,null,null,null,null,null,null,null,null,null,null,null,null,null,null,null,{"$f":"IF(Q62=\"\",AB61+AB62,0)","v":0}]
[null,null,"기타"]
[null,null,"국세청",null,null,null,null,null,null,null,null,null,null,null,null,null,null,null,null,null,null,null,null,null,null,null,null,null,null,null,null,null,null,null,null,null,null,null,null,null,null,null,null,null,null,null,null,null,null,null,null,null,null,null,null,{"$f":"IF(Q64=\"\",AB63+AB64,0)","v":0}]
[null,null,"기타"]
[null,null,"국세청",null,null,null,null,null,null,null,null,null,null,null,null,null,null,null,null,null,null,null,null,null,null,null,null,null,null,null,null,null,null,null,null,null,null,null,null,null,null,null,null,null,null,null,null,null,null,null,null,null,null,null,null,{"$f":"IF(Q66=\"\",AB65+AB66,0)","v":0}]
[null,null,"기타"]
[null,null,"국세청",null,null,null,null,null,null,null,null,null,null,null,null,null,null,null,null,null,null,null,null,null,null,null,null,null,null,null,null,null,null,null,null,null,null,null,null,null,null,null,null,null,null,null,null,null,null,null,null,null,null,null,null,{"$f":"IF(Q68=\"\",AB67+AB68,0)","v":0}]
[null,null,"기타"]
[]
[null,"유의사항"]
[null,null,"1. “인적공제 항목 변동 여부”란에는 해당 항목에 “√”표시합니다(인적공제 항목이 전년과 동일한 경우에는 주민등록표등본을 제출하지 않습니다)."]
[null,null,"2. 관계코드"]
[null,null,null,null,null,null,null,"구 분",null,null,null,null,null,null,null,"관계코드",null,null,null,"구  분",null,null,null,null,null,null,null,null,null,"관계코드",null,null,null,"구  분",null,null,null,null,null,null,null,null,null,"관계코드"]
[null,null,null,null,null,null,null,"소득자 본인\n(「소득세법」 §50①1)",null,null,null,null,null,null,null,"0",null,null,null,"소득자의 직계존속\n(「소득세법」 §50①3가)",null,null,null,null,null,null,null,null,null,1,null,null,null,"배우자의 직계존속\n(「소득세법」 §50①3가)",null,null,null,null,null,null,null,null,null,2]
[null,null,null,null,null,null,null,"배우자\n(「소득세법」 §50①2)",null,null,null,null,null,null,null,3,null,null,null,"직계비속(자녀ㆍ입양자)\n(「소득세법」 §50①3나)",null,null,null,null,null,null,null,null,null,4,null,null,null,"직계비속(코드 4 제외)\n(「소득세법」 §50①3나)",null,null,null,null,null,null,null,null,null,"5*"]
[null,null,null,null,null,null,null,"형제자매\n(「소득세법」 §50①3다)",null,null,null,null,null,null,null,6,null,null,null,"수급자(코드1~6제외)\n(「소득세법」 §50①3라)",null,null,null,null,null,null,null,null,null,7,null,null,null,"위탁아동\n(「소득세법」 §50①3마)",null,null,null,null,null,null,null,null,null,8]
[null,null,null,null,null,null,null,"* 관계코드 5: 해당 직계비속과 그 배우자가 장애인인 경우 그 배우자를 말하며, 관계코드 4~6은 소득자와 배우자의 각각의 관계를 포함합니다."]
[null,null,"3. 연령기준\n  - 경로우대: (    .   .   .)  이전 출생(만 70세 이상: 연 100만원 공제)"]
[null,null,"4. \"부녀자 공제\"란에는 소득자 본인이 여성인 경우로서 다음의 요건을 모두 충족하는 경우에 표시합니다.\n   가. 해당 과세기간의 종합소득과세표준을 계산할 때 합산하는 종합소득금액이 3천만원 이하일 것\n   나. 배우자가 없는 여성으로서 「소득세법」 제50조제1항제3호에 따른 부양가족이 있는 세대주이거나 배우자가 있는 여성일 것"]
[null,null,"5. \"장애인 공제\"란에는 다음의 해당 코드를 적습니다."]
[null,null,null,null,null,null,null,"구분",null,null,"「장애인복지법」에 따른 장애인",null,null,null,null,null,null,null,null,null,"「국가유공자 등 예우 및 지원에 관한 법률」에\n따른 상이자 및 이와 유사한 자로서\n근로능력이 없는 자",null,null,null,null,null,null,null,null,null,null,null,null,null,"그 밖에 항시 치료를 요하는 중증환자"]
[null,null,null,null,null,null,null,"해당코드",null,null,1,null,null,null,null,null,null,null,null,null,2,null,null,null,null,null,null,null,null,null,null,null,null,null,3]
[]
[null,null,"6. 내ㆍ외국인: 내국인=1, 외국인=9로 구분하여 적습니다. 종교관련종사자가 외국인에 해당하는 경우 국적을 적으며, 국적코드는 거주지국코드를 참조하여 적습니다."]
[null,null,"7. 내ㆍ외국인: 내국인=1, 외국인=9로 구분하여 적습니다. 근로소득자가 외국인에 해당하는 경우 국적을 적으며, 국적코드는 거주지국코드를 참조하여 적습니다."]
[]
[null,null,null,null,null,null,null,null,null,null,null,null,null,null,null,null,null,null,null,null,null,null,null,null,null,null,null,null,null,null,null,null,null,null,null,null,null,null,null,null,null,null,null,null,null,null,null,null,"210㎜×297㎜"]
[null,null,null,null,null,null,null,null,null,null,null,null,null,null,null,null,null,null,null,null,null,null,null,null,null,null,null,null,null,null,null,null,null,null,null,null,null,null,null,null,null,null,null,null,null,null,null,null,"(8쪽 중 제2쪽)"]
[null,"구분",null,null,null,null,null,null,"지출명세",null,null,null,null,null,null,null,null,null,null,null,null,null,null,"지출구분",null,null,null,null,null,null,null,"금액",null,null,null,null,null,"한도액",null,null,null,null,null,"공제액"]
[null,"Ⅱ.연금보험료공제","연금보험료(국민연금,\n공무원연금, 군인연금, 교직원연금 등)",null,null,null,null,null,"국민연금보험료",null,null,null,null,null,"종(전)근무지",null,null,null,null,null,null,null,null,"보험료",null,null,null,null,null,null,null,{"$f":"급여내역!CA26+급여내역!CA33+급여내역!CA40","v":0},null,null,null,null,null,"전액",null,null,null,null,null,{"$f":"AF90","v":0}]
[null,null,null,null,null,null,null,null,null,null,null,null,null,null,"주(현)근무지",null,null,null,null,null,null,null,null,"보험료",null,null,null,null,null,null,null,{"$f":"급여내역!CA20","v":1134000},null,null,null,null,null,"전액",null,null,null,null,null,{"$f":"AF91","v":1134000}]
[null,null,null,null,null,null,null,null,"국민연금보험료 외의 공적연금보험료",null,null,null,null,null,"종(전)근무지",null,null,null,null,null,null,null,null,"보험료",null,null,null,null,null,null,null,300000,null,null,null,null,null,"전액",null,null,null,null,null,{"$f":"AF92","v":300000}]
[null,null,null,null,null,null,null,null,null,null,null,null,null,null,"주(현)근무지",null,null,null,null,null,null,null,null,"보험료",null,null,null,null,null,null,null,null,null,null,null,null,null,"전액",null,null,null,null,null,{"$f":"AF93","v":0}]
[null,null,null,null,null,null,null,null,"연금보험료 계",null,null,null,null,null,null,null,null,null,null,null,null,null,null,null,null,null,null,null,null,null,null,{"$f":"SUM(AF90:AK93)","v":1434000},null,null,null,null,null,null,null,null,null,null,null,{"$f":"SUM(AR90:AW93)","v":1434000}]
[null,"Ⅲ.특별소득공제","보험료",null,null,null,null,null,"국민건강보험(노인장기요양보험포함)",null,null,null,null,null,"종(전)근무지",null,null,null,null,null,null,null,null,"보험료",null,null,null,null,null,null,null,50000,null,null,null,null,null,"전액",null,null,null,null,null,{"$f":"AF95","v":50000}]
[null,null,null,null,null,null,null,null,null,null,null,null,null,null,"주(현)근무지",null,null,null,null,null,null,null,null,"보험료",null,null,null,null,null,null,null,{"$f":"급여내역!CB20+급여내역!CD20","v":883200},null,null,null,null,null,"전액",null,null,null,null,null,{"$f":"AF96","v":883200}]
[null,null,null,null,null,null,null,null,"고용보험",null,null,null,null,null,"종(전)근무지",null,null,null,null,null,null,null,null,"보험료",null,null,null,null,null,null,null,{"$f":"급여내역!CC26+급여내역!CC33+급여내역!CC40","v":0},null,null,null,null,null,"전액",null,null,null,null,null,{"$f":"AF97","v":0}]
[null,null,null,null,null,null,null,null,null,null,null,null,null,null,"주(현)근무지",null,null,null,null,null,null,null,null,"보험료",null,null,null,null,null,null,null,{"$f":"급여내역!CC20","v":201600},null,null,null,null,null,"전액",null,null,null,null,null,{"$f":"AF98","v":201600}]
[null,null,null,null,null,null,null,null,"보험료 계",null,null,null,null,null,null,null,null,null,null,null,null,null,null,null,null,null,null,null,null,null,null,{"$f":"SUM(AF95:AK98)","v":1134800},null,null,null,null,null,null,null,null,null,null,null,{"$f":"SUM(AR95:AW98)","v":1134800}]
[null,null,"주택자금",null,null,null,null,null,"주택임차차입금",null,null,null,null,null,"대출기관차입",null,null,null,null,null,null,null,null,"원리금 상환액",null,null,null,null,null,null,null,3800000,null,null,null,null,null,"작성방법참조",null,null,null,null,null,{"$f":"ROUNDDOWN(MIN(3000000,AF100*0.4),0)","v":1520000}]
[null,null,null,null,null,null,null,null,null,null,null,null,null,null,"거주자 차입",null,null,null,null,null,null,null,null,null,null,null,null,null,null,null,null,null,null,null,null,null,null,null,null,null,null,null,null,{"$f":"ROUNDDOWN(MIN((3000000-AR100),AF101*0.4),0)","v":0}]
[null,null,null,null,null,null,null,null,"장기\n주택\n저당\n차입금",null,null,"2011년\n이전\n차입분",null,null,"15년 미만",null,null,null,null,null,null,null,null,"이자 상환액",null,null,null,null,null,null,null,null,null,null,null,null,null,"작성방법참조",null,null,null,null,null,{"$f":"IF(AF102=\"\",0,MIN(AF102,(6000000-AR100-AR101)))","v":0}]
[null,null,null,null,null,null,null,null,null,null,null,null,null,null,"15년~29년",null,null,null,null,null,null,null,null,null,null,null,null,null,null,null,null,null,null,null,null,null,null,null,null,null,null,null,null,{"$f":"IF(AF103=\"\",0,MIN(AF103,(10000000-AR100-AR101)))","v":0}]
[null,null,null,null,null,null,null,null,null,null,null,null,null,null,"30년 이상",null,null,null,null,null,null,null,null,null,null,null,null,null,null,null,null,null,null,null,null,null,null,null,null,null,null,null,null,{"$f":"IF(AF104=\"\",0,MIN(AF104,(15000000-AR100-AR101)))","v":0}]
[null,null,null,null,null,null,null,null,null,null,null,"2012년\n이후\n차입분\n(15년 이상)",null,null,"고정금리이거나,\n 비거치상환 대출",null,null,null,null,null,null,null,null,null,null,null,null,null,null,null,null,null,null,null,null,null,null,null,null,null,null,null,null,{"$f":"IF(AF105=\"\",0,MIN(AF105,(15000000-AR100-AR101)))","v":0}]
[null,null,null,null,null,null,null,null,null,null,null,null,null,null,"기타 대출",null,null,null,null,null,null,null,null,null,null,null,null,null,null,null,null,null,null,null,null,null,null,null,null,null,null,null,null,{"$f":"IF(AF106=\"\",0,MIN(AF106,(5000000-AR100-AR101)))","v":0}]
[null,null,null,null,null,null,null,null,null,null,null,"2015년\n이후\n차입분",null,null,"15년 이상",null,"고정금리이면서,\n비거치상환 대출",null,null,null,null,null,null,null,null,null,null,null,null,null,null,null,null,null,null,null,null,null,null,null,null,null,null,{"$f":"IF(AF107=\"\",0,MIN(AF107,(18000000-AR100-AR101)))","v":0}]
[null,null,null,null,null,null,null,null,null,null,null,null,null,null,null,null,"고정금리이거나,\n비거치상환 대출",null,null,null,null,null,null,null,null,null,null,null,null,null,null,null,null,null,null,null,null,null,null,null,null,null,null,{"$f":"IF(AF108=\"\",0,MIN(AF108,(15000000-AR100-AR101)))","v":0}]
[null,null,null,null,null,null,null,null,null,null,null,null,null,null,null,null,"기타 대출",null,null,null,null,null,null,null,null,null,null,null,null,null,null,null,null,null,null,null,null,null,null,null,null,null,null,{"$f":"IF(AF109=\"\",0,MIN(AF109,(5000000-AR100-AR101)))","v":0}]
[null,null,null,null,null,null,null,null,null,null,null,null,null,null,"10년~\n15년",null,"고정금리이거나,\n비거치상환 대출",null,null,null,null,null,null,null,null,null,null,null,null,null,null,null,null,null,null,null,null,null,null,null,null,null,null,{"$f":"IF(AF110=\"\",0,MIN(AF110,(3000000-AR100-AR101)))","v":0}]
[null,null,null,null,null,null,null,null,"주택자금 공제액 계",null,null,null,null,null,null,null,null,null,null,null,null,null,null,null,null,null,null,null,null,null,null,null,null,null,null,null,null,null,null,null,null,null,null,{"$f":"SUM(AR100:AW110)","v":1520000}]
[null,null,"기부금\n(이월분)",null,null,null,null,null,"「소득세법」 제34조 제2항 제1호에 따른 기부금",null,null,null,null,null,null,null,null,null,null,null,null,null,null,"기부금이월액",null,null,null,null,null,null,null,null,null,null,null,null,null,"작성방법참조",null,null,null,null,null,{"$f":"IF(AF112=\"\",0,MIN(AZ114,AF112))","v":0}]
[null,null,null,null,null,null,null,null,"「소득세법」 제34조 제3항 제1호(종교단체\n 기부금 제외)에 따른 기부금",null,null,null,null,null,null,null,null,null,null,null,null,null,null,"기부금이월액",null,null,null,null,null,null,null,null,null,null,null,null,null,null,null,null,null,null,null,{"$f":"IF(AF113=\"\",0,IF(AF114>0,MIN(AF113,(AZ114*0.1)+MIN((AZ114*0.2),AF113)),MIN(AF113,AZ114*0.3)))","v":0},null,null,null,null,null,null,null,"근로소득금액"]
[null,null,null,null,null,null,null,null,"「소득세법」 제34조 제3항 제1호에 따른 \n기부금 중 종교단체기부금",null,null,null,null,null,null,null,null,null,null,null,null,null,null,"기부금이월액",null,null,null,null,null,null,null,null,null,null,null,null,null,null,null,null,null,null,null,{"$f":"IF(AF114=\"\",0,MIN(AF114,(AZ114*0.1)))","v":0},null,null,null,null,null,null,null,{"$f":"영수증!S65","v":16170000}]
[null,null,null,null,null,null,null,null,"기부금이월분(합계)",null,null,null,null,null,null,null,null,null,null,null,null,null,null,null,null,null,null,null,null,null,null,{"$f":"SUM(AF113:AK114)","v":0},null,null,null,null,null,null,null,null,null,null,null,{"$f":"SUM(AR113:AW114)","v":0}]
[null,"Ⅳ.그밖의소득공제","개인연금저축(2000년 이전가입)",null,null,null,null,null,null,null,null,null,null,null,null,null,null,null,null,null,null,null,null,"납입금액",null,null,null,null,null,null,null,null,null,null,null,null,null,"납입액 40%와\n72만원",null,null,null,null,null,{"$f":"ROUNDDOWN(IF(AF116=\"\",0,MIN(AF116*0.4,720000)),0)","v":0},null,null,null,null,null,null,null,"총급여액"]
[null,null,"소기업ㆍ소상공인 공제부금",null,null,null,null,null,null,null,null,null,null,null,null,null,null,null,null,null,null,null,null,"납입금액",null,null,null,null,null,null,null,null,null,null,null,null,null,"작성방법참조",null,null,null,null,null,{"$f":"IF(AF117=\"\",0,IF(AZ117>100000000,MIN(AF117,2000000),IF(AZ117>40000000,MIN(AF117,3000000),MIN(AF117,5000000))))","v":0},null,null,null,null,null,null,null,{"$f":"영수증!S63","v":25200000}]
[null,null,"주택마련저축 ",null,null,null,null,null,"청약저축",null,null,null,null,null,null,null,null,null,null,null,null,null,null,"납입금액",null,null,null,null,null,null,null,null,null,null,null,null,null,"작성방법참조",null,null,null,null,null,{"$f":"ROUNDDOWN(IF(AF118=\"\",0,MIN(MIN(AF118,2400000)*0.4,MAX((AZ118-AR100-AR101-SUM(AR102:AW110)),0))),0)","v":0},null,null,null,null,null,null,null,{"$f":"IF(AR102>0,6000000,IF(AR103>0,10000000,IF(AR104>0,15000000,IF(AR105>0,15000000,IF(AR106>0,5000000,3000000)))))","v":3000000}]
[null,null,null,null,null,null,null,null,"근로자주택마련저축",null,null,null,null,null,null,null,null,null,null,null,null,null,null,"납입금액",null,null,null,null,null,null,null,null,null,null,null,null,null,"작성방법참조",null,null,null,null,null,{"$f":"ROUNDDOWN(IF(AF119=\"\",0,MIN(MIN(AF119,1800000)*0.4,MAX((AZ118-AR100-AR101-AR118-SUM(AR102:AW110)),0))),0)","v":0}]
[null,null,null,null,null,null,null,null,"주택청약종합저축",null,null,null,null,null,null,null,null,null,null,null,null,null,null,"납입금액",null,null,null,null,null,null,null,null,null,null,null,null,null,"작성방법참조",null,null,null,null,null,{"$f":"ROUNDDOWN(IF(AF120=\"\",0,MIN(MIN(AF120,2400000)*0.4,MAX((AZ118-AR100-AR101-AR118-AR119-SUM(AR102:AW110)),0))),0)","v":0}]
[null,null,null,null,null,null,null,null,"주택마련저축 소득공제 계",null,null,null,null,null,null,null,null,null,null,null,null,null,null,null,null,null,null,null,null,null,null,{"$f":"SUM(AF118:AK120)","v":0},null,null,null,null,null,null,null,null,null,null,null,{"$f":"SUM(AR118:AW120)","v":0}]
[null,null,"투자조합\n출자 등",null,null,null,null,null,"2018년 출자ㆍ투자분",null,null,null,null,null,null,null,null,null,null,null,"조합 등",null,null,"출자ㆍ투자금액",null,null,null,null,null,null,null,null,null,null,null,null,null,0.1,null,null,null,null,null,{"$f":"MIN(ROUNDDOWN(IF(AF122=\"\",0,AF122*AL122),0),영수증!S65*0.5)","v":0}]
[null,null,null,null,null,null,null,null,null,null,null,null,null,null,null,null,null,null,null,null,"벤처 등",null,null,null,null,null,null,null,null,null,null,null,null,null,null,null,null,null,null,null,null,null,null,{"$f":"MIN(ROUNDDOWN(IF(AF123=\"\",0,AF123*AL122),0),영수증!S65*0.5)","v":0}]
[null,null,null,null,null,null,null,null,"2019년 출자ㆍ투자분",null,null,null,null,null,null,null,null,null,null,null,"조합 등",null,null,"출자ㆍ투자금액",null,null,null,null,null,null,null,null,null,null,null,null,null,0.1,null,null,null,null,null,{"$f":"MIN(ROUNDDOWN(IF(AF124=\"\",0,AF124*$AL$124),0),영수증!$S$65*0.5)","v":0}]
[null,null,null,null,null,null,null,null,null,null,null,null,null,null,null,null,null,null,null,null,"벤처 등",null,null,null,null,null,null,null,null,null,null,null,null,null,null,null,null,null,null,null,null,null,null,{"$f":"MIN(ROUNDDOWN(IF(AF125=\"\",0,AF125*$AL$124),0),영수증!$S$65*0.5)","v":0}]
[null,null,null,null,null,null,null,null,"2020년 출자ㆍ투자분",null,null,null,null,null,null,null,null,null,null,null,"조합 등",null,null,"출자ㆍ투자금액",null,null,null,null,null,null,null,null,null,null,null,null,null,0.1,null,null,null,null,null,{"$f":"MIN(ROUNDDOWN(IF(AF126=\"\",0,AF126*$AL$126),0),영수증!$S$65*0.5)","v":0}]
[null,null,null,null,null,null,null,null,null,null,null,null,null,null,null,null,null,null,null,null,"벤처 등",null,null,null,null,null,null,null,null,null,null,null,null,null,null,null,null,null,null,null,null,null,null,{"$f":"MIN(ROUNDDOWN(IF(AF127=\"\",0,AF127*$AL$126),0),영수증!$S$65*0.5)","v":0}]
[null,null,null,null,null,null,null,null,"투자조합 출자 등 소득공제 계",null,null,null,null,null,null,null,null,null,null,null,null,null,null,null,null,null,null,null,null,null,null,{"$f":"SUM(AF122:AK126)","v":0},null,null,null,null,null,null,null,null,null,null,null,{"$f":"SUM(AR122:AR126)","v":0}]
[null,null,"신용카드등사용액",null,null,null,null,null,"①신용카드",null,null,null,null,null,null,null,null,null,null,null,null,null,null,"사용금액",null,null,null,null,null,null,null,{"$f":"SUM(H43:H48)","v":0}]
[null,null,null,null,null,null,null,null,"②직불·선불카드",null,null,null,null,null,null,null,null,null,null,null,null,null,null,"사용금액",null,null,null,null,null,null,null,{"$f":"SUM(N43:N48)","v":0}]
[null,null,null,null,null,null,null,null,"③현금영수증",null,null,null,null,null,null,null,null,null,null,null,null,null,null,"사용금액",null,null,null,null,null,null,null,{"$f":"SUM(T43:T45)","v":0}]
[null,null,null,null,null,null,null,null,"④도서·공연사용분(총급여 7천만원 이하자)",null,null,null,null,null,null,null,null,null,null,null,null,null,null,"사용금액",null,null,null,null,null,null,null,{"$f":"SUM(Z43:Z48)","v":0}]
[null,null,null,null,null,null,null,null,"⑤전통시장사용분",null,null,null,null,null,null,null,null,null,null,null,null,null,null,"사용금액",null,null,null,null,null,null,null,{"$f":"SUM(AF43:AF48)","v":0}]
[null,null,null,null,null,null,null,null,"⑥대중교통이용분",null,null,null,null,null,null,null,null,null,null,null,null,null,null,"사용금액",null,null,null,null,null,null,null,{"$f":"SUM(AM43:AM48)","v":0}]
[null,null,null,null,null,null,null,null,"계(①+②+③+④+⑤+⑥)",null,null,null,null,null,null,null,null,null,null,null,null,null,null,null,null,null,null,null,null,null,null,{"$f":"SUM(AF129:AK134)","v":0},null,null,null,null,null,null,null,null,null,null,null,{"$f":"신용카드!AP25","v":0}]
[null,null,"우리사주조합 출연금",null,null,null,null,null,null,null,null,null,null,null,null,null,null,null,null,null,null,null,null,"출연금액",null,null,null,null,null,null,null,null,null,null,null,null,null,"작성방법참조",null,null,null,null,null,{"$f":"IF(AF136=\"\",0,MIN(AF136,4000000))","v":0}]
[null,null,"고용유지중소기업 근로자",null,null,null,null,null,null,null,null,null,null,null,null,null,null,null,null,null,null,null,null,"임금삭감액",null,null,null,null,null,null,null,null,null,null,null,null,null,"작성방법참조",null,null,null,null,null,{"$f":"ROUNDDOWN(IF(AF137=\"\",0,MIN(AF137*0.5,10000000)),0)","v":0}]
[null,null,"장기집합투자증권저축",null,null,null,null,null,null,null,null,null,null,null,null,null,null,null,null,null,null,null,null,"납입금액",null,null,null,null,null,null,null,null,null,null,null,null,null,"작성방법참조",null,null,null,null,null,{"$f":"ROUNDDOWN(IF(AF138=\"\",0,MIN(AF138*0.4,2400000)),0)","v":0}]
[null,"210㎜×297㎜\n(8쪽 중 제3쪽)"]
[]
[null,"구분",null,null,"세액감면․공제명세",null,null,null,null,null,null,null,null,null,null,null,null,null,null,null,null,null,"세액감면․공제 명세"]
[null,"Ⅴ.세액감면및공제","세액감면",null,"외국인\n근로자",null,null,null,null,null,"입국목적",null,null,null,null,null,null,"정부간 협약                     「조세특례제한법」상 감면         조세조약 상 감면"]
[null,null,null,null,null,null,null,null,null,null,"기술도입계약 또는 근로제공일",null,null,null,null,null,null,null,null,null,null,null,null,null,null,null,null,null,null,null,null,"감면기간만료일"]
[null,null,null,null,null,null,null,null,null,null,"외국인 근로소득에 대한 감면",null,null,null,null,null,null,null,null,null,null,null,"접수일",null,null,null,null,null,null,null,null,null,null,null,null,null,null,"제출일"]
[null,null,null,null,null,null,null,null,null,null,"근로소득에 대한 조세조약 상 면제",null,null,null,null,null,null,null,null,null,null,null,"접수일",null,null,null,null,null,null,null,null,null,null,null,null,null,null,"제출일"]
[null,null,null,null,"성과공유 중소기업 경영성과급 감면",null,null,null,null,null,null,null,null,null,null,null,null,null,null,null,null,null,"시작일",null,null,null,null,null,null,null,null,null,null,null,null,null,null,"종료일"]
[null,null,null,null,"중소기업 청년근로자 및 핵심인력 성과보상기금 수령액 감면",null,null,null,null,null,null,null,null,null,null,null,null,null,null,null,null,null,"시작일",null,null,null,null,null,null,null,null,null,null,null,null,null,null,"종료일"]
[null,null,null,null,"내국인 우수 인력 국내 복귀 감면",null,null,null,null,null,null,null,null,null,null,null,null,null,null,null,null,null,"시작일",null,null,null,null,null,null,null,null,null,null,null,null,null,null,"종료일"]
[null,null,null,null,"중소기업 취업자 감면",null,null,null,null,null,null,null,null,null,null,null,null,null,null,null,null,null,"취업일",null,null,null,null,null,null,null,null,null,null,null,null,null,null,"감면기간종료일"]
[null,null,"세액공제",null,"공제종류",null,null,null,null,null,null,null,null,null,null,null,null,null,null,null,null,null,"명세",null,null,null,null,null,null,null,null,null,"한도액",null,null,null,null,"공제대상금액",null,null,null,null,"공제율",null,null,"공제세액"]
[null,null,null,null,"연금계좌",null,null,null,null,null,"과학기술인공제",null,null,null,null,null,null,null,null,null,null,null,"납입금액",null,null,null,null,null,null,null,null,null,"작성방법참조",null,null,null,null,{"$f":"IF(AA151=\"\",0,MIN(AA151,7000000))","v":0},null,null,null,null,"12%\n또는\n15%",null,null,{"$f":"영수증!AN76","v":0}]
[null,null,null,null,null,null,null,null,null,null,"「근로자퇴직급여 보장법」에 따른\n퇴직연금",null,null,null,null,null,null,null,null,null,null,null,"납입금액",null,null,null,null,null,null,null,null,null,null,null,null,null,null,{"$f":"IF(AA152=\"\",0,MIN(AA152,7000000-AL151))","v":0},null,null,null,null,null,null,null,{"$f":"영수증!AN78","v":0}]
[null,null,null,null,null,null,null,null,null,null,"연금저축",null,null,null,null,null,null,null,null,null,null,null,"납입금액",null,null,null,null,null,null,null,null,null,null,null,null,null,null,{"$f":"IF(AA153=\"\",0,MIN(MIN(IF((7000000-AL151-AL152)<0,0,(7000000-AL151-AL152)),AA153),IF(AZ153>120000000,3000000,4000000)))","v":0},null,null,null,null,null,null,null,{"$f":"영수증!AN80","v":0},null,null,null,null,null,{"$f":"영수증!S63","v":25200000}]
[null,null,null,null,null,null,null,null,null,null,"연금계좌 계",null,null,null,null,null,null,null,null,null,null,null,null,null,null,null,{"$f":"SUM(AA151:AF153)","v":0},null,null,null,null,null,null,null,null,null,null,{"$f":"SUM(AL151:AP153)","v":0},null,null,null,null,null,null,null,{"$f":"SUM(AT151:AW153)","v":0}]
[null,null,null,null,"특별세액공제",null,null,null,"보\n험\n료",null,"보장성",null,null,null,null,null,null,null,null,null,null,null,"보험료",null,null,null,null,null,null,null,null,null,"100만원",null,null,null,null,{"$f":"IF(AA155=\"\",0,MIN(AA155,1000000))","v":0},null,null,null,null,0.12,null,null,{"$f":"ROUNDDOWN(AL155*0.12,0)","v":0},null,null,null,null,null,"총급여3%",{"$f":"ROUNDDOWN(영수증!S63*0.03,0)","v":756000}]
[null,null,null,null,null,null,null,null,null,null,"장애인전용보장성",null,null,null,null,null,null,null,null,null,null,null,"보험료",null,null,null,null,null,null,null,null,null,"100만원",null,null,null,null,{"$f":"IF(AA156=\"\",0,MIN(AA156,1000000))","v":0},null,null,null,null,0.15,null,null,{"$f":"ROUNDDOWN(AL156*0.15,0)","v":0},null,null,null,null,null,"3%초과의료비",{"$f":"(AL162-BA155)","v":-756000}]
[null,null,null,null,null,null,null,null,null,null,"보험료 계",null,null,null,null,null,null,null,null,null,null,null,null,null,null,null,{"$f":"SUM(AA155:AF156)","v":0},null,null,null,null,null,null,null,null,null,null,{"$f":"SUM(AL155:AP156)","v":0},null,null,null,null,null,null,null,{"$f":"SUM(AT155:AW156)","v":0},null,null,null,null,null,"한도액",7000000]
[null,null,null,null,null,null,null,null,"의\n료\n비",null,"본인ㆍ65세이상자ㆍ장애인\nㆍ건강보험산정특례자 ",null,null,null,null,null,null,null,null,null,null,null,"지출액",null,null,null,0,null,null,null,null,null,"작성방법참조",null,null,null,null,{"$f":"MAX(IF(AZ160<0,AA158+AZ160,AA158),0)","v":0},null,null,null,null,0.15,null,null,{"$f":"AL158*AQ158","v":0}]
[null,null,null,null,null,null,null,null,null,null,"난임시술비",null,null,null,null,null,null,null,null,null,null,null,"지출액",null,null,null,0,null,null,null,null,null,null,null,null,null,null,{"$f":"MAX(IF(AZ162<0,AA159+AZ162,AA159),0)","v":0},null,null,null,null,0.2,null,null,{"$f":"AL159*AQ159","v":0}]
[null,null,null,null,null,null,null,null,null,null,"그 밖의 공제대상자",null,null,null,null,null,null,null,null,null,null,null,"지출액",null,null,null,0,null,null,null,null,null,null,null,null,null,null,{"$f":"IF(AA160=\"\",0,MIN(MAX(AA160-BA155,0),7000000))","v":0},null,null,null,null,0.15,null,null,{"$f":"AL160*AQ160","v":0},null,null,null,null,null,{"$f":"IF(AA160=\"\",0,MIN((AA160-ROUNDDOWN(영수증!S63*0.03,0)),7000000))","v":-756000}]
[null,null,null,null,null,null,null,null,null,null,"실손의료보험금 계",null,null,null,null,null,null,null,null,null,null,null,"수령액"]
[null,null,null,null,null,null,null,null,null,null,"의료비계",null,null,null,null,null,null,null,null,null,null,null,null,null,null,null,{"$f":"SUM(AA158:AF161)","v":0},null,null,null,null,null,null,null,null,null,null,{"$f":"MAX(SUM(AL158:AP160),0)","v":0},null,null,null,null,null,null,null,{"$f":"SUM(AT158:AW160)","v":0},null,null,null,null,null,{"$f":"IF(AZ160<0,AA158+AZ160,AA159)","v":-756000}]
[null,null,null,null,null,null,null,null,"교\n육\n비",null,"소득자 본인",null,null,null,null,null,null,null,null,null,null,null,"공납금\n(대학원 포함)",null,null,null,null,null,null,null,null,null,"전액",null,null,null,null,{"$f":"AA163","v":0},null,null,null,null,0.15,null,null,{"$f":"ROUNDDOWN(AL163*0.15,0)","v":0}]
[null,null,null,null,null,null,null,null,null,null,"취학전 아동",null,null,null,null,null,null,"(",null,null,null,"명)","유치원,\n학원비 등",null,null,null,null,null,null,null,null,null,"1명당 300만원",null,null,null,null,{"$f":"IF(AA164=\"\",0,MIN(AA164,3000000*S164))","v":0},null,null,null,null,null,null,null,{"$f":"ROUNDDOWN(IF(AA164=\"\",0,AL164*0.15),0)","v":0}]
[null,null,null,null,null,null,null,null,null,null,"초ㆍ중ㆍ고등학교",null,null,null,null,null,null,"(",null,null,null,"명)","공납금",null,null,null,null,null,null,null,null,null,"1명당 300만원",null,null,null,null,{"$f":"IF(AA165=\"\",0,MIN(AA165,3000000*S165))","v":0},null,null,null,null,null,null,null,{"$f":"ROUNDDOWN(IF(AA165=\"\",0,AL165*0.15),0)","v":0}]
[]
[null,null,null,null,null,null,null,null,null,null,"대학생(대학원 불포함)",null,null,null,null,null,null,"(",null,null,null,"명)","공납금",null,null,null,null,null,null,null,null,null,"1명당 900만원",null,null,null,null,{"$f":"IF(AA167=\"\",0,MIN(AA167,9000000*S167))","v":0},null,null,null,null,null,null,null,{"$f":"ROUNDDOWN(IF(AA167=\"\",0,AL167*0.15),0)","v":0}]
[null,null,null,null,null,null,null,null,null,null,"장애인",null,null,null,null,null,null,"(",null,null,null,"명)","특수교육비",null,null,null,null,null,null,null,null,null,"전액",null,null,null,null,{"$f":"AA168","v":0},null,null,null,null,null,null,null,{"$f":"ROUNDDOWN(IF(AA168=\"\",0,AL168*0.15),0)","v":0}]
[null,null,null,null,null,null,null,null,null,null,"교육비 계",null,null,null,null,null,null,null,null,null,null,null,null,null,null,null,{"$f":"SUM(AA163:AF168)","v":0},null,null,null,null,null,null,null,null,null,null,{"$f":"SUM(AL163:AP168)","v":0},null,null,null,null,null,null,null,{"$f":"SUM(AT163:AW168)","v":0}]
[null,null,null,null,null,null,null,null,"기\n부\n금",null,"정치자금\n기부금",null,null,null,"10만원 이하",null,null,null,null,null,null,null,"기부금액",null,null,null,null,null,null,null,null,null,null,null,null,null,null,{"$f":"AA170","v":0},null,null,null,null,"100/110",null,null,{"$f":"ROUNDDOWN(IF(AL170=\"\",0,(AL170*100/110)),0)","v":0}]
[null,null,null,null,null,null,null,null,null,null,null,null,null,null,"10만원 초과",null,null,null,null,null,null,null,"기부금액",null,null,null,null,null,null,null,null,null,null,null,null,null,null,{"$f":"IF(AA171=\"\",0,MIN(AA171,영수증!S65-AR115))","v":0},null,null,null,null,"15% 또는\n25% 또는\n30%",null,null,{"$f":"ROUNDDOWN(IF(AL171<=29900000,(AL171*0.15),(AL171-29900000)*0.25+4485000),0)","v":0}]
[null,null,null,null,null,null,null,null,null,null,"법정기부금",null,null,null,null,null,null,null,null,null,null,null,"기부금액",null,null,null,null,null,null,null,null,null,"작성방법참조",null,null,null,null,{"$f":"IF(AA172=\"\",0,MIN(AA172,(영수증!S65-AL170-AL171-AR112)))","v":0},null,null,null,null,null,null,null,{"$f":"ROUNDDOWN(IF(AL172<=20000000,(AL172*0.15),(AL172-20000000)*0.3+3000000),0)","v":0}]
[null,null,null,null,null,null,null,null,null,null,"우리사주조합기부금",null,null,null,null,null,null,null,null,null,null,null,"기부금액",null,null,null,0,null,null,null,null,null,null,null,null,null,null,{"$f":"IF(AA173=\"\",0,MIN(AA173,(영수증!S65-AL170-AL171-AL172)*0.3))","v":0},null,null,null,null,null,null,null,{"$f":"ROUNDDOWN(IF(AL173<=20000000,(AL173*0.15),(AL173-20000000)*0.3+3000000),0)","v":0}]
[null,null,null,null,null,null,null,null,null,null,"「소득세법」 제34조 제3항 제1호(종교단체 기부금 제외)\n에 따른 기부금",null,null,null,null,null,null,null,null,null,null,null,"기부금액",null,null,null,0,null,null,null,null,null,null,null,null,null,{"$f":"(영수증!S65-AL170-AL171-AL172-AL173-AR115)","v":16170000},{"$f":"IF(AA174=\"\",0,IF(AA175>0,MIN(AA174,(AK174*0.1)+MIN((AK174*0.2),AA174)),MIN(AA174,AK174*0.3)))","v":0},null,null,null,null,null,null,null,{"$f":"ROUNDDOWN(IF(AL174<=20000000,(AL174*0.15),(AL174-20000000)*0.3+3000000),0)","v":0}]
[null,null,null,null,null,null,null,null,null,null,"「소득세법」 제34조 제3항 제1호에 따른 기부금 중 \n종교단체기부금",null,null,null,null,null,null,null,null,null,null,null,"기부금액",null,null,null,null,null,null,null,null,null,null,null,null,null,null,{"$f":"IF(AA175=\"\",0,MIN(AA175,(AL173*0.1)))","v":0},null,null,null,null,null,null,null,{"$f":"ROUNDDOWN(IF(AL175<=20000000,(AL175*0.15),(AL175-20000000)*0.3+3000000),0)","v":0}]
[null,null,null,null,null,null,null,null,null,null,"기부금 계",null,null,null,null,null,null,null,null,null,null,null,null,null,null,null,{"$f":"SUM(AA170:AF175)","v":0},null,null,null,null,null,null,null,null,null,null,{"$f":"SUM(AL170:AP175)","v":0},null,null,null,null,null,null,null,{"$f":"SUM(AT170:AW175)","v":0}]
[null,null,null,null,"외국납부세액",null,null,null,null,null,null,null,null,null,null,null,null,null,null,null,null,null,"국외원천소득",null,null,null,null,null,null,null,null,null,null,null,null,null,null,"국외근로소득금액",null,null,null,null,null,{"$f":"IF(AF177=0,0,ROUNDDOWN(AF177-(영수증!S64*(AF177/영수증!S63)),0))","v":0}]
[null,null,null,null,null,null,null,null,null,null,null,null,null,null,null,null,null,null,null,null,null,null,"납세액(외화)"]
[null,null,null,null,null,null,null,null,null,null,null,null,null,null,null,null,null,null,null,null,null,null,"납세액(원화)",null,null,null,null,null,null,null,null,null,null,null,null,null,null,"-"]
[null,null,null,null,null,null,null,null,null,null,null,null,null,null,null,null,null,null,null,null,null,null,"납세국명",null,null,null,null,null,null,null,null,null,null,null,null,null,null,"납부일"]
[null,null,null,null,null,null,null,null,null,null,null,null,null,null,null,null,null,null,null,null,null,null,"신청서제출일",null,null,null,null,null,null,null,null,null,null,null,null,null,null,"국외근무처"]
[null,null,null,null,null,null,null,null,null,null,null,null,null,null,null,null,null,null,null,null,null,null,"근무기간",null,null,null,null,null,null,null,null,null,null,null,null,null,null,"직책"]
[null,null,null,null,"주택자금차입금이자세액공제",null,null,null,null,null,null,null,null,null,null,null,null,null,null,null,null,null,"이자상환액",null,null,null,null,null,null,null,null,null,null,null,null,null,null,0.3,null,null,null,null,null,{"$f":"ROUNDDOWN(AF183*0.3,0)","v":0}]
[null,null,null,null,"월세액 세액공제",null,null,null,null,null,null,null,null,null,null,null,null,null,null,null,null,null,"지출액",null,null,null,null,null,null,null,null,0,null,null,null,null,null,"10% 또는 12%",null,null,null,null,null,{"$f":"ROUNDDOWN(MIN(AF184,7500000)*IF(영수증!S63<=55000000,0.12,IF(영수증!S63<=70000000,0.1,0)),0)","v":0}]
[null,null,"신고인은「소득세법」제140조에 따라 위의 내용을 신고하며, 위 내용을 충분히 검토하였고 신고인이 알고 있는 사실 그대로를 정확하게 적었음을 확인합니다."]
[null,"2022년        월         일"]
[null,null,null,null,null,null,null,null,null,null,null,null,null,null,null,null,null,null,null,null,null,null,null,null,null,null,null,null,null,null,null,"신고인",null,null,null,{"$f":"K5","v":"이영화"},null,null,null,null,null,null,"(서명 또는 인)"]
[null,"Ⅵ. 추가 제출 서류"]
[null,"1. 외국인근로자 단일세율적용신청서 제출여부(○ 또는 ×로 적습니다)",null,null,null,null,null,null,null,null,null,null,null,null,null,null,null,null,null,null,null,null,null,null,null,null,null,null,null,null,null,null,null,null,null,null,null,null,null,"제출(",null,null,null,")"]
[null,"2.종(전)\n근무지명세",null,null,null,null,null,"종(전)근무지명",null,null,null,null,null,null,null,null,null,null,null,null,null,null,"종(전)급여총액",null,null,null,null,null,null,null,null,null,null,null,null,null,null,"종(전)근무지 근로소득원천징수영수증"]
[null,null,null,null,null,null,null,"사업자등록번호",null,null,null,null,null,null,null,null,null,null,null,null,null,null,"종(전)결정세액",null,null,null,null,null,null,null,null,null,null,null,null,null,null,"       제출(",null,null,null,null,null,")"]
[null,"3. 연금.저축 등 소득․세액공제 명세서 제출여부\n   (○ 또는 ×로 적습니다)",null,null,null,null,null,null,null,null,null,null,null,null,null,null,null,null,null,null,null,null,null,"제출(",null,null,null,")","※ 연금계좌, 주택마련저축 등 소득·세액공제를 신청한 경우 해당 명세서를 제출하여야 합니다."]
[]
[null,"4. 월세액․거주자 간 주택임차차입금 원리금상환액\n   소득공제 명세서 제출여부 (○ 또는 ×로 적습니다)",null,null,null,null,null,null,null,null,null,null,null,null,null,null,null,null,null,null,null,null,null,"제출(",null,null,null,")","※ 월세액, 거주자 간 주택임차차입금 원리금상환액 소득·세액공제를 신청한 경우 해당 명세서를 제출해야 합니다."]
[]
[null,"5. 그 밖의 추가 제출 서류",null,null,null,null,null,null,null,null,null,null,null,null,null,null,"① 의료비지급명세서",null,null,null,null,null,"(",null,null,")",",","② 기부금명세서",null,null,null,null,null,"(",null,null,")",",","③ 소득.세액공제 증명서류"]
[null,"유 의 사 항"]
[null,null,"1. 근로소득자가 종(전)근무지 근로소득을 원천징수의무자에게 신고하지 않은 경우에는 근로소득자 본인이 종합소득세 신고를 해야 하며, 신고하지 않은 경우 가산세 부과 등 불이익이 따릅니다.\n2. 현 근무지의 연금보험료ㆍ국민건강보험료 및 고용보험료 등은 신고인이 기재하지 않아도 됩니다.\n3. \"공제금액\"란은 근로소득자가 원천징수의무자에게 제출하는 경우 적지 않을 수 있습니다."]
[null,null,null,null,null,null,null,null,null,null,null,null,null,null,null,null,null,null,null,null,null,null,null,null,null,null,null,null,null,null,null,null,null,null,null,null,null,null,null,null,null,null,null,null,null,null,null,null,"210㎜×297㎜"]
[null,null,null,null,null,null,null,null,null,null,null,null,null,null,null,null,null,null,null,null,null,null,null,null,null,null,null,null,null,null,null,null,null,null,null,null,null,null,null,null,null,null,null,null,null,null,null,null,"(8쪽 중 제7쪽)"]
[null,"연금․저축 등 소득․세액 공제명세서"]
[null,"1.인적사항"]
[null,"①상      호",null,null,null,null,null,null,null,null,{"$f":"기본사항!G14","v":"(주)조세통람"},null,null,null,null,null,null,null,null,null,null,null,null,null,null,null,"②사 업 자 등 록 번 호",null,null,null,null,null,null,null,null,{"$f":"기본사항!G16","v":"203-81-11111"}]
[null,"③성      명",null,null,null,null,null,null,null,null,{"$f":"기본사항!G7","v":"이영화"},null,null,null,null,null,null,null,null,null,null,null,null,null,null,null,"④주 민 등 록 번 호",null,null,null,null,null,null,null,null,{"$f":"기본사항!G8","v":"123456-1234567"}]
[null,"⑤주      소",null,null,null,null,null,null,null,null,{"$f":"기본사항!G9","v":"서울 중구 다산로11길 25"},null,null,null,null,null,null,null,null,null,null,null,null,null,null,null,null,null,null,null,null,null,null,null,null,"(전화번호:",null,null,null,null,null,")"]
[null,"⑥사업장소재지",null,null,null,null,null,null,null,null,{"$f":"기본사항!G18","v":"서울 중구 동호로14길 5-6"},null,null,null,null,null,null,null,null,null,null,null,null,null,null,null,null,null,null,null,null,null,null,null,null,"(전화번호:",null,null,null,null,null,")"]
[null,"2. 연금계좌 세액공제"]
[null," 1) 퇴직연금계좌"]
[null,"  * 퇴직연금계좌에 대한 명세를 작성합니다."]
[null,"퇴직연금 구분",null,null,null,null,null,null,null,null,null,"금융회사 등",null,null,null,null,null,null,null,"계좌번호(또는 증권번호)",null,null,null,null,null,null,null,null,null,null,"납입금액",null,null,null,null,null,null,null,"세액공제금액"]
[]
[]
[null,"  2) 연금저축계좌"]
[null,"  * 연금저축계좌에 대한 명세를 작성합니다."]
[null,"연금저축 구분",null,null,null,null,null,null,null,null,null,"금융회사 등",null,null,null,null,null,null,null,"계좌번호(또는 증권번호)",null,null,null,null,null,null,null,null,null,null,"납입금액",null,null,null,null,null,null,null,"소득·세액공제금액"]
[]
[]
[null,"3. 주택마련저축 소득공제"]
[null,"  * 주택마련저축 소득공제에 대한 명세를 작성합니다."]
[null,"저축 구분",null,null,null,null,null,null,null,null,null,"금융회사 등",null,null,null,null,null,null,null,"계좌번호(또는 증권번호)",null,null,null,null,null,null,null,null,null,null,"납입금액",null,null,null,null,null,null,null,"소득공제금액"]
[]
[]
[]
[null," 4. 장기집합투자증권저축 소득공제"]
[null,"  * 장기집합투자증권저축 소득공제에 대한 명세를 작성합니다."]
[null,"금융회사 등",null,null,null,null,null,null,null,null,null,null,null,null,null,null,null,null,null,"계좌번호(또는 증권번호)",null,null,null,null,null,null,null,null,null,null,"납입금액",null,null,null,null,null,null,null,"소득공제금액"]
[]
[]
[]
[null," 5. 중소기업창업투자조합 출자 등에 대한 소득공제"]
[null,"  * 중소기업창업투자조합 출자 등 소득공제에 대한 명세를 작성합니다."]
[null,"금융회사 등",null,null,null,null,null,null,null,null,null,"투자구분",null,null,null,null,null,null,null,"금융기관 등",null,null,null,null,null,null,null,null,null,null,"계좌번호(또는 증권번호)",null,null,null,null,null,null,null,"납입금액"]
[]
[]
[]
[]
[null,"작 성 방 법"]
[null,"1. 연금계좌 세액공제, 주택마련저축ㆍ장기집합투자증권저축ㆍ중소기업창업투자조합 출자 소득공제를 받는 소득자에 대해서는 해당 소득ㆍ세액 공제에 대한 명세를 작성해야 합니다. 해당 계좌별로 납입금액과 소득ㆍ세액 공제금액을 적고, 공제금액이 영(0)인 경우에는 적지 않습니다.\n 2. 퇴직연금계좌에서 \"퇴직연금 구분\"란은 퇴직연금［확정기여형(DC),개인형(IRP)］ㆍ과학기술인공제회로 구분하여 적습니다.\n 3. 연금저축계좌에서 \"연금저축 구분\"란은 개인연금저축과 연금저축으로 구분하여 적습니다.\n 4. 주택마련저축 공제의 \"저축 구분\"란은 청약저축, 주택청약종합저축(2014년 이전 가입), 주택청약종합저축(2015년 이후 가입) 및 근로자주택마련저축으로 구분하여 적습니다.\n 5. 중소기업창업투자조합 출자 등 소득공제의 \"투자 구분\"란은 벤처 등(「조세특례제한법」 제16조제1항제3호ㆍ제4호ㆍ제6호)과 조합 등(「조세특례제한법」 제16조제1항제1호ㆍ제2호ㆍ제5호)으로 구분하여 적습니다. \n 6. 공제금액란은 근로소득자가 적지 않을 수 있습니다."]
[]
[]
[]
[]
[]
[]
[null,null,null,null,null,null,null,null,null,null,null,null,null,null,null,null,null,null,null,null,null,null,null,null,null,null,null,null,null,null,null,null,null,null,null,null,null,null,null,null,null,null,null,null,null,null,null,null,"210㎜×297㎜"]
[null,null,null,null,null,null,null,null,null,null,null,null,null,null,null,null,null,null,null,null,null,null,null,null,null,null,null,null,null,null,null,null,null,null,null,null,null,null,null,null,null,null,null,null,null,null,null,null,"(8쪽 중 제8쪽)"]
[null,"[  ] 월세액ㆍ[  ] 거주자 간 주택임차차입금 원리금 상환액 소득ㆍ세액공제 명세서\n[무주택자 해당여부 [  ]여, [  ]부]"]
[null," 1. 인적사항",null,null,null,null,null,null,null,null," ①상 호",null,null,null,null,null,null,null,null,{"$f":"기본사항!G14","v":"(주)조세통람"},null,null,null,null,null,null,null,null,null,null,null,null," ②사업자등록번호",null,null,null,null,null,null,null,{"$f":"기본사항!G16","v":"203-81-11111"}]
[null,null,null,null,null,null,null,null,null,null," ③성 명",null,null,null,null,null,null,null,null,{"$f":"기본사항!G7","v":"이영화"},null,null,null,null,null,null,null,null,null,null,null,null," ④주민등록번호",null,null,null,null,null,null,null,{"$f":"기본사항!G8","v":"123456-1234567"}]
[null,null,null,null,null,null,null,null,null,null," ⑤주 소  ",null,null,null,null,null,null,null,null,{"$f":"기본사항!G9","v":"서울 중구 다산로11길 25"},null,null,null,null,null,null,null,null,null,null,null,null,null,null,"(전화번호:",null,null,null,null,null,")"]
[null,null,null,null,null,null,null,null,null,null," ⑥사업장소재지",null,null,null,null,null,null,null,null,{"$f":"기본사항!G18","v":"서울 중구 동호로14길 5-6"},null,null,null,null,null,null,null,null,null,null,null,null,null,null,"(전화번호:",null,null,null,null,null,")"]
[null," 2. 월세액 세액공제 명세"]
[null,"⑦ 임대인 \n   성 명(상 호)",null,null,null,null,null,null,null,null,"⑧ 주민등록번호\n(사업자번호)",null,null,null,null,null,"⑨ 유형",null,null,null,"⑩계약면적(㎡)",null,null,null,null,null,"⑪ 임대차계약서 상\n주소지 ",null,null,null,null,null,null,"⑫ 계약서상\n임대차 계약기간",null,null,null,null,null,null,"⑬ 연간 \n월세액(원)",null,null,null,null,"⑭세액공제\n금액(원)"]
[null,null,null,null,null,null,null,null,null,null,null,null,null,null,null,null,null,null,null,null,null,null,null,null,null,null,null,null,null,null,null,null,null,"개시일",null,null,null,"종료일"]
[]
[]
[]
[null,"※⑨유형: 구분코드 - 단독주택:1, 다가구:2, 다세대주택:3, 연립주택:4, 아파트:5, 오피스텔:6, 고시원: 7, 기타:8\n※⑫계약서상 임대차계약기간 - 개시일과 종료일은 예시와 같이 기재 (예시) 2017.01.01."]
[null," 3. 거주자간 주택임차차입금 원리금 상환액 소득공제 명세"]
[null," 1) 금전소비대차 계약내용"]
[null,"⑮대주(貸主)",null,null,null,null,null,null,null,null,null,"⑯주민등록번호",null,null,null,null,null,"⑰금전소비대차\n계약기간",null,null,null,null,null,null,null,null,"⑱차입금\n이자율",null,null,null,null,"원리금 상환액",null,null,null,null,null,null,null,null,null,null,null,null,"㉒공제금액"]
[null,null,null,null,null,null,null,null,null,null,null,null,null,null,null,null,null,null,null,null,null,null,null,null,null,null,null,null,null,null,null,"⑲계",null,null,null,"⑳원금",null,null,null,null,"㉑ 이자"]
[]
[]
[]
[null," 2) 임대차 계약내용"]
[null,"㉓ 임대인\n성 명(상 호)",null,null,null,null,null,null,null,null,"㉔ 주민등록번호\n(사업자번호)",null,null,null,null,null,"㉕ 유형",null,null,null,null,null,"㉖계약\n면적(㎡)",null,null,null,"㉗ 임대차계약서상 \n주소지 ",null,null,null,null,null,null,null,null,null,"㉘ 계약서상\n임대차 계약기간",null,null,null,null,null,null,"㉙ 전세보증금\n(원)"]
[null,null,null,null,null,null,null,null,null,null,null,null,null,null,null,null,null,null,null,null,null,null,null,null,null,null,null,null,null,null,null,null,null,null,null,null,"개시일",null,null,null,"종료일"]
[]
[]
[]
[null,"※㉕유형: 구분코드 - 단독주택:1, 다가구:2, 다세대주택:3, 연립주택:4, 아파트:5, 오피스텔:6, 고시원: 7, 기타:8\n※㉘계약서상 임대차계약기간 - 개시일과 종료일은 예시와 같이 기재 (예시) 2017.01.01."]
[]
[null,"작 성 방 법"]
[null,null," 1. 월세액 세액공제나 거주자 간 주택임차자금 차입금 원리금 상환액 공제를 받는 근로소득자에 대해서는 해당 소득ㆍ세액공제에 대한 명세를 작성해야 합니다.\n 2. 해당 임대차 계약별로 연간 합계한 월세액ㆍ원리금상환액과 소득ㆍ세액공제금액을 적으며, 공제금액이 \"영(0)\"인 경우에는 적지 않습니다.\n 3. ⑨,㉕유형은 단독주택, 다가구주택, 다세대주택, 연립주택, 아파트, 오피스텔, 고시원, 기타 중에서 해당되는 유형의 구분코드를 적습니다.\n 4. ㉙전세보증금은 과세기간 종료일(12. 31.) 현재의 전세보증금을 적습니다."]
[null,"210mm×297mm"]

{"sheet":"급여내역","index":2,"n_rows":42,"n_cols":82,"rows_kept":42,"cut":false,"hidden":false,"merged":[[4,81,6,81],[22,81,24,81],[29,81,31,81],[36,81,38,81],[37,66,38,66],[37,67,38,67],[30,68,30,77],[23,67,24,67],[23,66,24,66],[4,49,4,77],[8,68,8,71],[8,72,8,77],[7,72,7,77],[7,68,7,71],[10,72,10,77],[9,72,9,77],[9,57,9,61],[9,62,9,65],[9,68,9,71],[12,62,12,65],[12,68,12,71],[12,72,12,77],[11,72,11,77],[13,72,13,77],[5,20,6,20],[23,20,24,20],[30,20,31,20],[37,20,38,20],[37,24,38,27],[32,37,32,40],[30,37,31,40],[23,37,24,40],[7,28,7,33],[7,34,7,36],[9,28,9,33],[18,34,18,36],[22,37,22,48],[18,41,18,44],[15,37,15,40],[15,41,15,44],[15,45,15,48],[39,62,39,65],[39,68,39,71],[39,37,39,40],[39,41,39,44],[39,45,39,48],[39,49,39,52],[38,53,38,56],[4,80,6,80],[39,72,39,77],[32,72,32,77],[36,49,36,77],[32,53,32,56],[32,57,32,61],[32,62,32,65],[32,68,32,71],[39,53,39,56],[32,41,32,44],[32,45,32,48],[4,78,6,78],[4,79,6,79],[37,62,38,65],[37,68,37,77],[25,72,25,77],[29,49,29,77],[39,16,39,19],[39,24,39,27],[39,28,39,33],[39,34,39,36],[39,1,39,3],[39,4,39,6],[39,7,39,11],[39,12,39,15],[39,57,39,61],[32,1,32,3],[32,4,32,6],[32,7,32,11],[32,12,32,15],[36,1,38,3],[36,4,38,6],[36,7,36,27],[36,28,38,33],[37,7,38,11],[37,12,38,15],[37,16,38,19],[37,23,38,23],[37,21,38,21],[31,68,31,71],[30,49,30,56],[30,57,31,61],[30,66,31,66],[30,67,31,67],[30,62,31,65],[32,16,32,19],[32,24,32,27],[32,28,32,33],[32,34,32,36],[12,57,12,61],[29,1,31,3],[29,4,31,6],[29,7,29,27],[29,28,31,33],[30,7,31,11],[30,12,31,15],[31,49,31,52],[31,53,31,56],[23,57,24,61],[25,1,25,3],[25,4,25,6],[25,7,25,11],[25,12,25,15],[25,16,25,19],[25,24,25,27],[12,7,12,11],[13,53,13,56],[15,16,15,19],[15,24,15,27],[15,28,15,33],[15,34,15,36],[16,1,16,3],[15,1,15,3],[6,53,6,56],[8,41,8,44],[8,45,8,48],[8,49,8,52],[8,53,8,56],[8,57,8,61],[8,62,8,65],[7,57,7,61],[7,62,7,65],[6,68,6,71],[6,72,6,77],[5,49,5,56],[5,57,6,61],[5,66,6,66],[5,67,6,67],[5,68,5,77],[4,1,6,3],[4,4,6,6],[4,7,4,27],[4,28,6,33],[5,16,6,19],[5,24,6,27],[5,21,6,21],[5,23,6,23],[5,7,6,11],[5,12,6,15],[5,37,6,40],[5,41,6,44],[4,34,6,36],[4,37,4,48],[5,45,6,48],[5,62,6,65],[6,49,6,52],[8,1,8,3],[8,4,8,6],[8,12,8,15],[8,16,8,19],[8,24,8,27],[8,28,8,33],[8,34,8,36],[8,37,8,40],[7,53,7,56],[7,37,7,40],[7,41,7,44],[7,45,7,48],[7,49,7,52],[7,1,7,3],[7,4,7,6],[7,7,7,11],[7,12,7,15],[7,16,7,19],[7,24,7,27],[8,7,8,11],[10,1,10,3],[10,4,10,6],[10,12,10,15],[10,16,10,19],[10,24,10,27],[10,28,10,33],[10,34,10,36],[10,37,10,40],[9,53,9,56],[9,34,9,36],[9,37,9,40],[9,41,9,44],[9,45,9,48],[9,49,9,52],[9,1,9,3],[9,4,9,6],[9,12,9,15],[9,16,9,19],[9,24,9,27],[10,49,10,52],[10,53,10,56],[9,7,9,11],[10,7,10,11],[10,57,10,61],[10,62,10,65],[10,68,10,71],[10,41,10,44],[10,45,10,48],[11,57,11,61],[11,62,11,65],[11,68,11,71],[12,1,12,3],[12,4,12,6],[12,12,12,15],[12,16,12,19],[12,24,12,27],[12,28,12,33],[12,34,12,36],[12,37,12,40],[11,53,11,56],[11,34,11,36],[11,37,11,40],[11,41,11,44],[11,45,11,48],[11,49,11,52],[11,1,11,3],[11,4,11,6],[11,12,11,15],[11,16,11,19],[11,24,11,27],[11,28,11,33],[12,41,12,44],[12,45,12,48],[14,1,14,3],[14,4,14,6],[14,12,14,15],[14,16,14,19],[14,24,14,27],[14,28,14,33],[14,34,14,36],[14,37,14,40],[13,34,13,36],[13,16,13,19],[13,24,13,27],[13,7,13,11],[14,7,14,11],[14,41,14,44],[14,45,14,48],[11,7,11,11],[13,62,13,65],[13,68,13,71],[13,37,13,40],[13,41,13,44],[13,28,13,33],[13,1,13,3],[13,4,13,6],[13,12,13,15],[22,1,24,3],[22,4,24,6],[22,7,22,27],[23,7,24,11],[23,12,24,15],[15,57,15,61],[15,62,15,65],[14,49,14,52],[14,53,14,56],[14,57,14,61],[16,41,16,44],[16,45,16,48],[16,49,16,52],[16,53,16,56],[15,4,15,6],[15,12,15,15],[15,49,15,52],[17,1,17,3],[17,4,17,6],[17,7,17,11],[17,12,17,15],[17,34,17,36],[16,4,16,6],[16,12,16,15],[16,16,16,19],[16,24,16,27],[16,28,16,33],[16,7,16,11],[15,7,15,11],[17,49,17,52],[15,72,15,77],[15,53,15,56],[14,62,14,65],[14,68,14,71],[14,72,14,77],[16,68,16,71],[16,72,16,77],[17,57,17,61],[17,62,17,65],[17,53,17,56],[16,57,16,61],[16,62,16,65],[17,68,17,71],[17,72,17,77],[15,68,15,71],[18,68,18,71],[18,72,18,77],[17,41,17,44],[17,45,17,48],[19,1,19,3],[19,4,19,6],[19,7,19,11],[19,12,19,15],[19,28,19,33],[19,37,19,40],[19,34,19,36],[18,16,18,19],[18,24,18,27],[18,28,18,33],[19,16,19,19],[19,24,19,27],[18,1,18,3],[18,4,18,6],[18,7,18,11],[18,12,18,15],[17,37,17,40],[18,45,18,48],[18,49,18,52],[18,53,18,56],[22,80,24,80],[29,78,31,78],[29,79,31,79],[29,80,31,80],[28,66,28,67],[35,51,35,57],[21,4,21,11],[21,12,21,19],[21,24,21,33],[21,34,21,48],[28,4,28,11],[28,12,28,19],[28,24,28,33],[28,34,28,48],[23,21,24,21],[23,16,24,19],[30,16,31,19],[30,24,31,27],[30,21,31,21],[30,41,31,44],[29,34,31,36],[29,37,29,48],[30,45,31,48],[31,72,31,77],[36,80,38,80],[37,37,38,40],[37,41,38,44],[36,37,36,48],[37,45,38,48],[37,49,37,56],[38,68,38,71],[36,78,38,78],[36,79,38,79],[38,49,38,52],[22,78,24,78],[22,79,24,79],[19,72,19,77],[36,34,38,36],[38,72,38,77],[37,57,38,61],[19,68,19,71],[19,41,19,44],[21,64,21,65],[28,51,28,57],[35,34,35,48],[19,49,19,52],[19,53,19,56],[19,57,19,61],[19,62,19,65],[19,45,19,48],[21,66,21,67],[23,62,24,65],[23,68,23,77],[24,49,24,52],[24,53,24,56],[24,68,24,71],[24,72,24,77],[23,49,23,56],[1,24,1,66],[3,4,3,11],[3,12,3,19],[3,24,3,33],[3,34,3,48],[3,51,3,57],[3,58,3,63],[3,64,3,65],[2,24,2,48],[3,66,3,67],[35,64,35,65],[35,66,35,67],[32,49,32,52],[23,23,24,23],[30,23,31,23],[23,24,24,27],[22,28,24,33],[23,41,24,44],[23,45,24,48],[22,34,24,36],[28,58,28,63],[28,64,28,65],[22,49,22,77],[25,62,25,65],[35,24,35,33],[25,68,25,71],[25,37,25,40],[25,41,25,44],[25,45,25,48],[25,49,25,52],[25,28,25,33],[25,34,25,36],[25,53,25,56],[25,57,25,61],[45,7,50,38],[5,22,6,22],[23,22,24,22],[30,22,31,22],[37,22,38,22],[35,58,35,63],[21,51,21,57],[21,58,21,63],[41,15,41,19],[18,37,18,40],[35,4,35,11],[35,12,35,19],[18,57,18,61],[16,37,16,40],[16,34,16,36],[18,62,18,65],[17,16,17,19],[17,24,17,27],[17,28,17,33],[13,45,13,48],[13,49,13,52],[13,57,13,61],[12,49,12,52],[12,53,12,56]]}
[]
[null,null,null,null,null,null,null,null,null,null,null,null,null,null,null,null,null,null,null,null,null,null,null,null,"2021년 급여지급내역"]
[]
[null,null,null,null,"[근무처명]  :",null,null,null,null,null,null,null,{"$f":"기본사항!G14","v":"(주)조세통람"},null,null,null,null,null,null,null,null,null,null,null,"[사업자등록번호] :",null,null,null,null,null,null,null,null,null,{"$f":"기본사항!G16","v":"203-81-11111"},null,null,null,null,null,null,null,null,null,null,null,null,null,null,null,null,"[근무기간]",null,null,null,null,null,null,"2021-01-01",null,null,null,null,null,"~",null,"2021-12-31",null,null,null,null,"[현근무지]"]
[null,"월별",null,null,"지급일자",null,null,"과 세 대 상 급 여",null,null,null,null,null,null,null,null,null,null,null,null,null,null,null,null,null,null,null,null,"간이세액표에의한소득세",null,null,null,null,null,"감면세액",null,null,"차감원천징수액",null,null,null,null,null,null,null,null,null,null,null,"비 과 세 소 득",null,null,null,null,null,null,null,null,null,null,null,null,null,null,null,null,null,null,null,null,null,null,null,null,null,null,null,null,"국민연금","건강보험","고용보험","노인장기\n요양보험"]
[null,null,null,null,null,null,null,"급여액",null,null,null,null,"상여액",null,null,null,"인정상여",null,null,null,"주식매수\n선택권","우리사주\n조합인출금","임원퇴직\n소득금액\n한도초과액","직무발명\n보상금","계",null,null,null,null,null,null,null,null,null,null,null,null,"소득세",null,null,null,"지방\n소득세",null,null,null,"농특세",null,null,null,"국 외 근 로 소 득",null,null,null,null,null,null,null,"연구\n활동비",null,null,null,null,"야간\n근로수당",null,null,null,"출산\n보육수당","외국인근로자","그밖의비과세"]
[null,null,null,null,null,null,null,null,null,null,null,null,null,null,null,null,null,null,null,null,null,null,null,null,null,null,null,null,null,null,null,null,null,null,null,null,null,null,null,null,null,null,null,null,null,null,null,null,null,"지급일자",null,null,null,"원화",null,null,null,null,null,null,null,null,null,null,null,null,null,null,"내용",null,null,null,"금액"]
[null,1,null,null,null,null,null,2100000,null,null,null,null,null,null,null,null,null,null,null,null,null,null,null,null,{"$f":"SUM(H8:X8)","v":2100000},null,null,null,22740,null,null,null,null,null,null,null,null,22740,null,null,null,2270,null,null,null,null,null,null,null,null,null,null,null,null,null,null,null,null,null,null,null,null,null,null,null,null,null,null,null,null,null,null,null,null,null,null,null,null,94500,67830,16800,5770]
[null,2,null,null,null,null,null,2100000,null,null,null,null,null,null,null,null,null,null,null,null,null,null,null,null,{"$f":"SUM(H9:X9)","v":2100000},null,null,null,22740,null,null,null,null,null,null,null,null,22740,null,null,null,2270,null,null,null,null,null,null,null,null,null,null,null,null,null,null,null,null,null,null,null,null,null,null,null,null,null,null,null,null,null,null,null,null,null,null,null,null,94500,67830,16800,5770]
[null,3,null,null,null,null,null,2100000,null,null,null,null,null,null,null,null,null,null,null,null,null,null,null,null,2100000,null,null,null,22740,null,null,null,null,null,null,null,null,22740,null,null,null,2270,null,null,null,null,null,null,null,null,null,null,null,null,null,null,null,null,null,null,null,null,null,null,null,null,null,null,null,null,null,null,null,null,null,null,null,null,94500,67830,16800,5770]
[null,4,null,null,null,null,null,2100000,null,null,null,null,null,null,null,null,null,null,null,null,null,null,null,null,2100000,null,null,null,22740,null,null,null,null,null,null,null,null,22740,null,null,null,2270,null,null,null,null,null,null,null,null,null,null,null,null,null,null,null,null,null,null,null,null,null,null,null,null,null,null,null,null,null,null,null,null,null,null,null,null,94500,67830,16800,5770]
[null,5,null,null,null,null,null,2100000,null,null,null,null,null,null,null,null,null,null,null,null,null,null,null,null,2100000,null,null,null,22740,null,null,null,null,null,null,null,null,22740,null,null,null,2270,null,null,null,null,null,null,null,null,null,null,null,null,null,null,null,null,null,null,null,null,null,null,null,null,null,null,null,null,null,null,null,null,null,null,null,null,94500,67830,16800,5770]
[null,6,null,null,null,null,null,2100000,null,null,null,null,null,null,null,null,null,null,null,null,null,null,null,null,2100000,null,null,null,22740,null,null,null,null,null,null,null,null,22740,null,null,null,2270,null,null,null,null,null,null,null,null,null,null,null,null,null,null,null,null,null,null,null,null,null,null,null,null,null,null,null,null,null,null,null,null,null,null,null,null,94500,67830,16800,5770]
[null,7,null,null,null,null,null,2100000,null,null,null,null,null,null,null,null,null,null,null,null,null,null,null,null,2100000,null,null,null,22740,null,null,null,null,null,null,null,null,22740,null,null,null,2270,null,null,null,null,null,null,null,null,null,null,null,null,null,null,null,null,null,null,null,null,null,null,null,null,null,null,null,null,null,null,null,null,null,null,null,null,94500,67830,16800,5770]
[null,8,null,null,null,null,null,2100000,null,null,null,null,null,null,null,null,null,null,null,null,null,null,null,null,2100000,null,null,null,22740,null,null,null,null,null,null,null,null,22740,null,null,null,2270,null,null,null,null,null,null,null,null,null,null,null,null,null,null,null,null,null,null,null,null,null,null,null,null,null,null,null,null,null,null,null,null,null,null,null,null,94500,67830,16800,5770]
[null,9,null,null,null,null,null,2100000,null,null,null,null,null,null,null,null,null,null,null,null,null,null,null,null,2100000,null,null,null,22740,null,null,null,null,null,null,null,null,22740,null,null,null,{"$f":"-+DI16","v":0},null,null,null,null,null,null,null,null,null,null,null,null,null,null,null,null,null,null,null,null,null,null,null,null,null,null,null,null,null,null,null,null,null,null,null,null,94500,67830,16800,5770]
[null,10,null,null,null,null,null,2100000,null,null,null,null,null,null,null,null,null,null,null,null,null,null,null,null,2100000,null,null,null,22740,null,null,null,null,null,null,null,null,22740,null,null,null,2270,null,null,null,null,null,null,null,null,null,null,null,null,null,null,null,null,null,null,null,null,null,null,null,null,null,null,null,null,null,null,null,null,null,null,null,null,94500,67830,16800,5770]
[null,11,null,null,null,null,null,2100000,null,null,null,null,null,null,null,null,null,null,null,null,null,null,null,null,2100000,null,null,null,22740,null,null,null,null,null,null,null,null,22740,null,null,null,2270,null,null,null,null,null,null,null,null,null,null,null,null,null,null,null,null,null,null,null,null,null,null,null,null,null,null,null,null,null,null,null,null,null,null,null,null,94500,67830,16800,5770]
[null,12,null,null,null,null,null,2100000,null,null,null,null,null,null,null,null,null,null,null,null,null,null,null,null,2100000,null,null,null,22740,null,null,null,null,null,null,null,null,22740,null,null,null,2270,null,null,null,null,null,null,null,null,null,null,null,null,null,null,null,null,null,null,null,null,null,null,null,null,null,null,null,null,null,null,null,null,null,null,null,null,94500,67830,16800,5770]
[null,"계",null,null,null,null,null,{"$f":"SUM(H8:L19)","v":25200000},null,null,null,null,{"$f":"SUM(M8:P19)","v":0},null,null,null,{"$f":"SUM(Q8:T19)","v":0},null,null,null,{"$f":"SUM(U8:U19)","v":0},{"$f":"SUM(V8:V19)","v":0},{"$f":"SUM(W8:W19)","v":0},{"$f":"SUM(X8:X19)","v":0},{"$f":"SUM(Y8:AB19)","v":25200000},null,null,null,{"$f":"SUM(AC8:AH19)","v":272880},null,null,null,null,null,{"$f":"SUM(AI8:AK19)","v":0},null,null,{"$f":"SUM(AL8:AO19)","v":272880},null,null,null,{"$f":"SUM(AP8:AS19)","v":24970},null,null,null,{"$f":"SUM(AT8:AW19)","v":0},null,null,null,null,null,null,null,{"$f":"SUM(BB8:BE19)","v":0},null,null,null,{"$f":"SUM(BF8:BJ19)","v":0},null,null,null,null,{"$f":"MIN(SUM(BK8:BN19),2400000)","v":0},null,null,null,{"$f":"SUM(BO8:BO19)","v":0},{"$f":"SUM(BP8:BP19)","v":0},null,null,null,null,{"$f":"SUM(BU8:BZ19)","v":0},null,null,null,null,null,{"$f":"SUM(CA8:CA19)","v":1134000},{"$f":"SUM(CB8:CB19)","v":813960},{"$f":"SUM(CC8:CC19)","v":201600},{"$f":"SUM(CD8:CD19)","v":69240}]
[]
[null,null,null,null,"[근무처명]  :",null,null,null,null,null,null,null,"㈜우인",null,null,null,null,null,null,null,null,null,null,null,"[사업자등록번호] :",null,null,null,null,null,null,null,null,null,"101-81-22222",null,null,null,null,null,null,null,null,null,null,null,null,null,null,null,null,"[근무기간]",null,null,null,null,null,null,null,null,null,null,null,null,"~",null,null,null,null,"[종(전)근무지]"]
[null,"월별",null,null,"지급일자",null,null,"과 세 대 상 급 여",null,null,null,null,null,null,null,null,null,null,null,null,null,null,null,null,null,null,null,null,"간이세액표에의한소득세",null,null,null,null,null,"감면세액",null,null,"차감원천징수액",null,null,null,null,null,null,null,null,null,null,null,"비 과 세 소 득",null,null,null,null,null,null,null,null,null,null,null,null,null,null,null,null,null,null,null,null,null,null,null,null,null,null,null,null,"국민연금","건강보험","고용보험","노인장기\n요양보험"]
[null,null,null,null,null,null,null,"급여액",null,null,null,null,"상여액",null,null,null,"인정상여",null,null,null,{"$f":"U6","v":"주식매수\n선택권"},{"$f":"V6","v":"우리사주\n조합인출금"},{"$f":"W6","v":"임원퇴직\n소득금액\n한도초과액"},{"$f":"X6","v":"직무발명\n보상금"},"계",null,null,null,null,null,null,null,null,null,null,null,null,"소득세",null,null,null,{"$f":"AP6","v":"지방\n소득세"},null,null,null,"농특세",null,null,null,"국 외 근 로 소 득",null,null,null,null,null,null,null,{"$f":"BF6","v":"연구\n활동비"},null,null,null,null,{"$f":"BK6","v":"야간\n근로수당"},null,null,null,{"$f":"BO6","v":"출산\n보육수당"},{"$f":"BP6","v":"외국인근로자"},"그밖의비과세"]
[null,null,null,null,null,null,null,null,null,null,null,null,null,null,null,null,null,null,null,null,null,null,null,null,null,null,null,null,null,null,null,null,null,null,null,null,null,null,null,null,null,null,null,null,null,null,null,null,null,"지급일자",null,null,null,"원화",null,null,null,null,null,null,null,null,null,null,null,null,null,null,"내용",null,null,null,"금액"]
[null,"계",null,null,null,null,null,null,null,null,null,null,null,null,null,null,null,null,null,null,null,null,null,null,{"$f":"SUM(H26:X26)","v":0}]
[]
[]
[null,null,null,null,"[근무처명]  :",null,null,null,null,null,null,null,null,null,null,null,null,null,null,null,null,null,null,null,"[사업자등록번호] :",null,null,null,null,null,null,null,null,null,null,null,null,null,null,null,null,null,null,null,null,null,null,null,null,null,null,"[근무기간]",null,null,null,null,null,null,null,null,null,null,null,null,"~",null,null,null,null,"[종(전)근무지]"]
[null,"월별",null,null,"지급일자",null,null,"과 세 대 상 급 여",null,null,null,null,null,null,null,null,null,null,null,null,null,null,null,null,null,null,null,null,"간이세액표에의한소득세",null,null,null,null,null,"감면세액",null,null,"차감원천징수액",null,null,null,null,null,null,null,null,null,null,null,"비 과 세 소 득",null,null,null,null,null,null,null,null,null,null,null,null,null,null,null,null,null,null,null,null,null,null,null,null,null,null,null,null,"국민연금","건강보험","고용보험","노인장기\n요양보험"]
[null,null,null,null,null,null,null,"급여액",null,null,null,null,"상여액",null,null,null,"인정상여",null,null,null,{"$f":"U24","v":"주식매수\n선택권"},{"$f":"V24","v":"우리사주\n조합인출금"},{"$f":"W24","v":"임원퇴직\n소득금액\n한도초과액"},{"$f":"X24","v":"직무발명\n보상금"},"계",null,null,null,null,null,null,null,null,null,null,null,null,"소득세",null,null,null,{"$f":"AP24","v":"지방\n소득세"},null,null,null,"농특세",null,null,null,"국 외 근 로 소 득",null,null,null,null,null,null,null,{"$f":"BF24","v":"연구\n활동비"},null,null,null,null,{"$f":"BK24","v":"야간\n근로수당"},null,null,null,{"$f":"BO24","v":"출산\n보육수당"},{"$f":"BP24","v":"외국인근로자"},"그밖의비과세"]
[null,null,null,null,null,null,null,null,null,null,null,null,null,null,null,null,null,null,null,null,null,null,null,null,null,null,null,null,null,null,null,null,null,null,null,null,null,null,null,null,null,null,null,null,null,null,null,null,null,"지급일자",null,null,null,"원화",null,null,null,null,null,null,null,null,null,null,null,null,null,null,"내용",null,null,null,"금액"]
[null,"계",null,null,null,null,null,null,null,null,null,null,null,null,null,null,null,null,null,null,null,null,null,null,{"$f":"SUM(H33:X33)","v":0}]
[]
[]
[null,null,null,null,"[근무처명]  :",null,null,null,null,null,null,null,null,null,null,null,null,null,null,null,null,null,null,null,"[사업자등록번호] :",null,null,null,null,null,null,null,null,null,null,null,null,null,null,null,null,null,null,null,null,null,null,null,null,null,null,"[근무기간]",null,null,null,null,null,null,null,null,null,null,null,null,"~",null,null,null,null,null,null,"[납세조합]"]
[null,"월별",null,null,"지급일자",null,null,"과 세 대 상 급 여",null,null,null,null,null,null,null,null,null,null,null,null,null,null,null,null,null,null,null,null,"간이세액표에의한소득세",null,null,null,null,null,"감면세액",null,null,"차감원천징수액",null,null,null,null,null,null,null,null,null,null,null,"비 과 세 소 득",null,null,null,null,null,null,null,null,null,null,null,null,null,null,null,null,null,null,null,null,null,null,null,null,null,null,null,null,"국민연금","건강보험","고용보험","노인장기\n요양보험"]
[null,null,null,null,null,null,null,"급여액",null,null,null,null,"상여액",null,null,null,"인정상여",null,null,null,{"$f":"U31","v":"주식매수\n선택권"},{"$f":"V31","v":"우리사주\n조합인출금"},{"$f":"W31","v":"임원퇴직\n소득금액\n한도초과액"},{"$f":"X31","v":"직무발명\n보상금"},"계",null,null,null,null,null,null,null,null,null,null,null,null,"소득세",null,null,null,{"$f":"AP31","v":"지방\n소득세"},null,null,null,"농특세",null,null,null,"국 외 근 로 소 득",null,null,null,null,null,null,null,{"$f":"BF31","v":"연구\n활동비"},null,null,null,null,{"$f":"BK31","v":"야간\n근로수당"},null,null,null,{"$f":"BO31","v":"출산\n보육수당"},{"$f":"BP31","v":"외국인근로자"},"그밖의비과세"]
[null,null,null,null,null,null,null,null,null,null,null,null,null,null,null,null,null,null,null,null,null,null,null,null,null,null,null,null,null,null,null,null,null,null,null,null,null,null,null,null,null,null,null,null,null,null,null,null,null,"지급일자",null,null,null,"원화",null,null,null,null,null,null,null,null,null,null,null,null,null,null,"내용",null,null,null,"금액"]
[null,"계",null,null,null,null,null,null,null,null,null,null,null,null,null,null,null,null,null,null,null,null,null,null,{"$f":"SUM(H40:X40)","v":0}]
[]
[null,null,null,null,null,null,"ㅁ 납세조합공제액:",null,null,null,null,null,null,null,null,null,null,null,null,null,"원"]

{"sheet":"인적공제","index":3,"n_rows":17,"n_cols":15,"rows_kept":17,"cut":false,"hidden":false,"merged":[[5,2,16,2],[3,2,3,14]]}
[]
[]
[]
[null,null,"인적공제액계산"]
[]
[null,null,"인\n적\n공\n제","구분","성명","주민등록번호","기본공제","관계","출산입양1","출산입양2","장애인","자녀","경로우대","세대주","자녀수"]
[null,null,null,"본인",{"$f":"신고서!F19","v":"이영화"},{"$f":"기본사항!$G$8","v":"123456-1234567"},{"$f":"IF(신고서!N19=\"○\",1,0)","v":1},{"$f":"신고서!C19","v":"0"},{"$f":"IF(신고서!W19=\"\",0,1)","v":1},{"$f":"IF(신고서!W19=\"○1\",3,(IF(신고서!W19=\"○2\",5,(IF(신고서!W19=\"○3\",7,0)))))","v":7},{"$f":"IF(신고서!T20=\"\",0,1)","v":0},{"$f":"IF(신고서!W20=\"○\",1,0)","v":0},{"$f":"IF(신고서!T19=\"○\",1,0)","v":0},{"$f":"IF(신고서!K8=TRUE,\"예\",\"아니오\")","v":"아니오"},{"$f":"신고서!L18","v":0}]
[null,null,null,"부양가족1",{"$f":"신고서!F21","v":"조세희"},{"$f":"신고서!F22","v":"710415-2031653"},{"$f":"IF(신고서!N21=\"○\",1,0)","v":1},{"$f":"신고서!C21","v":3},{"$f":"IF(신고서!W21=\"\",0,1)","v":0},{"$f":"IF(신고서!W21=\"○1\",3,(IF(신고서!W21=\"○2\",5,(IF(신고서!W21=\"○3\",7,0)))))","v":0},{"$f":"IF(신고서!T22=\"\",0,1)","v":0},{"$f":"IF(신고서!W22=\"○\",1,0)","v":0},{"$f":"IF(신고서!T21=\"○\",1,0)","v":0},{"$f":"IF(H8=3,IF(신고서!N21=\"\",0,1),0)","v":1},{"$f":"IF(신고서!N18=1,1,0)","v":0}]
[null,null,null,"부양가족2",{"$f":"신고서!F23","v":"편람일"},{"$f":"신고서!F24","v":"481103-2019015"},{"$f":"IF(신고서!N23=\"○\",1,0)","v":1},{"$f":"신고서!C23","v":2},{"$f":"IF(신고서!W23=\"\",0,1)","v":0},{"$f":"IF(신고서!W23=\"○1\",3,(IF(신고서!W23=\"○2\",5,(IF(신고서!W23=\"○3\",7,0)))))","v":0},{"$f":"IF(신고서!T24=\"\",0,1)","v":0},{"$f":"IF(신고서!W24=\"○\",1,0)","v":0},{"$f":"IF(신고서!T23=\"○\",1,0)","v":1},null,{"$f":"IF(신고서!Q18=1,1,0)","v":0}]
[null,null,null,"부양가족3",{"$f":"신고서!F25","v":"이대한"},{"$f":"신고서!F26","v":"091206-4059631"},{"$f":"IF(신고서!N25=\"○\",1,0)","v":1},{"$f":"신고서!C25","v":4},{"$f":"IF(신고서!W25=\"\",0,1)","v":0},{"$f":"IF(신고서!W25=\"○1\",3,(IF(신고서!W25=\"○2\",5,(IF(신고서!W25=\"○3\",7,0)))))","v":0},{"$f":"IF(신고서!T26=\"\",0,1)","v":0},{"$f":"IF(신고서!W26=\"○\",1,0)","v":0},{"$f":"IF(신고서!T25=\"○\",1,0)","v":0}]
[null,null,null,"부양가족4",{"$f":"신고서!F27","v":"이민국"},{"$f":"신고서!F28","v":"151230-3059632"},{"$f":"IF(신고서!N27=\"○\",1,0)","v":1},{"$f":"신고서!C27","v":4},{"$f":"IF(신고서!W27=\"\",0,1)","v":0},{"$f":"IF(신고서!W27=\"○1\",3,(IF(신고서!W27=\"○2\",5,(IF(신고서!W27=\"○3\",7,0)))))","v":0},{"$f":"IF(신고서!T28=\"\",0,1)","v":0},{"$f":"IF(신고서!W28=\"○\",1,0)","v":1},{"$f":"IF(신고서!T27=\"○\",1,0)","v":0}]
[null,null,null,"부양가족5",{"$f":"신고서!H29","v":0},{"$f":"신고서!H30","v":0},{"$f":"IF(신고서!N29=\"○\",1,0)","v":0},{"$f":"신고서!C29","v":0},{"$f":"IF(신고서!W29=\"\",0,1)","v":0},{"$f":"IF(신고서!W29=\"○1\",3,(IF(신고서!W29=\"○2\",5,(IF(신고서!W29=\"○3\",7,0)))))","v":0},{"$f":"IF(신고서!T30=\"\",0,1)","v":0},{"$f":"IF(신고서!W30=\"○\",1,0)","v":0},{"$f":"IF(신고서!T29=\"○\",1,0)","v":0}]
[null,null,null,"부양가족6",{"$f":"신고서!H31","v":0},{"$f":"신고서!H32","v":0},{"$f":"IF(신고서!N31=\"○\",1,0)","v":0},{"$f":"신고서!C31","v":0},{"$f":"IF(신고서!W31=\"\",0,1)","v":0},{"$f":"IF(신고서!W31=\"○1\",3,(IF(신고서!W31=\"○2\",5,(IF(신고서!W31=\"○3\",7,0)))))","v":0},{"$f":"IF(신고서!T32=\"\",0,1)","v":0},{"$f":"IF(신고서!W32=\"○\",1,0)","v":0},{"$f":"IF(신고서!T31=\"○\",1,0)","v":0}]
[null,null,null,"부양가족7",{"$f":"신고서!H33","v":0},{"$f":"신고서!H34","v":0},{"$f":"IF(신고서!N33=\"○\",1,0)","v":0},{"$f":"신고서!C33","v":0},{"$f":"IF(신고서!W33=\"\",0,1)","v":0},{"$f":"IF(신고서!W33=\"○1\",3,(IF(신고서!W33=\"○2\",5,(IF(신고서!W33=\"○3\",7,0)))))","v":0},{"$f":"IF(신고서!T34=\"\",0,1)","v":0},{"$f":"IF(신고서!W34=\"○\",1,0)","v":0},{"$f":"IF(신고서!T33=\"○\",1,0)","v":0}]
[null,null,null,"부양가족8",{"$f":"신고서!H35","v":0},{"$f":"신고서!H36","v":0},{"$f":"IF(신고서!N35=\"○\",1,0)","v":0},{"$f":"신고서!C35","v":0},{"$f":"IF(신고서!W35=\"\",0,1)","v":0},{"$f":"IF(신고서!W35=\"○1\",3,(IF(신고서!W35=\"○2\",5,(IF(신고서!W35=\"○3\",7,0)))))","v":0},{"$f":"IF(신고서!T36=\"\",0,1)","v":0},{"$f":"IF(신고서!W36=\"○\",1,0)","v":0},{"$f":"IF(신고서!T35=\"○\",1,0)","v":0}]
[null,null,null,"부양가족9",{"$f":"신고서!H37","v":0},{"$f":"신고서!H38","v":0},{"$f":"IF(신고서!N37=\"○\",1,0)","v":0},{"$f":"신고서!C37","v":0},{"$f":"IF(신고서!W37=\"\",0,1)","v":0},{"$f":"IF(신고서!W37=\"○1\",3,(IF(신고서!W37=\"○2\",5,(IF(신고서!W37=\"○3\",7,0)))))","v":0},{"$f":"IF(신고서!T38=\"\",0,1)","v":0},{"$f":"IF(신고서!W38=\"○\",1,0)","v":0},{"$f":"IF(신고서!T37=\"○\",1,0)","v":0}]
[null,null,null,"합계",null,null,{"$f":"SUM(G7:G16)","v":5},null,1,7,0,1,1]

{"sheet":"신용카드","index":4,"n_rows":38,"n_cols":49,"rows_kept":38,"cut":false,"hidden":false,"merged":[[28,41,28,48],[29,41,29,48],[35,43,35,48],[36,43,36,48],[3,11,3,48],[8,44,9,46],[8,47,8,48],[23,47,23,48],[22,47,22,48],[20,47,21,48],[10,44,10,46],[11,44,11,46],[12,44,12,46],[13,44,13,46],[14,44,14,46],[15,44,15,46],[16,44,16,46],[17,44,17,46],[10,29,10,31],[10,32,10,34],[10,35,10,36],[11,29,11,31],[11,32,11,34],[11,35,11,36],[12,29,12,31],[12,32,12,34],[12,35,12,36],[13,29,13,31],[13,32,13,34],[13,35,13,36],[14,29,14,31],[14,32,14,34],[14,35,14,36],[15,26,15,28],[16,26,16,28],[17,26,17,28],[17,29,17,31],[17,32,17,34],[17,35,17,36],[15,29,15,31],[15,32,15,34],[15,35,15,36],[16,29,16,31],[16,32,16,34],[16,35,16,36],[10,26,10,28],[11,26,11,28],[12,26,12,28],[13,26,13,28],[14,26,14,28],[16,11,17,13],[16,14,17,16],[16,17,17,20],[16,21,17,23],[16,24,16,25],[17,24,17,25],[14,11,15,13],[14,14,15,16],[14,17,15,20],[14,21,15,23],[14,24,14,25],[15,24,15,25],[10,24,10,25],[11,24,11,25],[12,11,13,13],[12,14,13,16],[12,17,13,20],[12,21,13,23],[12,24,12,25],[13,24,13,25],[10,11,11,13],[10,14,11,16],[10,17,11,20],[10,21,11,23],[28,24,28,40],[28,11,28,23],[23,41,23,46],[23,35,23,40],[27,11,27,23],[26,11,26,23],[24,41,24,46],[24,35,24,40],[26,24,26,40],[24,11,24,14],[24,15,24,19],[24,20,24,24],[24,25,24,29],[20,19,21,23],[19,11,19,46],[18,11,18,25],[18,37,18,40],[18,41,18,43],[27,24,27,40],[3,2,3,5],[4,11,4,21],[4,22,4,28],[4,29,4,35],[7,24,7,46],[5,2,26,2],[5,11,5,21],[5,22,5,28],[5,29,5,35],[9,9,25,9],[18,3,22,3],[20,11,21,14],[22,19,22,23],[22,24,22,28],[22,29,22,33],[22,34,22,38],[20,34,20,46],[20,24,21,28],[20,29,21,33],[18,32,18,34],[18,26,18,28],[18,29,18,31],[18,35,18,36],[18,44,18,46],[24,30,24,34],[21,34,21,38],[21,39,21,42],[21,43,21,46],[22,43,22,46],[23,11,23,14],[23,15,23,19],[23,20,23,24],[23,25,23,29],[23,30,23,34],[22,11,22,14],[22,15,22,18],[22,39,22,42],[20,15,21,18],[29,11,29,23],[30,11,30,46],[32,35,32,36],[35,14,36,42],[35,11,36,13],[29,24,29,40],[26,41,26,48],[27,41,27,48],[4,36,4,46],[6,11,6,46],[7,11,7,23],[5,36,5,46],[8,11,9,13],[8,14,9,16],[8,17,9,20],[8,21,9,23],[8,24,9,25],[8,26,9,28],[8,29,9,31],[8,32,9,34],[8,35,9,36],[8,37,9,40],[8,41,9,43],[25,11,25,46]]}
[]
[]
[null,null,null,null,null,null,null,null,null,null,null,"■ 조세특례제한법 시행규칙[별지 제74호의6서식] <개정(안) 2021. 11.>",null,null,null,null,null,null,null,null,null,null,null,null,null,null,null,null,null,null,null,null,null,null,null,null,null,null,null,null,null,null,null,null,null,null,null,null,"(앞  쪽)"]
[null,null,"그밖의 소득공제",null,null,null,null,null,null,null,null,"신용카드 등 소득공제 신청서"]
[null,null,null,null,null,null,null,null,null,null,null,"거 주 자 성 명",null,null,null,null,null,null,null,null,null,null,{"$f":"기본사항!G7","v":"이영화"},null,null,null,null,null,null,"생  년  월  일",null,null,null,null,null,null,{"$f":"LEFT(기본사항!G8,6)","v":"123456"}]
[null,null,"그\n밖\n의\n소\n득\n공\n제","개인연금소득공제","개인연금저축납입액",{"$f":"#REF!","v":{"$error":"#REF!"}},"원",null,null,null,null,"근 무 처 명 칭",null,null,null,null,null,null,null,null,null,null,{"$f":"기본사항!G14","v":"(주)조세통람"},null,null,null,null,null,null,"사업자등록번호",null,null,null,null,null,null,{"$f":"기본사항!G16","v":"203-81-11111"}]
[null,null,null,"연금저축소득공제","연금저축납입액",null,"원",null,null,null,null,"1. 공제대상자 및 신용카드등사용금액 명세"]
[null,null,null,"소기업소상공인부금","연간불입금액",{"$f":"#REF!","v":{"$error":"#REF!"}},"원",null,null,null,null,"공제대상자",null,null,null,null,null,null,null,null,null,null,null,null,"신용카드 등 사용금액"]
[null,null,null,null,null,null,null,null,null,null,null,"①\n내·외국인\n구분",null,null,"②\n관계",null,null,"③\n성명",null,null,null,"④\n생년월일",null,null,"자료\n구분",null,"⑤소  계\n(⑥+⑦+⑧+⑨+⑩+⑪)",null,null,"⑥\n신용카드",null,null,"⑦\n직불·\n선불카드\n등",null,null,"⑧ 현금\n영수증",null,"⑨도서공연 등\n사용분\n(총급여\n7천만원\n이하자만\n기재)",null,null,null,"⑩\n전통시장\n사용분",null,null,"⑪\n대중교통\n이용분",null,null,"⑪-1\n소비증가분"]
[null,null,null,"주택마련저축\n소득공제","청약저축",{"$f":"IF(#REF!=\"\",0,MIN(#REF!,1200000))","v":{"$error":"#REF!"}},"원",null,null,null,null,null,null,null,null,null,null,null,null,null,null,null,null,null,null,null,null,null,null,null,null,null,null,null,null,null,null,null,null,null,null,null,null,null,null,null,null,"2020년 \n전체 \n사용분","2021년 \n전체 \n사용분"]
[null,null,null,null,null,null,null,null,null,null,null,null,null,null,null,null,null,null,null,null,null,null,null,null,"국세청자료",null,null,null,null,12000000,null,null,4500000,null,null,null,null,null,null,null,null,null,null,null,1200000]
[null,null,null,null,null,null,null,null,null,null,null,null,null,null,null,null,null,null,null,null,null,null,null,null,"그 밖의 자료"]
[null,null,null,null,null,null,null,null,null,null,null,null,null,null,null,null,null,null,null,null,null,null,null,null,"국세청자료"]
[null,null,null,null,null,null,null,null,null,null,null,null,null,null,null,null,null,null,null,null,null,null,null,null,"그 밖의 자료"]
[null,null,null,null,null,null,null,null,null,null,null,null,null,null,null,null,null,null,null,null,null,null,null,null,"국세청자료"]
[null,null,null,null,null,null,null,null,null,null,null,null,null,null,null,null,null,null,null,null,null,null,null,null,"그 밖의 자료"]
[null,null,null,null,null,null,null,null,null,null,null,null,null,null,null,null,null,null,null,null,null,null,null,null,"국세청자료"]
[null,null,null,null,null,null,null,null,null,null,null,null,null,null,null,null,null,null,null,null,null,null,null,null,"그 밖의 자료"]
[null,null,null,null,"직불ㆍ선불카드(전통시장ㆍ대중교통사용분 제외)",{"$f":"#REF!","v":{"$error":"#REF!"}},"원",null,null,null,null,"⑤-1 합   계   액",null,null,null,null,null,null,null,null,null,null,null,null,null,null,{"$f":"신고서!AF135","v":0},null,null,{"$f":"신고서!AF129","v":0},null,null,{"$f":"신고서!AF131","v":0},null,null,{"$f":"신고서!AF130","v":0},null,{"$f":"신고서!AF132","v":0},null,null,null,{"$f":"신고서!AF133","v":0},null,null,{"$f":"신고서!AF134","v":0},null,null,{"$f":"SUM(AV11:AV18)","v":0},{"$f":"SUM(AW11:AW18)","v":0}]
[null,null,null,null,"현금영수증(전통시장ㆍ대중교통사용분 제외)",{"$f":"#REF!","v":{"$error":"#REF!"}},"원",null,null,null,null,"2. 신용카드등소득공제금액의 계산"]
[null,null,null,null,"전통시장사용분",{"$f":"#REF!","v":{"$error":"#REF!"}},"원",null,null,null,null,"⑫ 신용카드\n사용분 공제금액\n(⑥×15%)",null,null,null,"⑬직불카드등\n사용분 공제금액\n(⑦+⑧)×30%",null,null,null," ⑭도서공연\n사용분\n공제금액\n(⑨×30%)",null,null,null,null,"⑮전통시장\n사용분\n공제금액\n(⑩×40%)",null,null,null,null,"⑯대중교통\n이용분\n공제금액\n(⑪×40%)",null,null,null,null,"⑰공제제외금액 계산",null,null,null,null,null,null,null,null,null,null,null,null,"⑱ 2021년 신용카드등 사용금액 중 2020년 신용카드등 사용금액 대비 5%를 초과하여 증가한 금액의 10%\n[(2021년 신용카드등 사용금액)-(2020년 신용카드등 사용금액×105%)]×10%"]
[null,null,null,null,"대중교통사용분",{"$f":"#REF!","v":{"$error":"#REF!"}},"원",null,null,null,null,null,null,null,null,null,null,null,null,null,null,null,null,null,null,null,null,null,null,null,null,null,null,null,"⑰-1 \n총급여",null,null,null,null,"⑰-2 \n최저사용금액\n(⑰-1×25%) ",null,null,null,"⑰-3 \n공제제외금액"]
[null,null,null,null,"계",{"$f":"#REF!","v":{"$error":"#REF!"}},"원",null,null,null,null,{"$f":"ROUNDDOWN(AD19*0.15,0)","v":0},null,null,null,{"$f":"ROUNDDOWN((AG19+AJ19)*0.3,0)","v":0},null,null,null,{"$f":"ROUNDDOWN(AL19*0.3,0)","v":0},null,null,null,null,{"$f":"ROUNDDOWN(AP19*0.4,0)","v":0},null,null,null,null,{"$f":"ROUNDDOWN(AS19*0.4,0)","v":0},null,null,null,null,{"$f":"영수증!S63","v":25200000},null,null,null,null,{"$f":"ROUNDDOWN(AI23*0.25,0)","v":6300000},null,null,null,{"$f":"IF(AN23<=AD19,AP28,IF(AN23<=(AD19+AG19+AJ19+AL19),AP29,AP30))","v":2520000},null,null,null,{"$f":"(AW19-AV19*1.05)*10%","v":0}]
[null,null,null,"우리사주소득공제","우리사주출연금에 대한 소득공제",{"$f":"#REF!","v":{"$error":"#REF!"}},"원",null,null,null,null,"⑲공제가능금액\n[⑫+⑬+⑭+⑮+⑯\n-(⑰-3)+⑱]",null,null,null,"⑳공제한도액\n[총급여 수준별 200만원, 250만원, 300만원과 (⑰-1)×20% 중\n적은 금액]",null,null,null,null,"㉑일반 공제금액\n(⑲과 ⑳ 중 적은 금액)",null,null,null,null,"㉒전통시장\n추가 공제금액\n [⑲ > ⑳인 경우에 \n⑲-⑳과 ⑮(한도:100만원) 중 적은 금액]",null,null,null,null,"㉓대중교통 \n추가 공제금액 \n[⑲ > ⑳인 경우에 \n⑲-⑳-㉒과⑯(한도:100만원) 중 적은 금액] ",null,null,null,null,"㉔도서ㆍ공연 등\n 추가 공제금액\n[⑲ > ⑳인 경우에 \n⑲-⑳-㉒-㉓과⑭(한도:100만원) 중 적은 금액] ",null,null,null,null,null,"(25)2021년 신용카드등  사용금액 중 2020년 신용카드등 사용금액 대비 소비증가분에 대한 추가 공제금액[⑲ > ⑳인 경우에 ⑲-⑳-㉒-㉓-㉔과⑱(한도:100만원) 중 적은 금액] ",null,null,null,null,null,"(26)최종 공제금액\n(㉑+㉒+㉓+㉔+(25))"]
[null,null,null,"장기주식저축소득공제","장기주식저축에 대한 소득공제",{"$f":"#REF!","v":{"$error":"#REF!"}},"원",null,null,null,null,{"$f":"L23+P23+T23+Y23+AD23-AR23","v":-2520000},null,null,null,{"$f":"ROUNDDOWN(IF(AI23>120000000,2000000,IF(AI23>70000000,2500000,MIN(3000000,(AI23*0.2)))),0)","v":3000000},null,null,null,null,{"$f":"MIN(L25,P25)","v":-2520000},null,null,null,null,{"$f":"IF(L25>P25,MIN(1000000,MIN(MAX(L25-P25,0),Y23)),0)","v":0},null,null,null,null,{"$f":"IF(L25>P25,MIN(1000000,MIN(MAX((L25-P25-Z25),0),AD23)),0)","v":0},null,null,null,null,{"$f":"IF(L25>P25,MIN(1000000,MIN(MAX((L25-P25-Z25-AE25),0),T23)),0)","v":0},null,null,null,null,null,{"$f":"IF(L25>P25,MIN(1000000,MIN(MAX((L25-P25-Z25-AE25-AJ25),0),AV23)),0)","v":0},null,null,null,null,null,{"$f":"MAX((U25+Z25+AE25+AJ25+AP25),0)","v":0}]
[null,null,null,"고용유지 중소기업근로자소득공제","전년대비 임금삭감액",{"$f":"#REF!","v":{"$error":"#REF!"}},"원",null,null,null,null,"⑰-3  계산"]
[null,null,null,"목돈안드는전세이자상환",null,{"$f":"#REF!","v":{"$error":"#REF!"}},"원",null,null,null,null,"구    분",null,null,null,null,null,null,null,null,null,null,null,null,"계산식",null,null,null,null,null,null,null,null,null,null,null,null,null,null,null,null,"⑰-3 "]
[null,null,null,null,null,null,null,null,null,null,null,"⑥ ≥ (⑰-2) ",null,null,null,null,null,null,null,null,null,null,null,null,"(⑰-2)×15%",null,null,null,null,null,null,null,null,null,null,null,null,null,null,null,null,{"$f":"ROUNDDOWN(AN23*0.15,0)","v":945000}]
[null,null,null,null,null,null,null,null,null,null,null," ⑥ + ⑦ + ⑧ + ⑨ ≥ (⑰-2) 〉⑥",null,null,null,null,null,null,null,null,null,null,null,null," ⑥×15% + {(⑰-2) - ⑥}×30%",null,null,null,null,null,null,null,null,null,null,null,null,null,null,null,null,{"$f":"ROUNDDOWN(L23+((AN23-AD19)*0.3),0)","v":1890000}]
[null,null,null,null,null,null,null,null,null,null,null,"(⑰-2) > ⑥ + ⑦ + ⑧ + ⑨ ",null,null,null,null,null,null,null,null,null,null,null,null," ⑥×15% + (⑦+⑧+⑨)×30% + {(⑰-2)-⑥-⑦-⑧-⑨}×40%",null,null,null,null,null,null,null,null,null,null,null,null,null,null,null,null,{"$f":"ROUNDDOWN(L23+(AG19+AJ19+AL19)*0.3+(AN23-(AD19+AG19+AJ19+AL19))*0.4,0)","v":2520000}]
[null,null,null,null,null,null,null,null,null,null,null,"  「조세특례제한법 시행령」제121조의2 제8항에 따라 신용카드등사용금액에 대한 소득공제를 신청합니다."]
[null,null,null,null,null,null,null,null,null,null,null,null,null,null,null,null,null,null,null,null,null,null,null,null,null,null,null,null,null,null,null,null,null,null,null,null,null,null,null,"2021년",null,null,"월",null,null,"일"]
[null,null,null,null,null,null,null,null,null,null,null,null,null,null,null,null,null,null,null,null,null,null,null,null,null,null,null,null,null,null,null,"신청인 :",null,null,null,{"$f":"W5","v":"이영화"},null,null,"(서명 또는 인)"]
[null,null,null,null,null,null,null,null,null,null,null,null,null,null,null,null,null,null,null,null,null,null,null,"귀하"]
[]
[null,null,null,null,null,null,null,null,null,null,null,"첨부 서류 ",null,null," 다음 각 호의 어느 하나에 해당하는 서류\n  1. 신용카드등사용금액확인서(별지 제74호의5서식을 말합니다) 1부 및 승차권 등 대중교통이용분임을 증명할 수 있는 서류(대중교통이용분이 있는 경우로 한정합니다)\n  2. 소득공제명세를 일괄적으로 기재하여 국세청장이 발급하는 서류(국세청 연말정산간소화 서비스(www.hometax.go.kr→조회/발급→연말정산간소화)에서 제공하는 연말정산소득공제 명세를 말합니다)",null,null,null,null,null,null,null,null,null,null,null,null,null,null,null,null,null,null,null,null,null,null,null,null,null,null,null,null,"수수료"]
[null,null,null,null,null,null,null,null,null,null,null,null,null,null,null,null,null,null,null,null,null,null,null,null,null,null,null,null,null,null,null,null,null,null,null,null,null,null,null,null,null,null,null,"없음"]
[null,null,null,null,null,null,null,null,null,null,null,null,null,null,null,null,null,null,null,null,null,null,null,null,null,null,null,null,null,null,null,null,null,null,null,null,null,null,null,null,null,null,null,null,null,null,null,null,"210mm×297mm"]

{"sheet":"기부금","index":5,"n_rows":15,"n_cols":59,"rows_kept":15,"cut":false,"hidden":false,"merged":[[3,44,3,50],[3,51,3,57],[3,58,3,64],[4,1,7,5],[4,6,4,13],[4,14,4,21],[4,22,4,28],[4,29,4,35],[4,36,4,43],[4,44,4,50],[3,1,3,5],[3,6,3,13],[3,14,3,21],[3,22,3,28],[3,29,3,35],[3,36,3,43],[4,51,4,57],[4,58,4,64],[5,6,5,13],[5,14,5,21],[5,22,5,28],[5,29,5,35],[5,36,5,43],[5,44,5,50],[5,51,5,57],[5,58,5,64],[6,51,6,57],[6,58,6,64],[7,6,7,13],[7,14,7,21],[7,22,7,28],[7,29,7,35],[7,36,7,43],[7,44,7,50],[7,51,7,57],[7,58,7,64],[6,6,6,13],[6,14,6,21],[6,22,6,28],[6,29,6,35],[6,36,6,43],[6,44,6,50],[8,44,8,50],[8,51,8,57],[8,58,8,64],[9,1,13,5],[9,6,9,13],[9,14,9,21],[9,22,9,28],[9,29,9,35],[9,36,9,43],[9,44,9,50],[8,1,8,5],[8,6,8,13],[8,14,8,21],[8,22,8,28],[8,29,8,35],[8,36,8,43],[11,44,11,50],[9,51,9,57],[9,58,9,64],[10,6,10,13],[10,14,10,21],[10,22,10,28],[10,29,10,35],[10,36,10,43],[10,44,10,50],[10,51,10,57],[10,58,10,64],[11,6,11,13],[11,14,11,21],[11,22,11,28],[11,29,11,35],[11,36,11,43],[14,58,14,64],[1,1,1,64],[14,1,14,5],[14,6,14,13],[14,14,14,21],[14,22,14,28],[13,6,13,13],[13,14,13,21],[13,22,13,28],[13,29,13,35],[12,36,12,43],[12,44,12,50],[11,51,11,57],[11,58,11,64],[12,51,13,57],[12,58,13,64],[12,6,12,13],[12,14,12,21],[14,44,14,50],[14,51,14,57],[13,36,13,43],[13,44,13,50],[12,22,12,28],[12,29,12,35],[14,29,14,35],[14,36,14,43]]}
[]
[null,"기부금 공제 명세"]
[]
[null,"구분",null,null,null,null,"기부금의 구분",null,null,null,null,null,null,null,"2021년 소득공제대상\n이월기부금의 지출연도",null,null,null,null,null,null,null,"기부금액",null,null,null,null,null,null,null,null,null,null,null,null,null,null,null,null,null,null,null,null,null,"소득공제액"]
[null,"기부금\n소득공제\n(이월분)",null,null,null,null,"법정기부금\n(법정, 코드10)",null,null,null,null,null,null,null,"2013년",null,null,null,null,null,null,null,0,null,null,null,null,null,null,null,null,null,null,null,null,null,"법정기부금 한도계산을\n위한 소득금액",null,null,null,null,null,null,null,{"$f":"IF(W5=\"\",0,MIN(W5,AK11))","v":0}]
[null,null,null,null,null,null,"우리사주기부금\n(조특법88의4, 코드42)",null,null,null,null,null,null,null,null,null,null,null,null,null,null,null,0,null,null,null,null,null,null,null,null,null,null,null,null,null,{"$f":"MAX((AK10-AS10),0)","v":16170000}]
[null,null,null,null,null,null,"지정기부금\n(지정, 코드40)",null,null,null,null,null,null,null,"2013년",null,null,null,null,null,null,null,0,null,null,null,null,null,null,null,null,null,null,null,null,null,"지정기부금 한도계산을\n위한 소득금액",null,null,null,null,null,null,null,{"$f":"IF(W7=\"\",0,MIN(W7,AK13-AS5))","v":0}]
[null,null,null,null,null,null,"지정기부금\n(종교단체, 코드41)",null,null,null,null,null,null,null,"2013년",null,null,null,null,null,null,null,0,null,null,null,null,null,null,null,null,null,null,null,null,null,{"$f":"MAX((AK10-AS10-AS11-AS12),0)","v":16170000},null,null,null,null,null,null,null,{"$f":"IF(W8=\"\",0,MIN(W8,AK14-AS5-AS7))","v":0}]
[null,"구분",null,null,null,null,"기부금의 구분",null,null,null,null,null,null,null,"기부금의 지출연도",null,null,null,null,null,null,null,"기부금액",null,null,null,null,null,null,"기부금합계",null,null,null,null,null,null,"한도액",null,null,null,null,null,null,null,"소득공제대상\n(이월포함)",null,null,null,null,null,null,"세액공제대상\n(이월제외)",null,null,null,null,null,null,"세액공제액"]
[null,"기부금\n세액공제",null,null,null,null,"정치자금기부금\n(조특법76, 코드20)",null,null,null,null,null,null,null,"2021년",null,null,null,null,null,null,null,null,null,null,null,null,null,null,{"$f":"W10","v":0},null,null,null,null,null,null,{"$f":"영수증!S65","v":16170000},null,null,null,null,null,null,null,{"$f":"MIN(AD10,AK10)","v":0},null,null,null,null,null,null,{"$f":"MIN(AK10,AS10)","v":0},null,null,null,null,null,null,{"$f":"ROUNDDOWN(IF(AZ10<=29900000,(AZ10*0.15),(AZ10-29900000)*0.25+4485000),0)","v":0}]
[null,null,null,null,null,null,"법정기부금\n(법정, 코드10)",null,null,null,null,null,null,null,"2016년~2021년",null,null,null,null,null,null,null,null,null,null,null,null,null,null,{"$f":"W11","v":0},null,null,null,null,null,null,{"$f":"MAX(AK10-AS10,0)","v":16170000},null,null,null,null,null,null,null,{"$f":"MIN(AD11,AK11)","v":0},null,null,null,null,null,null,{"$f":"MAX((AS11-AS5),0)","v":0},null,null,null,null,null,null,{"$f":"IF(BG15=0,0,ROUNDDOWN((AZ11/AZ15)*BG15,0))","v":0}]
[null,null,null,null,null,null,"우리사주기부금\n(조특법88의4, 코드42)",null,null,null,null,null,null,null,"2021년",null,null,null,null,null,null,null,0,null,null,null,null,null,null,{"$f":"W12","v":0},null,null,null,null,null,null,{"$f":"MAX((AK10-AS10-AS11)*0.3,0)","v":4851000},null,null,null,null,null,null,null,{"$f":"MIN(AD12,AK12)","v":0},null,null,null,null,null,null,{"$f":"MAX((AS12-AS6),0)","v":0},null,null,null,null,null,null,{"$f":"IF(BG15=0,0,ROUNDDOWN((AZ12/AZ15)*BG15,0))","v":0}]
[null,null,null,null,null,null,"지정기부금\n(지정, 코드40)",null,null,null,null,null,null,null,"2016년~2021년",null,null,null,null,null,null,null,0,null,null,null,null,null,null,{"$f":"W7+W13","v":0},null,null,null,null,null,null,{"$f":"IF(AD14>0,(AK8*0.1)+MIN((AK8*0.2),W13),AK8*0.3)","v":4851000},null,null,null,null,null,null,null,{"$f":"MIN(AD13,AK13)","v":0},null,null,null,null,null,null,{"$f":"MAX(((AS13-AS7)+(AS14-AS8)),0)","v":0},null,null,null,null,null,null,{"$f":"IF(BG15=0,0,ROUNDDOWN((AZ13/AZ15)*BG15,0))","v":0}]
[null,null,null,null,null,null,"지정기부금\n(종교단체, 코드41)",null,null,null,null,null,null,null,"2016년~2021년",null,null,null,null,null,null,null,0,null,null,null,null,null,null,{"$f":"W8+W14","v":0},null,null,null,null,null,null,{"$f":"AK13","v":4851000},null,null,null,null,null,null,null,{"$f":"MIN(AD14,AK14-AS13)","v":0}]
[null,null,null,null,null,null,0,null,null,null,null,null,null,null,null,null,null,null,null,null,null,null,0,null,null,null,null,null,null,null,null,null,null,null,null,null,null,null,null,null,null,null,null,null,{"$f":"SUM(AS10:AY14)","v":0},null,null,null,null,null,null,{"$f":"SUM(AZ11:BF14)","v":0},null,null,null,null,null,null,{"$f":"ROUNDDOWN(IF(AZ15<=20000000,(AZ15*0.15),(AZ15-20000000)*0.3+3000000),0)","v":0}]

{"sheet":"감면","index":6,"n_rows":20,"n_cols":13,"rows_kept":20,"cut":false,"hidden":false,"merged":[[3,2,3,4],[6,6,6,11],[6,2,6,4],[12,3,12,4],[13,3,13,4],[19,3,19,4],[14,3,14,4],[15,3,15,4],[16,3,16,4],[17,3,17,4],[18,3,18,4]]}
[]
[]
[]
[]
[]
[]
[null,null,"세액감면",null,null,null,"감면액 계산 테이블"]
[null,null,"구  분","감면세액 계산식","감면세액",null,null,"산출세액","감면대상금액\n(입력)","총급여액 또는\n종합소득금액","감면율","감면세액"]
[null,null,"해외조광권자 등이 외국인에게 지급하는 급여","종합소득산출세액×(감면대상근로소득금액÷종합소득금액)",null,null,"조광권자",{"$f":"#REF!","v":{"$error":"#REF!"}},null,1,null,{"$f":"(H9*I9/J9)*K9","v":{"$error":"#REF!"}}]
[null,null,"중소기업 취업자 세액감면\n(조세특례제한법 제30조)","산출세액\n×(감면대상총급여액\n÷총급여액)×(50%,70%,90%,100%)",{"$f":"L10","v":0},null,"중소기업\n취업자",{"$f":"영수증!AN65","v":214872},0,{"$f":"영수증!S63","v":25200000},0.7,{"$f":"ROUNDDOWN((H10*I10/J10)*K10,0)","v":0},{"$f":"ROUNDDOWN(MAX(0, MIN(영수증!AL71,영수증!AM71))*(1-(감면!I10*감면!K10)/영수증!S63),0)","v":118179}]
[]
[]
[null,null,"감면대상자/취업일","감면율"]
[null,null,"청년 '12~'13년","100%(한도없음). 단 '18년 이후 90%(150만원 한도)"]
[null,null,"청년 '14~'15년","50%(한도없음). 단 '18년 이후 90%(150만원 한도)"]
[null,null,"청년 '16~'17년","70%(한도없음). 단 '18년 이후 90%(150만원 한도)"]
[null,null,"청년 '18~'21년","90%(150만원 한도)"]
[null,null,"60세이상자 장애인 '14~'15년","50%(한도없음)"]
[null,null,"60세이상자 장애인 '16~'21년","70%(150만원 한도)"]
[null,null,"경력단절여성 '17~'21년","70%(150만원 한도)"]

{"sheet":"영수증","index":7,"n_rows":161,"n_cols":46,"rows_kept":161,"cut":false,"hidden":false,"merged":[[46,2,49,5],[95,2,107,5],[114,4,114,11],[115,4,115,11],[118,4,118,11],[120,4,120,11],[122,4,122,11],[124,4,124,11],[126,4,126,11],[125,4,125,11],[50,2,50,20],[49,6,49,20],[77,3,93,7],[71,8,71,17],[71,18,71,24],[78,18,78,24],[92,18,92,24],[89,15,89,17],[92,8,92,17],[83,14,83,17],[119,18,119,19],[119,20,119,21],[120,18,120,19],[120,20,120,21],[4,44,4,45],[5,35,5,37],[6,35,6,40],[7,35,7,40],[9,35,9,37],[9,38,9,39],[9,40,9,43],[9,44,9,45],[3,2,5,6],[3,7,5,11],[3,35,3,37],[4,35,4,37],[4,38,4,39],[4,40,4,43],[8,35,8,40],[17,17,17,27],[17,28,17,35],[17,36,17,45],[18,8,18,16],[18,17,18,45],[13,1,16,7],[14,28,14,35],[14,36,14,45],[15,8,15,16],[15,17,15,27],[15,28,15,35],[15,36,15,45],[16,8,16,16],[16,17,16,45],[17,1,18,7],[17,8,17,16],[10,35,10,37],[11,35,11,38],[11,39,11,45],[13,8,13,16],[13,17,13,27],[13,28,13,35],[13,36,13,45],[14,8,14,16],[14,17,14,27],[19,34,19,37],[19,38,19,39],[19,40,19,43],[19,44,19,45],[20,1,32,1],[20,2,20,16],[20,17,20,21],[20,22,20,27],[20,28,20,33],[20,34,20,39],[19,1,19,16],[19,17,19,19],[19,20,19,21],[19,22,19,24],[19,25,19,27],[19,28,19,33],[22,2,22,16],[22,17,22,21],[22,22,22,27],[22,28,22,33],[22,34,22,39],[22,40,22,45],[20,40,20,45],[21,2,21,16],[26,2,26,16],[26,17,26,21],[26,22,26,27],[26,28,26,33],[26,34,26,39],[26,40,26,45],[25,2,25,16],[25,17,25,21],[25,22,25,27],[25,28,25,33],[25,34,25,39],[25,40,25,45],[21,17,21,21],[21,22,21,27],[21,28,21,33],[21,34,21,39],[21,40,21,45],[24,2,24,16],[24,17,24,21],[24,22,24,27],[24,28,24,33],[24,34,24,39],[24,40,24,45],[23,2,23,16],[23,17,23,21],[23,22,23,27],[23,28,23,33],[23,34,23,39],[23,40,23,45],[29,2,29,16],[29,17,29,21],[29,22,29,27],[29,28,29,33],[29,34,29,39],[29,40,29,45],[28,2,28,16],[28,17,28,21],[28,22,28,27],[28,28,28,33],[28,34,28,39],[28,40,28,45],[27,2,27,16],[27,17,27,21],[27,22,27,27],[27,28,27,33],[27,34,27,39],[27,40,27,45],[32,2,32,16],[32,17,32,21],[32,22,32,27],[32,28,32,33],[32,34,32,39],[32,40,32,45],[31,2,31,16],[31,17,31,21],[31,22,31,27],[31,28,31,33],[31,34,31,39],[31,40,31,45],[30,2,30,16],[30,17,30,21],[30,22,30,27],[30,28,30,33],[30,34,30,39],[30,40,30,45],[33,34,33,39],[33,40,33,45],[34,2,34,13],[34,14,34,16],[34,17,34,21],[34,22,34,27],[34,28,34,33],[34,34,34,39],[34,40,34,45],[33,1,43,1],[33,2,33,13],[33,14,33,16],[33,17,33,21],[33,22,33,27],[33,28,33,33],[35,2,35,13],[35,14,35,16],[35,17,35,21],[35,22,35,27],[35,28,35,33],[43,2,43,16],[43,17,43,21],[43,22,43,27],[43,28,43,33],[42,22,42,27],[42,28,42,33],[37,40,37,45],[38,2,38,13],[38,14,38,16],[38,17,38,21],[38,22,38,27],[38,28,38,33],[38,34,38,39],[38,40,38,45],[37,2,37,13],[37,14,37,16],[37,17,37,21],[37,22,37,27],[37,28,37,33],[37,34,37,39],[35,34,35,39],[35,40,35,45],[36,2,36,13],[36,14,36,16],[36,17,36,21],[36,22,36,27],[36,28,36,33],[36,34,36,39],[36,40,36,45],[40,40,40,45],[41,2,41,13],[41,14,41,16],[41,17,41,21],[41,22,41,27],[41,28,41,33],[41,34,41,39],[41,40,41,45],[40,2,40,13],[40,14,40,16],[40,17,40,21],[40,22,40,27],[40,28,40,33],[40,34,40,39],[39,40,39,45],[62,2,62,17],[39,2,39,13],[39,14,39,16],[39,17,39,21],[39,22,39,27],[39,28,39,33],[39,34,39,39],[49,30,49,36],[49,37,49,45],[46,6,48,9],[46,10,48,11],[46,12,46,20],[46,21,46,29],[46,30,46,36],[46,37,46,45],[47,12,47,20],[47,21,47,29],[47,30,47,36],[47,37,47,45],[43,34,43,39],[43,40,43,45],[42,2,42,16],[42,17,42,21],[42,34,42,39],[42,40,42,45],[44,2,44,20],[65,8,65,17],[44,21,44,29],[44,30,44,36],[44,37,44,45],[45,2,45,20],[45,21,45,29],[45,30,45,36],[45,37,45,45],[48,12,48,20],[48,21,48,29],[48,30,48,36],[65,2,93,2],[83,12,85,13],[70,8,70,17],[77,35,77,38],[81,14,82,17],[81,35,81,38],[76,39,76,45],[74,10,74,17],[74,18,74,24],[74,28,79,29],[50,21,50,29],[50,30,50,36],[50,37,50,45],[51,2,51,20],[51,21,51,29],[51,30,51,36],[51,37,51,45],[63,2,63,17],[54,14,54,36],[54,39,54,44],[55,33,55,38],[57,6,57,13],[59,1,59,45],[62,1,109,1],[71,38,72,38],[62,18,62,24],[62,39,63,45],[71,39,72,45],[108,2,109,17],[108,18,109,24],[108,25,108,38],[108,39,108,45],[44,1,51,1],[48,37,48,45],[49,21,49,29],[65,39,65,45],[66,39,66,45],[69,8,69,12],[69,15,69,16],[67,8,67,13],[67,18,67,24],[67,28,67,38],[68,18,68,24],[68,28,68,38],[63,18,63,24],[64,2,64,17],[64,18,64,24],[66,18,66,24],[66,28,66,38],[65,18,65,24],[64,25,64,35],[62,25,63,35],[65,3,67,7],[68,3,71,7],[68,8,68,13],[70,39,70,45],[70,18,70,24],[64,39,64,45],[72,3,76,7],[72,8,72,17],[72,18,72,24],[73,8,76,9],[73,10,73,17],[73,39,73,45],[71,36,72,36],[70,25,107,27],[71,30,72,34],[71,35,72,35],[73,18,73,24],[98,35,98,38],[106,35,106,38],[79,18,80,24],[70,28,70,36],[77,8,78,9],[86,12,87,13],[73,30,73,34],[71,37,72,37],[80,39,80,45],[79,35,79,38],[77,39,77,45],[78,10,78,17],[78,30,79,34],[67,39,67,45],[68,39,68,45],[66,8,66,17],[69,18,69,24],[69,28,69,38],[69,39,69,45],[65,25,69,27],[65,28,65,38],[74,30,75,34],[74,35,74,38],[74,39,74,45],[75,10,75,17],[75,18,75,24],[75,35,75,38],[75,39,75,45],[71,28,73,29],[78,35,78,38],[78,39,78,45],[76,10,76,17],[76,18,76,24],[76,30,77,34],[76,35,76,38],[77,10,77,17],[77,18,77,24],[79,39,79,45],[92,31,93,34],[92,35,92,38],[92,39,92,45],[93,8,93,17],[93,18,93,24],[89,39,89,45],[90,15,90,17],[90,18,90,24],[90,33,91,34],[90,35,90,38],[90,39,90,45],[91,15,91,17],[91,18,91,24],[91,35,91,38],[83,10,91,11],[85,14,85,17],[85,18,85,24],[85,35,85,38],[85,39,85,45],[86,14,86,17],[79,8,91,9],[79,10,82,13],[79,14,80,17],[87,14,87,17],[81,39,81,45],[82,32,83,34],[82,35,82,38],[82,39,82,45],[84,35,84,38],[99,10,99,17],[84,14,84,17],[84,18,84,24],[84,30,85,34],[88,12,91,13],[88,14,90,14],[88,15,88,17],[88,18,88,24],[93,39,93,45],[94,2,94,17],[94,18,94,24],[94,31,95,34],[94,35,94,38],[94,39,94,45],[95,6,95,17],[95,18,95,24],[95,35,95,38],[88,39,88,45],[84,39,84,45],[98,31,99,34],[98,39,98,45],[81,18,82,24],[97,18,98,24],[99,18,99,24],[99,35,99,38],[83,18,83,24],[83,35,83,38],[83,39,83,45],[80,28,101,29],[80,30,83,31],[80,32,81,34],[80,35,80,38],[86,18,86,24],[86,30,87,34],[86,35,86,38],[88,35,88,38],[93,35,93,38],[86,39,86,45],[87,18,87,24],[87,35,87,38],[87,39,87,45],[89,18,89,24],[99,39,99,45],[109,39,109,45],[91,39,91,45],[101,6,101,17],[101,18,101,24],[101,30,101,37],[101,39,101,45],[102,18,102,24],[102,28,102,38],[102,39,102,45],[103,28,103,38],[96,6,96,17],[96,18,96,24],[96,31,97,34],[96,35,96,38],[96,39,96,45],[97,6,100,9],[97,10,98,17],[97,35,97,38],[97,39,97,45],[95,39,95,45],[88,30,99,30],[89,35,89,38],[88,31,91,32],[88,33,89,34],[159,42,159,45],[153,36,153,41],[148,1,150,3],[151,1,153,3],[154,1,156,3],[157,1,159,3],[148,6,148,11],[148,12,148,17],[153,6,153,11],[153,12,153,17],[153,18,153,23],[153,24,153,29],[154,6,154,11],[154,12,154,17],[154,18,154,23],[154,24,154,29],[154,42,154,45],[159,36,159,41],[159,30,159,35],[148,42,148,45],[153,42,153,45],[154,36,154,41],[154,30,154,35],[159,6,159,11],[159,12,159,17],[159,18,159,23],[159,24,159,29],[143,6,143,11],[148,30,148,35],[148,36,148,41],[153,30,153,35],[136,20,136,21],[137,18,137,19],[137,20,137,21],[136,33,136,34],[136,35,136,36],[140,18,141,23],[140,24,141,29],[142,6,142,11],[142,12,142,17],[142,18,142,23],[142,24,142,29],[140,30,141,35],[140,12,141,17],[148,18,148,23],[148,24,148,29],[136,37,136,39],[136,40,136,41],[139,42,141,45],[142,42,142,45],[147,42,147,45],[131,12,131,14],[131,15,131,17],[139,1,141,3],[147,6,147,11],[147,12,147,17],[140,6,141,11],[136,22,136,24],[137,22,137,24],[131,20,131,21],[132,18,132,19],[132,20,132,21],[133,18,133,19],[136,29,136,30],[136,31,136,32],[147,18,147,23],[147,24,147,29],[142,36,142,41],[147,36,147,41],[131,1,131,3],[136,6,136,11],[136,12,136,17],[135,22,135,24],[131,18,131,19],[131,6,131,11],[142,30,142,35],[147,30,147,35],[140,36,141,41],[142,1,144,3],[145,1,147,3],[139,4,141,5],[133,20,133,21],[135,1,135,3],[135,6,135,11],[135,12,135,14],[135,15,135,17],[134,1,134,3],[134,6,134,11],[134,12,134,17],[134,18,134,19],[134,20,134,21],[135,18,135,19],[135,20,135,21],[133,1,133,3],[136,1,136,3],[137,1,137,3],[137,6,137,11],[137,12,137,14],[137,15,137,17],[136,18,136,19],[132,1,132,3],[132,6,132,11],[132,12,132,17],[133,15,133,17],[133,6,133,11],[133,12,133,14],[130,1,130,3],[138,1,138,45],[139,6,139,41],[130,44,130,45],[131,25,131,26],[131,27,131,28],[131,29,131,30],[131,31,131,32],[131,33,131,34],[131,35,131,36],[131,37,131,39],[131,40,131,41],[131,42,131,43],[131,44,131,45],[130,25,130,26],[130,27,130,28],[130,29,130,30],[130,31,130,32],[130,18,130,19],[130,20,130,21],[130,6,130,11],[130,12,130,17],[130,22,130,24],[131,22,131,24],[116,1,116,11],[116,12,116,17],[118,1,118,3],[118,12,118,17],[117,1,117,9],[117,12,117,14],[126,1,126,3],[124,1,124,3],[124,12,124,17],[125,1,125,3],[125,12,125,14],[120,1,120,3],[122,12,122,17],[120,12,120,17],[121,1,121,3],[117,15,117,17],[119,1,119,3],[119,12,119,14],[119,15,119,17],[121,12,121,14],[121,15,121,17],[122,1,122,3],[123,1,123,3],[123,12,123,14],[114,1,114,3],[114,12,114,17],[105,6,105,17],[105,18,105,24],[102,6,102,17],[115,1,115,3],[115,12,115,14],[115,15,115,17],[103,6,104,17],[111,1,111,45],[103,39,103,45],[106,6,106,17],[104,28,104,38],[106,18,106,24],[115,33,115,34],[114,25,114,32],[115,35,115,36],[115,37,115,39],[114,33,114,41],[107,6,107,17],[107,18,107,24],[107,28,107,38],[107,39,107,45],[109,25,109,38],[100,10,100,17],[100,18,100,24],[100,30,100,38],[100,39,100,45],[104,39,104,45],[105,28,106,34],[105,35,105,38],[105,39,105,45],[106,39,106,45],[103,18,104,24],[124,18,124,19],[124,20,124,21],[125,18,125,19],[114,18,114,19],[114,20,114,21],[115,18,115,19],[115,20,115,21],[116,18,116,19],[116,20,116,21],[117,18,117,19],[117,20,117,21],[118,18,118,19],[118,20,118,21],[121,18,121,19],[121,20,121,21],[122,18,122,19],[122,20,122,21],[123,20,123,21],[123,18,123,19],[125,20,125,21],[129,1,129,3],[128,1,128,3],[126,12,126,17],[129,6,129,11],[129,12,129,14],[127,15,127,17],[127,1,127,3],[127,12,127,14],[129,15,129,17],[128,6,128,11],[128,12,128,17],[127,4,127,11],[126,18,126,19],[126,20,126,21],[127,18,127,19],[127,20,127,21],[128,18,128,19],[128,20,128,21],[134,22,134,24],[113,1,113,21],[113,22,113,45],[115,44,115,45],[115,42,115,43],[115,40,115,41],[114,42,114,45],[115,25,115,26],[115,27,115,28],[115,29,115,30],[115,31,115,32],[114,22,115,24],[116,22,116,24],[117,22,117,24],[118,22,118,24],[119,22,119,24],[120,22,120,24],[121,22,121,24],[117,42,117,43],[117,44,117,45],[123,15,123,17],[125,15,125,17],[129,18,129,19],[129,20,129,21],[116,42,116,43],[116,44,116,45],[116,37,116,39],[116,25,116,26],[116,27,116,28],[118,44,118,45],[119,44,119,45],[118,27,118,28],[118,29,118,30],[118,31,118,32],[118,33,118,34],[118,35,118,36],[118,37,118,39],[118,40,118,41],[118,42,118,43],[120,44,120,45],[121,25,121,26],[121,27,121,28],[132,22,132,24],[133,22,133,24],[128,22,128,24],[122,22,122,24],[123,22,123,24],[125,22,125,24],[126,22,126,24],[124,22,124,24],[127,22,127,24],[129,22,129,24],[132,42,132,43],[117,25,117,26],[117,27,117,28],[116,29,116,30],[117,29,117,30],[117,31,117,32],[117,33,117,34],[117,35,117,36],[117,37,117,39],[117,40,117,41],[116,31,116,32],[116,33,116,34],[116,35,116,36],[116,40,116,41],[119,25,119,26],[119,27,119,28],[119,29,119,30],[119,31,119,32],[119,33,119,34],[119,35,119,36],[119,37,119,39],[119,40,119,41],[119,42,119,43],[118,25,118,26],[121,29,121,30],[121,31,121,32],[121,33,121,34],[121,35,121,36],[121,37,121,39],[121,40,121,41],[121,42,121,43],[121,44,121,45],[120,25,120,26],[120,27,120,28],[120,29,120,30],[120,31,120,32],[120,33,120,34],[120,35,120,36],[120,37,120,39],[120,40,120,41],[120,42,120,43],[122,44,122,45],[123,25,123,26],[123,27,123,28],[123,29,123,30],[123,31,123,32],[123,33,123,34],[123,35,123,36],[123,37,123,39],[123,40,123,41],[123,42,123,43],[123,44,123,45],[122,25,122,26],[122,27,122,28],[122,29,122,30],[122,31,122,32],[122,33,122,34],[122,35,122,36],[122,37,122,39],[122,40,122,41],[122,42,122,43],[124,44,124,45],[125,25,125,26],[125,27,125,28],[125,29,125,30],[125,31,125,32],[125,33,125,34],[125,35,125,36],[125,37,125,39],[125,40,125,41],[125,42,125,43],[125,44,125,45],[124,25,124,26],[124,27,124,28],[124,29,124,30],[124,31,124,32],[124,33,124,34],[124,35,124,36],[124,37,124,39],[124,40,124,41],[124,42,124,43],[126,44,126,45],[127,25,127,26],[127,27,127,28],[127,29,127,30],[127,31,127,32],[127,33,127,34],[127,35,127,36],[127,37,127,39],[127,40,127,41],[127,42,127,43],[127,44,127,45],[126,25,126,26],[126,27,126,28],[126,29,126,30],[126,31,126,32],[126,33,126,34],[126,35,126,36],[126,37,126,39],[126,40,126,41],[126,42,126,43],[128,44,128,45],[129,25,129,26],[129,27,129,28],[129,29,129,30],[129,31,129,32],[129,33,129,34],[129,35,129,36],[129,37,129,39],[129,40,129,41],[129,42,129,43],[129,44,129,45],[128,25,128,26],[128,27,128,28],[128,29,128,30],[128,31,128,32],[128,33,128,34],[128,35,128,36],[128,37,128,39],[128,40,128,41],[128,42,128,43],[130,33,130,34],[130,35,130,36],[130,37,130,39],[130,40,130,41],[130,42,130,43],[132,44,132,45],[133,25,133,26],[133,27,133,28],[133,29,133,30],[133,31,133,32],[133,33,133,34],[133,35,133,36],[133,37,133,39],[133,40,133,41],[133,42,133,43],[133,44,133,45],[132,25,132,26],[132,27,132,28],[132,29,132,30],[132,31,132,32],[132,33,132,34],[132,35,132,36],[132,37,132,39],[132,40,132,41],[134,44,134,45],[135,25,135,26],[135,27,135,28],[135,29,135,30],[135,31,135,32],[135,33,135,34],[135,35,135,36],[135,37,135,39],[135,40,135,41],[135,42,135,43],[135,44,135,45],[134,25,134,26],[134,27,134,28],[134,29,134,30],[134,31,134,32],[134,33,134,34],[134,35,134,36],[134,37,134,39],[134,40,134,41],[134,42,134,43],[136,42,136,43],[136,44,136,45],[137,25,137,26],[137,27,137,28],[137,29,137,30],[137,31,137,32],[137,33,137,34],[137,35,137,36],[137,37,137,39],[137,40,137,41],[137,42,137,43],[137,44,137,45],[136,25,136,26],[136,27,136,28]]}
[]
[null,"■ 소득세법 시행규칙 [별지 제24호서식(1)] <2021. 03. 16. 개정>",null,null,null,null,null,null,null,null,null,null,null,null,null,null,null,null,null,null,null,null,null,null,null,null,null,null,null,null,null,null,null,null,null,null,null,null,null,null,null,null,null,null,null,"(제1쪽)"]
[]
[null,null,"관리\n번호",null,null,null,null,null,null,null,null,null,null,null,null,null,null,null,null,null,null,null,null,null,null,null,null,null,null,null,null,null,null,null,null,"거주구분",null,null,null,"거주자1",null,null,null,"비거주자2"]
[null,null,null,null,null,null,null,null,null,null,null,null,null,null,null,null,null,null,null,"근로소득 원천징수영수증",null,null,null,null,null,null,null,null,null,null,null,null,null,null,null,"거주지국",null,null,{"$f":"신고서!AJ10","v":"한국"},null,"거주지국코드",null,null,null,{"$f":"신고서!AS10","v":"KR"}]
[null,null,null,null,null,null,null,null,null,null,null,null,null,null,null,null,null,null,null,"근 로 소 득 지 급 명 세 서",null,null,null,null,null,null,null,null,null,null,null,null,null,null,null,"내외국인",null,null,true,"내국인1",null,null,{"$f":"IF(#REF!=9,TRUE,FALSE)","v":{"$error":"#REF!"}},"외국인9"]
[null,null,null,null,null,null,null,null,null,null,null,null,null,null,null,null,null,null,null,null,null,null,null,null,null,null,null,null,null,null,null,null,null,null,null,"외국인단일세율적용",null,null,null,null,null,false,"여1",true,"부2"]
[null,null,null,null,null,null,null,null,null,null,null,null,null,null,null,"(",null," 소득자보관용",null,null,null,null,"발행자보관용",null,null,null,null,null,"발행자보고용)",null,null,null,null,null,null,"외국법인소속파견근로자여부",null,null,null,null,null,false,"여1",true,"부2"]
[null,null,null,null,null,null,null,null,null,null,null,null,null,null,null,null,null,null,null,null,null,null,null,null,null,null,null,null,null,null,null,null,null,null,null,"종교관련종사자 여부",null,null,null,null,null,false,"여1",true,"부2"]
[null,null,null,null,null,null,null,null,null,null,null,null,null,null,null,null,null,null,null,null,null,null,null,null,null,null,null,null,null,null,null,null,null,null,null,"국적",null,null,{"$f":"신고서!AJ7","v":"한국"},null,"국적코드",null,null,null,{"$f":"신고서!AS7","v":"KR"}]
[null,null,null,null,null,null,null,null,null,null,null,null,null,null,null,null,null,null,null,null,null,null,null,null,null,null,null,null,null,null,null,null,null,null,null,"세대주여부",null,null,null,"세대주1",null,null,null,"  세대원2"]
[null,null,null,null,null,null,null,null,null,null,null,null,null,null,null,null,null,null,null,null,null,null,null,null,null,null,null,null,null,null,null,null,null,null,null,"연말정산구분",null,null,null,"계속근로1, 중도퇴사2"]
[]
[null,"징수\n의무자",null,null,null,null,null,null,"(1) 법 인 명 (상 호)",null,null,null,null,null,null,null,null,{"$f":"기본사항!$G$14","v":"(주)조세통람"},null,null,null,null,null,null,null,null,null,null,"(2) 대 표 자(성명)",null,null,null,null,null,null,null,{"$f":"기본사항!$G$15","v":"김철수"}]
[null,null,null,null,null,null,null,null,"(3) 사업자등록번호",null,null,null,null,null,null,null,null,{"$f":"기본사항!$G$16","v":"203-81-11111"},null,null,null,null,null,null,null,null,null,null,"(4) 주 민 등 록 번 호",null,null,null,null,null,null,null,{"$f":"기본사항!$G$17","v":"123456-1234567"}]
[null,null,null,null,null,null,null,null,"(3)-1 사업자단위과세자 여부",null,null,null,null,null,null,null,null,"여1   /      부1",null,null,null,null,null,false,null,null,null,null,"(3)-2 종사업장 일련번호"]
[null,null,null,null,null,null,null,null,"(5) 소 재 지 (주 소)",null,null,null,null,null,null,null,null,{"$f":"기본사항!$G$18","v":"서울 중구 동호로14길 5-6"},null,null,null,null,null,true]
[null,"소득자",null,null,null,null,null,null,"(6) 성      명",null,null,null,null,null,null,null,null,{"$f":"기본사항!$G$7","v":"이영화"},null,null,null,null,null,null,null,null,null,null,"(7) 주 민 등 록 번 호",null,null,null,null,null,null,null,{"$f":"기본사항!$G$8","v":"123456-1234567"}]
[null,null,null,null,null,null,null,null,"(8) 주      소",null,null,null,null,null,null,null,null,{"$f":"기본사항!$G$9","v":"서울 중구 다산로11길 25"}]
[]
[null,"Ⅰ 근무처별소득명세","구   분",null,null,null,null,null,null,null,null,null,null,null,null,null,null,"주(현)",null,null,null,null,"종(전)",null,null,null,null,null,"종(전)",null,null,null,null,null,"(16)-1납세조합",null,null,null,null,null,"합 계"]
[null,null,"(9) 근  무  처  명",null,null,null,null,null,null,null,null,null,null,null,null,null,null,{"$f":"R14","v":"(주)조세통람"},null,null,null,null,{"$f":"급여내역!M22","v":"㈜우인"},null,null,null,null,null,{"$f":"급여내역!M29","v":0},null,null,null,null,null,{"$f":"급여내역!M36","v":0}]
[null,null,"(10) 사업자등록번호",null,null,null,null,null,null,null,null,null,null,null,null,null,null,{"$f":"R15","v":"203-81-11111"},null,null,null,null,{"$f":"급여내역!AI22","v":"101-81-22222"},null,null,null,null,null,{"$f":"급여내역!AI29","v":0},null,null,null,null,null,{"$f":"급여내역!AI36","v":0}]
[null,null,"(11) 근무기간",null,null,null,null,null,null,null,null,null,null,null,null,null,null,{"$f":"TEXT(급여내역!BG4,\"yy/mm/dd\")&\"~\"&TEXT(급여내역!BO4,\"yy/mm/dd\")","v":"21/01/01~21/12/31"},null,null,null,null,{"$f":"IF(급여내역!BG22=\"\",\"\",TEXT(급여내역!BG22,\"yy/mm/dd\")&\"~\"&TEXT(급여내역!BO22,\"yy/mm/dd\"))","v":""},null,null,null,null,null,{"$f":"IF(급여내역!BG29=\"\",\"\",TEXT(급여내역!BG29,\"yy/mm/dd\")&\"~\"&TEXT(급여내역!BO29,\"yy/mm/dd\"))","v":""},null,null,null,null,null,{"$f":"IF(급여내역!BG36=\"\",\"\",TEXT(급여내역!BG36,\"yy/mm/dd\")&\"~\"&TEXT(급여내역!BO36,\"yy/mm/dd\"))","v":""},null,null,null,null,null,"~"]
[null,null,"(12) 감면기간",null,null,null,null,null,null,null,null,null,null,null,null,null,null,"~",null,null,null,null,"~",null,null,null,null,null,"~",null,null,null,null,null,"~",null,null,null,null,null,"~"]
[null,null,"(13) 급          여",null,null,null,null,null,null,null,null,null,null,null,null,null,null,{"$f":"급여내역!H20","v":25200000},null,null,null,null,{"$f":"급여내역!H26","v":0},null,null,null,null,null,{"$f":"급여내역!H33","v":0},null,null,null,null,null,{"$f":"급여내역!H40","v":0},null,null,null,null,null,{"$f":"SUM(R26:AN26)","v":25200000}]
[null,null,"(14) 상          여",null,null,null,null,null,null,null,null,null,null,null,null,null,null,{"$f":"급여내역!M20","v":0},null,null,null,null,{"$f":"급여내역!M26","v":0},null,null,null,null,null,{"$f":"급여내역!M33","v":0},null,null,null,null,null,{"$f":"급여내역!M40","v":0},null,null,null,null,null,0]
[null,null,"(15) 인  정  상  여",null,null,null,null,null,null,null,null,null,null,null,null,null,null,{"$f":"급여내역!Q20","v":0},null,null,null,null,{"$f":"급여내역!Q26","v":0},null,null,null,null,null,{"$f":"급여내역!Q33","v":0},null,null,null,null,null,{"$f":"급여내역!Q40","v":0},null,null,null,null,null,0]
[null,null,"(15)-1 주식매수선택권 행사이익",null,null,null,null,null,null,null,null,null,null,null,null,null,null,{"$f":"급여내역!U20","v":0},null,null,null,null,{"$f":"급여내역!U26","v":0},null,null,null,null,null,{"$f":"급여내역!U33","v":0},null,null,null,null,null,{"$f":"급여내역!U40","v":0},null,null,null,null,null,0]
[null,null,"(15)-2 우리사주조합인출금",null,null,null,null,null,null,null,null,null,null,null,null,null,null,{"$f":"급여내역!V20","v":0},null,null,null,null,{"$f":"급여내역!V26","v":0},null,null,null,null,null,{"$f":"급여내역!V33","v":0},null,null,null,null,null,{"$f":"급여내역!V40","v":0},null,null,null,null,null,0]
[null,null,"(15)-3 임원 퇴직소득금액 한도초과액",null,null,null,null,null,null,null,null,null,null,null,null,null,null,{"$f":"급여내역!W20","v":0},null,null,null,null,{"$f":"급여내역!W26","v":0},null,null,null,null,null,{"$f":"급여내역!W33","v":0},null,null,null,null,null,{"$f":"급여내역!W40","v":0},null,null,null,null,null,0]
[null,null,"(15)-4 직무발명보상금",null,null,null,null,null,null,null,null,null,null,null,null,null,null,{"$f":"급여내역!X20","v":0},null,null,null,null,{"$f":"급여내역!X26","v":0},null,null,null,null,null,{"$f":"급여내역!X33","v":0},null,null,null,null,null,{"$f":"급여내역!X40","v":0},null,null,null,null,null,0]
[null,null,"(16) 계",null,null,null,null,null,null,null,null,null,null,null,null,null,null,{"$f":"SUM(R26:V32)","v":25200000},null,null,null,null,{"$f":"SUM(W26:AB32)","v":0},null,null,null,null,null,{"$f":"SUM(AC26:AH32)","v":0},null,null,null,null,null,{"$f":"SUM(AI26:AN32)","v":0},null,null,null,null,null,{"$f":"SUM(AO26:AT32)","v":25200000}]
[null,"Ⅱ 비과세및감면소득명세","(18) 국외근로",null,null,null,null,null,null,null,null,null,null,null,"M0X",null,null,{"$f":"급여내역!BB20","v":0},null,null,null,null,{"$f":"급여내역!BB26","v":0},null,null,null,null,null,{"$f":"급여내역!BB33","v":0},null,null,null,null,null,{"$f":"급여내역!BB40","v":0},null,null,null,null,null,{"$f":"SUM(R34:AN34)","v":0}]
[null,null,"(18)-1 야간근로수당",null,null,null,null,null,null,null,null,null,null,null,"O0X",null,null,{"$f":"급여내역!BK20","v":0},null,null,null,null,{"$f":"급여내역!BK26","v":0},null,null,null,null,null,{"$f":"급여내역!BK33","v":0},null,null,null,null,null,{"$f":"급여내역!BK40","v":0},null,null,null,null,null,{"$f":"SUM(R35:AN35)","v":0}]
[null,null,"(18)-2 출산.보육수당",null,null,null,null,null,null,null,null,null,null,null,"Q0X",null,null,{"$f":"급여내역!BO20","v":0},null,null,null,null,{"$f":"급여내역!BO26","v":0},null,null,null,null,null,{"$f":"급여내역!BO33","v":0},null,null,null,null,null,{"$f":"급여내역!BO40","v":0},null,null,null,null,null,{"$f":"SUM(R36:AN36)","v":0}]
[null,null,"(18)-4 연구보조비",null,null,null,null,null,null,null,null,null,null,null,"H0X",null,null,{"$f":"급여내역!BF20","v":0},null,null,null,null,{"$f":"급여내역!BF26","v":0},null,null,null,null,null,{"$f":"급여내역!BF33","v":0},null,null,null,null,null,{"$f":"급여내역!BF40","v":0},null,null,null,null,null,0]
[null,null,"(18)-5",null,null,null,null,null,null,null,null,null,null,null,null,null,null,null,null,null,null,null,null,null,null,null,null,null,null,null,null,null,null,null,null,null,null,null,null,null,0]
[null,null,"(18)-6 ",null,null,null,null,null,null,null,null,null,null,null,null,null,null,null,null,null,null,null,null,null,null,null,null,null,null,null,null,null,null,null,null,null,null,null,null,null,0]
[null,null," ~ ",null,null,null,null,null,null,null,null,null,null,null,null,null,null,null,null,null,null,null,null,null,null,null,null,null,null,null,null,null,null,null,null,null,null,null,null,null,0]
[null,null,"(18)-34",null,null,null,null,null,null,null,null,null,null,null,null,null,null,null,null,null,null,null,null,null,null,null,null,null,null,null,null,null,null,null,null,null,null,null,null,null,{"$f":"SUM(R41:AN41)","v":0}]
[null,null,"(19) 수련보조수당",null,null,null,null,null,null,null,null,null,null,null,"Y22",null,null,null,null,null,null,null,null,null,null,null,null,null,null,null,null,null,null,null,null,null,null,null,null,null,0]
[null,null,"(20) 비과세소득 계",null,null,null,null,null,null,null,null,null,null,null,null,null,null,{"$f":"SUM(R34:V42)","v":0},null,null,null,null,{"$f":"SUM(W34:AB42)","v":0},null,null,null,null,null,{"$f":"SUM(AC34:AH42)","v":0},null,null,null,null,null,{"$f":"SUM(AI34:AN42)","v":0},null,null,null,null,null,{"$f":"SUM(R43:AN43)","v":0}]
[null,null,"(20)-1 감면소득 계"]
[null,"Ⅲ 세액명세","구       분",null,null,null,null,null,null,null,null,null,null,null,null,null,null,null,null,null,null,"(78) 소 득 세",null,null,null,null,null,null,null,null,"(79) 지 방 소 득 세",null,null,null,null,null,null,"(80) 농 어 촌 특 별 세"]
[null,null,"(72)   결   정   세   액",null,null,null,null,null,null,null,null,null,null,null,null,null,null,null,null,null,null,{"$f":"AN109","v":0},null,null,null,null,null,null,null,null,{"$f":"ROUNDDOWN(V46*0.1,0)","v":0},null,null,null,null,null,null,{"$f":"ROUNDDOWN(AN104*0.2,0)","v":0}]
[null,null,"기납부세액",null,null,null,"(73)종(전)근무지(결정세액란의 세액기재)",null,null,null,"사업자등록번호",null,{"$f":"급여내역!AI22","v":"101-81-22222"},null,null,null,null,null,null,null,null,{"$f":"급여내역!AL26","v":0},null,null,null,null,null,null,null,null,{"$f":"급여내역!AP26","v":0},null,null,null,null,null,null,{"$f":"급여내역!AT26","v":0}]
[null,null,null,null,null,null,null,null,null,null,null,null,{"$f":"급여내역!AI29","v":0},null,null,null,null,null,null,null,null,{"$f":"급여내역!AL33","v":0},null,null,null,null,null,null,null,null,{"$f":"급여내역!AP33","v":0},null,null,null,null,null,null,{"$f":"급여내역!AT33","v":0}]
[null,null,null,null,null,null,null,null,null,null,null,null,{"$f":"급여내역!AI36","v":0},null,null,null,null,null,null,null,null,{"$f":"급여내역!AL40","v":0},null,null,null,null,null,null,null,null,{"$f":"급여내역!AP40","v":0},null,null,null,null,null,null,{"$f":"급여내역!AT40","v":0}]
[null,null,null,null,null,null,"(74)주(현)근무지",null,null,null,null,null,null,null,null,null,null,null,null,null,null,{"$f":"급여내역!AL20","v":272880},null,null,null,null,null,null,null,null,{"$f":"급여내역!AP20","v":24970},null,null,null,null,null,null,{"$f":"급여내역!AT20","v":0}]
[null,null,"(75) 납부특례세액"]
[null,null,"(76)차감징수세액((72)-(73)-(74)-(75))",null,null,null,null,null,null,null,null,null,null,null,null,null,null,null,null,null,null,{"$f":"IF(ROUNDDOWN(V46-V47-V48-V49-V50-V51,-1)<0,ROUNDDOWN(V46-V47-V48-V49-V50-V51,-1),IF(ROUNDDOWN(V46-V47-V48-V49-V50-V51,-1)>=1000,ROUNDDOWN(V46-V47-V48-V49-V50-V51,-1),0))","v":-272880},null,null,null,null,null,null,null,null,{"$f":"IF(ROUNDDOWN(AE46-AE47-AE48-AE49-AE50-AE51,-1)<0,ROUNDDOWN(AE46-AE47-AE48-AE49-AE50-AE51,-1),IF(ROUNDDOWN(AE46-AE47-AE48-AE49-AE50-AE51,-1)>=1000,ROUNDDOWN(AE46-AE47-AE48-AE49-AE50-AE51,-1),0))","v":-24970},null,null,null,null,null,null,{"$f":"IF(ROUNDDOWN(AL46-AL47-AL48-AL49-AL50-AL51,-1)<0,ROUNDDOWN(AL46-AL47-AL48-AL49-AL50-AL51,-1),IF(ROUNDDOWN(AL46-AL47-AL48-AL49-AL50-AL51,-1)>=1000,ROUNDDOWN(AL46-AL47-AL48-AL49-AL50-AL51,-1),0))","v":0}]
[null,null,null,null,null,null,null,null,null,null,null,null,"위의 원천징수액(근로소득)을 정히 영수(지급)합니다"]
[]
[null,null,null,null,null,null,null,null,null,null,null,null,null,null,{"$f":"기본사항!G19","v":"2022-03-02"}]
[null,null,null,null,null,null,null,null,null,null,null,null,null,null,null,null,null,null,null,null,null,null,null,null,null,"징수(보고)의무자",null,null,null,null,null,null,null,{"$f":"기본사항!G15","v":"김철수"},null,null,null,null,null,null,null,null,null,null,"(서명 또는 인)"]
[]
[null,null,null,null,null,null,{"$f":"기본사항!G20","v":"중부세무서장"},null,null,null,null,null,null,null,"귀하"]
[]
[]
[null,null,null,null,null,null,null,null,null,null,null,null,null,null,null,null,null,null,null,null,null,null,null,null,null,null,null,null,null,null,null,null,null,null,null,null,null,null,null,null,null,null,null,null,null,"210㎜×297㎜"]
[null,null,null,null,null,null,null,null,null,null,null,null,null,null,null,null,null,null,null,null,null,null,null,null,null,null,null,null,null,null,null,null,null,null,null,null,null,null,null,null,null,null,null,null,null,"(제2쪽)"]
[null,"Ⅳ    정      산       명       세","(21)  총 급 여 ((16), 다만 외국인단일세율 적용시에는 연간 근로소득)",null,null,null,null,null,null,null,null,null,null,null,null,null,null,null,{"$f":"AO33","v":25200000},null,null,null,null,null,null,"(48) 종합소득과세표준",null,null,null,null,null,null,null,null,null,null,null,null,null,{"$f":"S95-S108+S109","v":3581200}]
[null,null,"(22)  근 로 소 득 공 제",null,null,null,null,null,null,null,null,null,null,null,null,null,null,null,{"$f":"ROUNDDOWN(IF(S63>100000000,(S63*0.02+12750000),IF(S63>45000000,(S63*0.05+9750000),IF(S63>15000000,(S63*0.15+5250000),IF(S63>5000000,(S63*0.4+1500000),IF(S63>0,(S63*0.7)))))),0)","v":9030000}]
[null,null,"(23)  근 로 소 득 금 액",null,null,null,null,null,null,null,null,null,null,null,null,null,null,null,{"$f":"S63-S64","v":16170000},null,null,null,null,null,null,"(49)  산     출     세     액",null,null,null,null,null,null,null,null,null,null,null,null,null,{"$f":"ROUNDDOWN(IF(AN63>1000000000,(AN63*0.45-65400000),IF(AN63>500000000,(AN63*0.42-35400000),IF(AN63>300000000,(AN63*0.4-25400000),IF(AN63>150000000,(AN63*0.38-19400000),IF(AN63>88000000,(AN63*0.35-14900000),IF(AN63>46000000,(AN63*0.24-5220000),IF(AN63>12000000,(AN63*0.15-1080000),IF(AN63>0,(AN63*0.06))))))))),0)","v":214872}]
[null,null,"종합소득공제","기   본   공   제",null,null,null,null,"(24) 본인",null,null,null,null,null,null,null,null,null,{"$f":"MIN(IF(인적공제!E7=\"\",\"\",1500000),S65)","v":1500000},null,null,null,null,null,null,"세   액   감   면",null,null,"(50) 소  득  세  법",null,null,null,null,null,null,null,null,null,null,0]
[null,null,null,null,null,null,null,null,"(25) 배우자",null,null,null,null,null,null,null,null,null,{"$f":"MIN(IF(인적공제!N8=0,0,1500000),MAX(S65-S66,0))","v":1500000},null,null,null,null,null,null,null,null,null,"(51) 조세특례제한법((52) 제외)",null,null,null,null,null,null,null,null,null,null,0]
[null,null,null,null,null,null,null,null,"(26) 부양가족     (",null,null,null,null,null,{"$f":"인적공제!G17-인적공제!G7-인적공제!N8","v":3},")","명",null,{"$f":"MIN((O68*1500000),MAX(S65-SUM(S66:Y67)))","v":4500000},null,null,null,null,null,null,null,null,null,"(52) 조세특례제한법 제30조",null,null,null,null,null,null,null,null,null,null,{"$f":"IF(감면!E10=\"\",0,MIN(감면!E10,MAX((AN65-SUM(AN66:AT67)),0)))","v":0}]
[null,null,null,"추   가   공   제",null,null,null,null,"(27) 경로우대     (",null,null,null,null,null,{"$f":"인적공제!M17","v":1},")","명",null,{"$f":"MIN(O69*1000000,MAX(S65-SUM(S66:Y68),0))","v":1000000},null,null,null,null,null,null,null,null,null,"(53)  조  세  조  약",null,null,null,null,null,null,null,null,null,null,0]
[null,null,null,null,null,null,null,null,"(28) 장애인     (",null,null,null,null,{"$f":"인적공제!K17","v":0},")","명",null,null,{"$f":"MIN(N70*2000000,MAX(S65-SUM(S66:Y69),0))","v":0},null,null,null,null,null,null,null,null,null,"(54)  세 액 감 면 계",null,null,null,null,null,null,null,null,null,null,{"$f":"SUM(AN66:AT69)","v":0}]
[null,null,null,null,null,null,null,null,"(29) 부녀자",null,null,null,null,null,null,null,null,null,{"$f":"IF(S65<=30000000,MIN(IF(인적공제!O8=1,500000,0),MAX(S65-SUM(S66:Y70),0)),0)","v":0},null,null,null,null,null,null,"세   액   공   제",null,null,"(55)  근로소득",null,null,null,null,null,null,null,null,{"$f":"ROUNDDOWN(IF(AN65>1300000,(AN65*0.3+325000),AN65*0.55),0)","v":118179},{"$f":"ROUNDDOWN(IF(S63>70000000,MAX(500000,(660000-(S63-70000000)*0.5)),IF(S63>33000000,MAX(660000,(740000-(S63-33000000)*0.008)),740000)),0)","v":740000},{"$f":"IF(AN68>0,감면!M10,MIN(MIN(AL71,AM71),MAX((AN65-AN70),0)))","v":118179}]
[null,null,null,null,null,null,null,null,"(30) 한 부 모 가 족",null,null,null,null,null,null,null,null,null,{"$f":"MIN(IF(인적공제!O9=1,1000000,0),MAX(S65-SUM(S66:Y71),0))","v":0},null,null,null,null,null,null,null,null,null,"(56)  자녀",null,"공제대상자녀",null,null,null,null,"(",{"$f":"인적공제!O7","v":0},")","명",{"$f":"MIN(IF(AK72=1,150000,IF(AK72=2,300000,IF(AK72>2,((AK72-2)*300000+300000),0))),MAX((AN65-AN70-AN71),0))","v":0}]
[null,null,null,"연\n금\n보\n험\n료\n공\n제",null,null,null,null,"(31) 국민연금보험료",null,null,null,null,null,null,null,null,null,{"$f":"MIN(신고서!AR90+신고서!AR91,MAX(S65-SUM(S66:Y72),0))","v":1134000}]
[null,null,null,null,null,null,null,null,"(32)\n공적\n연금\n보험료공제",null,"㉮공무원연금",null,null,null,null,null,null,null,{"$f":"MIN(신고서!AR92+신고서!AR93,MAX(S65-SUM(S66:Y73),0))","v":300000},null,null,null,null,null,null,null,null,null,null,null,"출산·입양자 ",null,null,null,null,"(",{"$f":"인적공제!I17","v":1},")","명",{"$f":"IF(AK74>=1,인적공제!J17*100000,0)","v":700000}]
[null,null,null,null,null,null,null,null,null,null,"㉯군인연금",null,null,null,null,null,null,null,null,null,null,null,null,null,null,null,null,null,"연금\n계좌",null,"(57)「과학기술인공제회법」       에 따른 퇴직연금",null,null,null,null,"공제대상금액",null,null,null,{"$f":"신고서!AL151","v":0}]
[null,null,null,null,null,null,null,null,null,null,"㉰사립학교교직원연금",null,null,null,null,null,null,null,null,null,null,null,null,null,null,null,null,null,null,null,null,null,null,null,null,"세액공제액",null,null,null,{"$f":"IF(S63<=55000000,ROUNDDOWN(AN75*0.15,0),ROUNDDOWN(AN75*0.12,0))","v":0}]
[null,null,null,null,null,null,null,null,null,null,"㉱별정우체국연금",null,null,null,null,null,null,null,null,null,null,null,null,null,null,null,null,null,null,null,"(58)「근로자퇴직급여 보장법」에 따른 퇴직연금",null,null,null,null,"공제대상금액",null,null,null,{"$f":"신고서!AL152","v":0}]
[null,null,null,"특   별  소  득   공   제",null,null,null,null,"(33)\n보험료",null,"㉮건강보험료\n(노인장기요양보험료포함)",null,null,null,null,null,null,null,{"$f":"MIN(신고서!AR95+신고서!AR96,MAX(S65-SUM(S66:Y77),0))","v":933200},null,null,null,null,null,null,null,null,null,null,null,null,null,null,null,null,"세액공제액",null,null,null,{"$f":"IF(S63<=55000000,ROUNDDOWN(AN77*0.15,0),ROUNDDOWN(AN77*0.12,0))","v":0}]
[null,null,null,null,null,null,null,null,null,null,"㉯고용보험료",null,null,null,null,null,null,null,{"$f":"MIN(신고서!AR97+신고서!AR98,MAX(S65-SUM(S66:Y78),0))","v":201600},null,null,null,null,null,null,null,null,null,null,null,"(59)연금저축",null,null,null,null,"공제대상금액",null,null,null,{"$f":"신고서!AL153","v":0}]
[null,null,null,null,null,null,null,null,"(34)\n주택\n자금",null,"㉮주택임차차입금원리금상환액",null,null,null,"대출기관",null,null,null,{"$f":"MIN(신고서!AR100,MAX(S65-SUM(S66:Y79),0))","v":1520000},null,null,null,null,null,null,null,null,null,null,null,null,null,null,null,null,"세액공제액",null,null,null,{"$f":"IF(S63<=55000000,ROUNDDOWN(AN79*0.15,0),ROUNDDOWN(AN79*0.12,0))","v":0}]
[null,null,null,null,null,null,null,null,null,null,null,null,null,null,null,null,null,null,null,null,null,null,null,null,null,null,null,null,"특별세액공제",null,"(60)\n보험료",null,"보장성",null,null,"공제대상금액",null,null,null,{"$f":"신고서!AL155","v":0}]
[null,null,null,null,null,null,null,null,null,null,null,null,null,null,"거주자",null,null,null,{"$f":"MIN(신고서!AR101,MAX(S65-SUM(S66:Y80),0))","v":0},null,null,null,null,null,null,null,null,null,null,null,null,null,null,null,null,"세액공제액",null,null,null,{"$f":"신고서!AT155","v":0}]
[null,null,null,null,null,null,null,null,null,null,null,null,null,null,null,null,null,null,null,null,null,null,null,null,null,null,null,null,null,null,null,null,"장애인\n전용\n보장성",null,null,"공제대상금액",null,null,null,{"$f":"신고서!AL156","v":0}]
[null,null,null,null,null,null,null,null,null,null,"㉯\n장기\n주택\n저당\n차입금\n이자\n상환액",null,"2011년이전차입분",null,"15년미만",null,null,null,{"$f":"MIN(신고서!AR102,MAX(S65-SUM(S66:Y83),0))","v":0},null,null,null,null,null,null,null,null,null,null,null,null,null,null,null,null,"세액공제액",null,null,null,{"$f":"신고서!AT156","v":0}]
[null,null,null,null,null,null,null,null,null,null,null,null,null,null,"15년~29년",null,null,null,{"$f":"MIN(신고서!AR103,MAX(S65-SUM(S66:Y84),0))","v":0},null,null,null,null,null,null,null,null,null,null,null,"(61)의료비",null,null,null,null,"공제대상금액",null,null,null,{"$f":"신고서!AL162","v":0}]
[null,null,null,null,null,null,null,null,null,null,null,null,null,null,"30년이상",null,null,null,{"$f":"MIN(신고서!AR104,MAX(S65-SUM(S66:Y85),0))","v":0},null,null,null,null,null,null,null,null,null,null,null,null,null,null,null,null,"세액공제액",null,null,null,{"$f":"신고서!AT162","v":0}]
[null,null,null,null,null,null,null,null,null,null,null,null,"2012년이후차입분(15년이상)",null,"고정금리이거나 \n비거치상환대출",null,null,null,{"$f":"MIN(신고서!AR105,MAX(S65-SUM(S66:Y86),0))","v":0},null,null,null,null,null,null,null,null,null,null,null,"(62)교육비",null,null,null,null,"공제대상금액",null,null,null,{"$f":"신고서!AL169","v":0}]
[null,null,null,null,null,null,null,null,null,null,null,null,null,null,"그 밖의 대출",null,null,null,{"$f":"MIN(신고서!AR106,MAX(S65-SUM(S66:Y87),0))","v":0},null,null,null,null,null,null,null,null,null,null,null,null,null,null,null,null,"세액공제액",null,null,null,{"$f":"신고서!AT169","v":0}]
[null,null,null,null,null,null,null,null,null,null,null,null,"2015년\n이후\n차입분",null,"15년\n이상","고정금리이면서,\n비거치상환",null,null,{"$f":"MIN(신고서!AR107,MAX(S65-SUM(S66:Y88),0))","v":0},null,null,null,null,null,null,null,null,null,null,null,"(63)기부금","㉮\n정치자금기부금",null,"10만원이하",null,"공제대상금액",null,null,null,{"$f":"신고서!AL170","v":0}]
[null,null,null,null,null,null,null,null,null,null,null,null,null,null,null,"고정금리이거나,\n비거치상환",null,null,{"$f":"MIN(신고서!AR108,MAX(S65-SUM(S66:Y89),0))","v":0},null,null,null,null,null,null,null,null,null,null,null,null,null,null,null,null,"세액공제액",null,null,null,{"$f":"신고서!AT170","v":0}]
[null,null,null,null,null,null,null,null,null,null,null,null,null,null,null,"그 밖의 대출",null,null,{"$f":"MIN(신고서!AR109,MAX(S65-SUM(S66:Y90),0))","v":0},null,null,null,null,null,null,null,null,null,null,null,null,null,null,"10만원초과",null,"공제대상금액",null,null,null,{"$f":"신고서!AL171","v":0}]
[null,null,null,null,null,null,null,null,null,null,null,null,null,null,"10년~15년","고정금리이거나,\n비거치상환",null,null,{"$f":"MIN(신고서!AR110,MAX(S65-SUM(S66:Y91),0))","v":0},null,null,null,null,null,null,null,null,null,null,null,null,null,null,null,null,"세액공제액",null,null,null,{"$f":"신고서!AT171","v":0}]
[null,null,null,null,null,null,null,null,"(35) 기부금(이월분)",null,null,null,null,null,null,null,null,null,{"$f":"MIN(신고서!AR115,MAX(S65-SUM(S66:Y89),0))","v":0},null,null,null,null,null,null,null,null,null,null,null,null,"㉯ 「소득세법」 제34조 제2항 제1호에 따른 기부금",null,null,null,"공제대상금액",null,null,null,{"$f":"신고서!AL172","v":0}]
[null,null,null,null,null,null,null,null,"(36) 계",null,null,null,null,null,null,null,null,null,{"$f":"IF(S65=0,0,SUM(S78:Y93))","v":2654800},null,null,null,null,null,null,null,null,null,null,null,null,null,null,null,null,"세액공제액",null,null,null,{"$f":"신고서!AT172","v":0}]
[null,null,"(37) 차 감 소 득 금 액",null,null,null,null,null,null,null,null,null,null,null,null,null,null,null,{"$f":"MAX(0,S65-SUM(S66:Y77)-S94)","v":3581200},null,null,null,null,null,null,null,null,null,null,null,null,"㉰ 우리사주\n조합기부금",null,null,null,"공제대상금액",null,null,null,{"$f":"신고서!AL173","v":0}]
[null,null,"그\n밖\n의\n소\n득\n공\n제",null,null,null,"(38) 개인연금저축",null,null,null,null,null,null,null,null,null,null,null,{"$f":"MIN(신고서!AR116,S95)","v":0},null,null,null,null,null,null,null,null,null,null,null,null,null,null,null,null,"세액공제액",null,null,null,{"$f":"신고서!AT173","v":0}]
[null,null,null,null,null,null,"(39)소기업·소상공인공제부금",null,null,null,null,null,null,null,null,null,null,null,{"$f":"MIN(신고서!AR117,MAX((S95-S96),0))","v":0},null,null,null,null,null,null,null,null,null,null,null,null,"㉱ 「소득세법」제34조 제3항 제1호의 기부금(종교단체 외)",null,null,null,"공제대상금액",null,null,null,{"$f":"신고서!AL174","v":0}]
[null,null,null,null,null,null,"(40)주택\n마련저축소득공제",null,null,null,"㉮청약저축",null,null,null,null,null,null,null,{"$f":"MIN(신고서!$AR$118,MAX((S95-SUM(S96:S97)),0))","v":0},null,null,null,null,null,null,null,null,null,null,null,null,null,null,null,null,"세액공제액",null,null,null,{"$f":"신고서!AT174","v":0}]
[null,null,null,null,null,null,null,null,null,null,null,null,null,null,null,null,null,null,null,null,null,null,null,null,null,null,null,null,null,null,null,"㉲ 소득세법」제34조 제3항 제1호의 기부금(종교단체)",null,null,null,"공제대상금액",null,null,null,{"$f":"신고서!AL175","v":0}]
[null,null,null,null,null,null,null,null,null,null,"㉯주택청약종합저축",null,null,null,null,null,null,null,{"$f":"MIN(신고서!$AR$120,MAX((S95-SUM(S96:S98)),0))","v":0},null,null,null,null,null,null,null,null,null,null,null,null,null,null,null,null,"세액공제액",null,null,null,{"$f":"신고서!AT175","v":0}]
[null,null,null,null,null,null,null,null,null,null,"㉰근로자주택마련저축",null,null,null,null,null,null,null,{"$f":"MIN(신고서!$AR$119,MAX((S95-SUM(S96:S100)),0))","v":0},null,null,null,null,null,null,null,null,null,null,null,"(64)계",null,null,null,null,null,null,null,null,{"$f":"AN82+AN84+AN86+AN88+AN90+AN92+AN94+AN96+AN98+AN100","v":0}]
[null,null,null,null,null,null,"(41)투자조합출자 등",null,null,null,null,null,null,null,null,null,null,null,{"$f":"MIN(신고서!AR128,MAX((S95-SUM(S96:S101)),0))","v":0},null,null,null,null,null,null,null,null,null,null,null,"(65)표준세액공제",null,null,null,null,null,null,null,{"$f":"(S78+SUM(S80:Y83)+SUM(S84:Y93))*0.12+AN82+AN84+AN86+AN88+AN94+AN98+AN100+AN107","v":294384},{"$f":"IF(AM102>130000,\"\",130000)","v":""}]
[null,null,null,null,null,null,"(42)신용카드등 사용액",null,null,null,null,null,null,null,null,null,null,null,{"$f":"MIN(신고서!$AR$135,MAX((S95-SUM(S96:S102)),0))","v":0},null,null,null,null,null,null,null,null,null,"(66)  납 세 조 합 공 제",null,null,null,null,null,null,null,null,null,null,{"$f":"급여내역!P42","v":0}]
[null,null,null,null,null,null,"(43) 우리사주조합 출연금",null,null,null,null,null,null,null,null,null,null,null,{"$f":"MIN(신고서!$AR$136,MAX((S95-SUM(S96:S103)),0))","v":0},null,null,null,null,null,null,null,null,null,"(67)  주 택 차 입 금",null,null,null,null,null,null,null,null,null,null,{"$f":"신고서!AR183","v":0}]
[null,null,null,null,null,null,null,null,null,null,null,null,null,null,null,null,null,null,null,null,null,null,null,null,null,null,null,null,"(68)  외  국  납  부",null,null,null,null,null,null,null,null,null,null,{"$f":"IF(S65=0,0,MIN(신고서!AF179,(AN65*(신고서!AR177/영수증!S65))))","v":0}]
[null,null,null,null,null,null,"(44)고용유지 중소기업 근로자",null,null,null,null,null,null,null,null,null,null,null,{"$f":"MIN(신고서!$AR$137,MAX((S95-SUM(S96:S105)),0))","v":0},null,null,null,null,null,null,null,null,null,"(69)  월세액",null,null,null,null,null,null,"공제대상금액",null,null,null,{"$f":"신고서!AF184","v":0}]
[null,null,null,null,null,null,"(45)장기집합투자증권저축",null,null,null,null,null,null,null,null,null,null,null,{"$f":"MIN(신고서!AR138,MAX((S95-SUM(S96:S106)),0))","v":0},null,null,null,null,null,null,null,null,null,null,null,null,null,null,null,null,"세액공제액",null,null,null,{"$f":"신고서!AR184","v":0}]
[null,null,null,null,null,null,"(46)그밖의소득공제 계",null,null,null,null,null,null,null,null,null,null,null,{"$f":"SUM(S96:Y107)","v":0},null,null,null,null,null,null,null,null,null,"(70) 세액공제 계",null,null,null,null,null,null,null,null,null,null,{"$f":"MIN((AN71+AN72+AN74+AN76+AN78+AN80+MAX(AN101,AN102)+AN103+AN104+AN105+AN107),MAX(0,(AN65-AN70)))","v":214872}]
[null,null,"(47) 소득공제 종합한도 초과액",null,null,null,null,null,null,null,null,null,null,null,null,null,null,null,{"$f":"MAX((SUM(S80:Y93)+SUM(S97:Y104)-S102+S107)-25000000,0)","v":0},null,null,null,null,null,null,"(71) 결 정 세 액( (49)-(54)-(70) )",null,null,null,null,null,null,null,null,null,null,null,null,null,{"$f":"MAX(0,+AN65-AN70-AN108)","v":0}]
[null,null,null,null,null,null,null,null,null,null,null,null,null,null,null,null,null,null,null,null,null,null,null,null,null,"(81) 실효세율(%)( (71)/(21) )x100",null,null,null,null,null,null,null,null,null,null,null,null,null,{"$f":"+AN109/S63*100","v":0}]
[null,null,null,null,null,null,null,null,null,null,null,null,null,null,null,null,null,null,null,null,null,null,null,null,null,null,null,null,null,null,null,null,null,null,null,null,null,null,null,null,null,null,null,null,null,"210㎜×297㎜"]
[null,"(77) 소득·세액공제 명세[인적공제항목은 해당란에 \"○\"표시(장애인 해당 시 해당 코드 기재)를 하며, 각종 소득공제·세액공제 항목은 공제를 위하여 실제 지출한 금액을 적습니다.]"]
[]
[null,"인적공제항목",null,null,null,null,null,null,null,null,null,null,null,null,null,null,null,null,null,null,null,null,"각종 소득공제ㆍ세액공제 항목"]
[null,"관계코드",null,null,"성명",null,null,null,null,null,null,null,"기본공제",null,null,null,null,null,"경로우대",null,"출산입양",null,"자료\n구분",null,null,"보험료",null,null,null,null,null,null,null,"의료비",null,null,null,null,null,null,null,null,"교육비"]
[null,"내ㆍ외\n국인",null,null,"주민등록번호",null,null,null,null,null,null,null,"부녀자",null,null,"한부모",null,null,"장애인",null,"자녀",null,null,null,null,"건강",null,"고용",null,"보장성",null,"장애인\n전용\n보장성",null,"일반",null,"난임",null,"65세이상•장애인  \n건강보험산정\n특례자",null,null,"실손의료\n보험금",null,"일반",null,"장애인\n특수교육"]
[null,"인적공제 항목에 해당하는",null,null,null,null,null,null,null,null,null,null,{"$f":"신고서!N17","v":5},null,null,null,null,null,{"$f":"신고서!T17","v":1},null,{"$f":"신고서!W17","v":1},null,"국세청계",null,null,{"$f":"신고서!AD17","v":0},null,{"$f":"신고서!AF17","v":0},null,{"$f":"신고서!AH17","v":0},null,{"$f":"신고서!AJ17","v":0},null,{"$f":"신고서!AL17","v":0},null,{"$f":"신고서!AN17","v":0},null,{"$f":"신고서!AP17","v":0},null,null,{"$f":"신고서!AR17","v":0},null,{"$f":"신고서!AT17","v":0},null,{"$f":"신고서!AV17","v":0}]
[null,"인원수를 기재 (자녀:",null,null,null,null,null,null,null,null,{"$f":"신고서!L18","v":0},"명)",{"$f":"신고서!N18","v":""},null,null,{"$f":"신고서!Q18","v":""},null,null,{"$f":"신고서!T18","v":0},null,{"$f":"신고서!W18","v":1},null,"기타계",null,null,{"$f":"신고서!AD18","v":883200},null,{"$f":"신고서!AF18","v":201600},null,{"$f":"신고서!AH18","v":0},null,{"$f":"신고서!AJ18","v":0},null,{"$f":"신고서!AL18","v":0},null,{"$f":"신고서!AN18","v":0},null,{"$f":"신고서!AP18","v":0},null,null,{"$f":"신고서!AR18","v":0},null,{"$f":"신고서!AT18","v":0},null,{"$f":"신고서!AV18","v":0}]
[null,{"$f":"신고서!C19","v":"0"},null,null,{"$f":"신고서!F19","v":"이영화"},null,null,null,null,null,null,null,{"$f":"신고서!N19","v":"○"},null,null,null,null,null,{"$f":"신고서!T19","v":0},null,{"$f":"신고서!W19","v":"○3"},null,"국세청",null,null,{"$f":"신고서!AD19","v":0},null,{"$f":"신고서!AF19","v":0},null,{"$f":"신고서!AH19","v":0},null,{"$f":"신고서!AJ19","v":0},null,{"$f":"신고서!AL19","v":0},null,{"$f":"신고서!AN19","v":0},null,{"$f":"신고서!AP19","v":0},null,null,{"$f":"신고서!AR19","v":0},null,{"$f":"신고서!AT19","v":0},null,{"$f":"신고서!AV19","v":0}]
[null,{"$f":"신고서!C20","v":1},null,null,null,null,{"$f":"신고서!F20","v":"(근로자 본인)"},null,null,null,null,null,{"$f":"신고서!N20","v":0},null,null,{"$f":"신고서!Q20","v":0},null,null,{"$f":"신고서!T20","v":0},null,{"$f":"신고서!W20","v":0},null,"기타",null,null,{"$f":"신고서!AD20","v":883200},null,{"$f":"신고서!AF20","v":201600},null,{"$f":"신고서!AH20","v":0},null,{"$f":"신고서!AJ20","v":0},null,{"$f":"신고서!AL20","v":0},null,{"$f":"신고서!AN20","v":0},null,{"$f":"신고서!AP20","v":0},null,null,{"$f":"신고서!AR20","v":0},null,{"$f":"신고서!AT20","v":0},null,{"$f":"신고서!AV20","v":0}]
[null,{"$f":"신고서!C21","v":3},null,null,{"$f":"신고서!F21","v":"조세희"},null,null,null,null,null,null,null,{"$f":"신고서!N21","v":"○"},null,null,null,null,null,{"$f":"신고서!T21","v":0},null,{"$f":"신고서!W21","v":0},null,"국세청",null,null,{"$f":"신고서!AD21","v":0},null,{"$f":"신고서!AF21","v":0},null,{"$f":"신고서!AH21","v":0},null,{"$f":"신고서!AJ21","v":0},null,{"$f":"신고서!AL21","v":0},null,{"$f":"신고서!AN21","v":0},null,{"$f":"신고서!AP21","v":0},null,null,{"$f":"신고서!AR21","v":0},null,{"$f":"신고서!AT21","v":0},null,{"$f":"신고서!AV21","v":0}]
[null,{"$f":"신고서!C22","v":1},null,null,null,null,{"$f":"신고서!F22","v":"710415-2031653"},null,null,null,null,null,{"$f":"신고서!N22","v":0},null,null,{"$f":"신고서!Q22","v":0},null,null,{"$f":"신고서!T22","v":0},null,{"$f":"신고서!W22","v":0},null,"기타",null,null,{"$f":"신고서!AD22","v":0},null,{"$f":"신고서!AF22","v":0},null,{"$f":"신고서!AH22","v":0},null,{"$f":"신고서!AJ22","v":0},null,{"$f":"신고서!AL22","v":0},null,{"$f":"신고서!AN22","v":0},null,{"$f":"신고서!AP22","v":0},null,null,{"$f":"신고서!AR22","v":0},null,{"$f":"신고서!AT22","v":0},null,{"$f":"신고서!AV22","v":0}]
[null,{"$f":"신고서!C23","v":2},null,null,{"$f":"신고서!F23","v":"편람일"},null,null,null,null,null,null,null,{"$f":"신고서!N23","v":"○"},null,null,null,null,null,{"$f":"신고서!T23","v":"○"},null,{"$f":"신고서!W23","v":0},null,"국세청",null,null,{"$f":"신고서!AD23","v":0},null,{"$f":"신고서!AF23","v":0},null,{"$f":"신고서!AH23","v":0},null,{"$f":"신고서!AJ23","v":0},null,{"$f":"신고서!AL23","v":0},null,{"$f":"신고서!AN23","v":0},null,{"$f":"신고서!AP23","v":0},null,null,{"$f":"신고서!AR23","v":0},null,{"$f":"신고서!AT23","v":0},null,{"$f":"신고서!AV23","v":0}]
[null,{"$f":"신고서!C24","v":1},null,null,null,null,{"$f":"신고서!F24","v":"481103-2019015"},null,null,null,null,null,{"$f":"신고서!N24","v":0},null,null,{"$f":"신고서!Q24","v":0},null,null,{"$f":"신고서!T24","v":0},null,{"$f":"신고서!W24","v":0},null,"기타",null,null,{"$f":"신고서!AD24","v":0},null,{"$f":"신고서!AF24","v":0},null,{"$f":"신고서!AH24","v":0},null,{"$f":"신고서!AJ24","v":0},null,{"$f":"신고서!AL24","v":0},null,{"$f":"신고서!AN24","v":0},null,{"$f":"신고서!AP24","v":0},null,null,{"$f":"신고서!AR24","v":0},null,{"$f":"신고서!AT24","v":0},null,{"$f":"신고서!AV24","v":0}]
[null,{"$f":"신고서!C25","v":4},null,null,{"$f":"신고서!F25","v":"이대한"},null,null,null,null,null,null,null,{"$f":"신고서!N25","v":"○"},null,null,null,null,null,{"$f":"신고서!T25","v":0},null,{"$f":"신고서!W25","v":0},null,"국세청",null,null,{"$f":"신고서!AD25","v":0},null,{"$f":"신고서!AF25","v":0},null,{"$f":"신고서!AH25","v":0},null,{"$f":"신고서!AJ25","v":0},null,{"$f":"신고서!AL25","v":0},null,{"$f":"신고서!AN25","v":0},null,{"$f":"신고서!AP25","v":0},null,null,{"$f":"신고서!AR25","v":0},null,{"$f":"신고서!AT25","v":0},null,{"$f":"신고서!AV25","v":0}]
[null,{"$f":"신고서!C26","v":1},null,null,{"$f":"신고서!F26","v":"091206-4059631"},null,null,null,null,null,null,null,{"$f":"신고서!N26","v":0},null,null,{"$f":"신고서!Q26","v":0},null,null,{"$f":"신고서!T26","v":0},null,{"$f":"신고서!W26","v":0},null,"기타",null,null,{"$f":"신고서!AD26","v":0},null,{"$f":"신고서!AF26","v":0},null,{"$f":"신고서!AH26","v":0},null,{"$f":"신고서!AJ26","v":0},null,{"$f":"신고서!AL26","v":0},null,{"$f":"신고서!AN26","v":0},null,{"$f":"신고서!AP26","v":0},null,null,{"$f":"신고서!AR26","v":0},null,{"$f":"신고서!AT26","v":0},null,{"$f":"신고서!AV26","v":0}]
[null,{"$f":"신고서!C27","v":4},null,null,{"$f":"신고서!F27","v":"이민국"},null,null,null,null,null,null,null,{"$f":"신고서!N27","v":"○"},null,null,null,null,null,{"$f":"신고서!T27","v":0},null,{"$f":"신고서!W27","v":0},null,"국세청",null,null,{"$f":"신고서!AD27","v":0},null,{"$f":"신고서!AF27","v":0},null,{"$f":"신고서!AH27","v":0},null,{"$f":"신고서!AJ27","v":0},null,{"$f":"신고서!AL27","v":0},null,{"$f":"신고서!AN27","v":0},null,{"$f":"신고서!AP27","v":0},null,null,{"$f":"신고서!AR27","v":0},null,{"$f":"신고서!AT27","v":0},null,{"$f":"신고서!AV27","v":0}]
[null,{"$f":"신고서!C28","v":1},null,null,{"$f":"신고서!F28","v":"151230-3059632"},null,null,null,null,null,null,null,{"$f":"신고서!N28","v":0},null,null,{"$f":"신고서!Q28","v":0},null,null,{"$f":"신고서!T28","v":0},null,{"$f":"신고서!W28","v":"○"},null,"기타",null,null,{"$f":"신고서!AD28","v":0},null,{"$f":"신고서!AF28","v":0},null,{"$f":"신고서!AH28","v":0},null,{"$f":"신고서!AJ28","v":0},null,{"$f":"신고서!AL28","v":0},null,{"$f":"신고서!AN28","v":0},null,{"$f":"신고서!AP28","v":0},null,null,{"$f":"신고서!AR28","v":0},null,{"$f":"신고서!AT28","v":0},null,{"$f":"신고서!AV28","v":0}]
[null,{"$f":"신고서!C29","v":0},null,null,null,null,{"$f":"신고서!H29","v":0},null,null,null,null,null,{"$f":"신고서!N29","v":0},null,null,null,null,null,{"$f":"신고서!T29","v":0},null,{"$f":"신고서!W29","v":0},null,"국세청",null,null,{"$f":"신고서!AD29","v":0},null,{"$f":"신고서!AF29","v":0},null,{"$f":"신고서!AH29","v":0},null,{"$f":"신고서!AJ29","v":0},null,{"$f":"신고서!AL29","v":0},null,{"$f":"신고서!AN29","v":0},null,{"$f":"신고서!AP29","v":0},null,null,{"$f":"신고서!AR29","v":0},null,{"$f":"신고서!AT29","v":0},null,{"$f":"신고서!AV29","v":0}]
[null,{"$f":"신고서!C30","v":0},null,null,null,null,{"$f":"신고서!H30","v":0},null,null,null,null,null,{"$f":"신고서!N30","v":0},null,null,{"$f":"신고서!Q30","v":0},null,null,{"$f":"신고서!T30","v":0},null,{"$f":"신고서!W30","v":0},null,"기타",null,null,{"$f":"신고서!AD30","v":0},null,{"$f":"신고서!AF30","v":0},null,{"$f":"신고서!AH30","v":0},null,{"$f":"신고서!AJ30","v":0},null,{"$f":"신고서!AL30","v":0},null,{"$f":"신고서!AN30","v":0},null,{"$f":"신고서!AP30","v":0},null,null,{"$f":"신고서!AR30","v":0},null,{"$f":"신고서!AT30","v":0},null,{"$f":"신고서!AV30","v":0}]
[null,{"$f":"신고서!C31","v":0},null,null,null,null,{"$f":"신고서!H31","v":0},null,null,null,null,null,{"$f":"신고서!N31","v":0},null,null,null,null,null,{"$f":"신고서!T31","v":0},null,{"$f":"신고서!W31","v":0},null,"국세청",null,null,{"$f":"신고서!AD31","v":0},null,{"$f":"신고서!AF31","v":0},null,{"$f":"신고서!AH31","v":0},null,{"$f":"신고서!AJ31","v":0},null,{"$f":"신고서!AL31","v":0},null,{"$f":"신고서!AN31","v":0},null,{"$f":"신고서!AP31","v":0},null,null,{"$f":"신고서!AR31","v":0},null,{"$f":"신고서!AT31","v":0},null,{"$f":"신고서!AV31","v":0}]
[null,{"$f":"신고서!C32","v":0},null,null,null,null,{"$f":"신고서!H32","v":0},null,null,null,null,null,{"$f":"신고서!N32","v":0},null,null,{"$f":"신고서!Q32","v":0},null,null,{"$f":"신고서!T32","v":0},null,{"$f":"신고서!W32","v":0},null,"기타",null,null,{"$f":"신고서!AD32","v":0},null,{"$f":"신고서!AF32","v":0},null,{"$f":"신고서!AH32","v":0},null,{"$f":"신고서!AJ32","v":0},null,{"$f":"신고서!AL32","v":0},null,{"$f":"신고서!AN32","v":0},null,{"$f":"신고서!AP32","v":0},null,null,{"$f":"신고서!AR32","v":0},null,{"$f":"신고서!AT32","v":0},null,{"$f":"신고서!AV32","v":0}]
[null,{"$f":"신고서!C33","v":0},null,null,null,null,{"$f":"신고서!H33","v":0},null,null,null,null,null,{"$f":"신고서!N33","v":0},null,null,null,null,null,{"$f":"신고서!T33","v":0},null,{"$f":"신고서!W33","v":0},null,"국세청",null,null,{"$f":"신고서!AD33","v":0},null,{"$f":"신고서!AF33","v":0},null,{"$f":"신고서!AH33","v":0},null,{"$f":"신고서!AJ33","v":0},null,{"$f":"신고서!AL33","v":0},null,{"$f":"신고서!AN33","v":0},null,{"$f":"신고서!AP33","v":0},null,null,{"$f":"신고서!AR33","v":0},null,{"$f":"신고서!AT33","v":0},null,{"$f":"신고서!AV33","v":0}]
[null,{"$f":"신고서!C34","v":0},null,null,null,null,{"$f":"신고서!H34","v":0},null,null,null,null,null,{"$f":"신고서!N34","v":0},null,null,{"$f":"신고서!Q34","v":0},null,null,{"$f":"신고서!T34","v":0},null,{"$f":"신고서!W34","v":0},null,"기타",null,null,{"$f":"신고서!AD34","v":0},null,{"$f":"신고서!AF34","v":0},null,{"$f":"신고서!AH34","v":0},null,{"$f":"신고서!AJ34","v":0},null,{"$f":"신고서!AL34","v":0},null,{"$f":"신고서!AN34","v":0},null,{"$f":"신고서!AP34","v":0},null,null,{"$f":"신고서!AR34","v":0},null,{"$f":"신고서!AT34","v":0},null,{"$f":"신고서!AV34","v":0}]
[null,{"$f":"신고서!C35","v":0},null,null,null,null,{"$f":"신고서!H35","v":0},null,null,null,null,null,{"$f":"신고서!N35","v":0},null,null,null,null,null,{"$f":"신고서!T35","v":0},null,{"$f":"신고서!W35","v":0},null,"국세청",null,null,{"$f":"신고서!AD35","v":0},null,{"$f":"신고서!AF35","v":0},null,{"$f":"신고서!AH35","v":0},null,{"$f":"신고서!AJ35","v":0},null,{"$f":"신고서!AL35","v":0},null,{"$f":"신고서!AN35","v":0},null,{"$f":"신고서!AP35","v":0},null,null,{"$f":"신고서!AR35","v":0},null,{"$f":"신고서!AT35","v":0},null,{"$f":"신고서!AV35","v":0}]
[null,{"$f":"신고서!C36","v":0},null,null,null,null,{"$f":"신고서!H36","v":0},null,null,null,null,null,{"$f":"신고서!N36","v":0},null,null,{"$f":"신고서!Q36","v":0},null,null,{"$f":"신고서!T36","v":0},null,{"$f":"신고서!W36","v":0},null,"기타",null,null,{"$f":"신고서!AD36","v":0},null,{"$f":"신고서!AF36","v":0},null,{"$f":"신고서!AH36","v":0},null,{"$f":"신고서!AJ36","v":0},null,{"$f":"신고서!AL36","v":0},null,{"$f":"신고서!AN36","v":0},null,{"$f":"신고서!AP36","v":0},null,null,{"$f":"신고서!AR36","v":0},null,{"$f":"신고서!AT36","v":0},null,{"$f":"신고서!AV36","v":0}]
[null,{"$f":"신고서!C37","v":0},null,null,null,null,{"$f":"신고서!H37","v":0},null,null,null,null,null,{"$f":"신고서!N37","v":0},null,null,null,null,null,{"$f":"신고서!T37","v":0},null,{"$f":"신고서!W37","v":0},null,"국세청",null,null,{"$f":"신고서!AD37","v":0},null,{"$f":"신고서!AF37","v":0},null,{"$f":"신고서!AH37","v":0},null,{"$f":"신고서!AJ37","v":0},null,{"$f":"신고서!AL37","v":0},null,{"$f":"신고서!AN37","v":0},null,{"$f":"신고서!AP37","v":0},null,null,{"$f":"신고서!AR37","v":0},null,{"$f":"신고서!AT37","v":0},null,{"$f":"신고서!AV37","v":0}]
[null,{"$f":"신고서!C38","v":0},null,null,null,null,{"$f":"신고서!H38","v":0},null,null,null,null,null,{"$f":"신고서!N38","v":0},null,null,{"$f":"신고서!Q38","v":0},null,null,{"$f":"신고서!T38","v":0},null,{"$f":"신고서!W38","v":0},null,"기타",null,null,{"$f":"신고서!AD38","v":0},null,{"$f":"신고서!AF38","v":0},null,{"$f":"신고서!AH38","v":0},null,{"$f":"신고서!AJ38","v":0},null,{"$f":"신고서!AL38","v":0},null,{"$f":"신고서!AN38","v":0},null,{"$f":"신고서!AP38","v":0},null,null,{"$f":"신고서!AR38","v":0},null,{"$f":"신고서!AT38","v":0},null,{"$f":"신고서!AV38","v":0}]
[null,"각종 소득공제ㆍ세액공제 항목"]
[null,"자료\n구분",null,null,"기간",null,"신용카드등 사용액공제",null,null,null,null,null,null,null,null,null,null,null,null,null,null,null,null,null,null,null,null,null,null,null,null,null,null,null,null,null,null,null,null,null,null,null,"기부금"]
[null,null,null,null,null,null,"신용카드",null,null,null,null,null,"직불카드등",null,null,null,null,null,"현금영수증",null,null,null,null,null,"도서공연등사용분\n(총급여 7천만원\n이하자만 기재)",null,null,null,null,null,"전통시장사용분",null,null,null,null,null,"대중교통 이용분"]
[]
[null,"국세청계",null,null,"3월",null,{"$f":"+신고서!H43","v":0},null,null,null,null,null,{"$f":"+신고서!N43","v":0},null,null,null,null,null,{"$f":"+신고서!T43","v":0},null,null,null,null,null,{"$f":"+신고서!Z43","v":0},null,null,null,null,null,{"$f":"+신고서!AF43","v":0},null,null,null,null,null,{"$f":"+신고서!AL43","v":0},null,null,null,null,null,{"$f":"신고서!AT43","v":0}]
[null,null,null,null,"4~7월",null,{"$f":"+신고서!H44","v":0},null,null,null,null,null,{"$f":"+신고서!N44","v":0},null,null,null,null,null,{"$f":"+신고서!T44","v":0},null,null,null,null,null,{"$f":"+신고서!Z44","v":0},null,null,null,null,null,{"$f":"+신고서!AF44","v":0},null,null,null,null,null,{"$f":"+신고서!AL44","v":0}]
[null,null,null,null,"그 외",null,{"$f":"+신고서!H45","v":0},null,null,null,null,null,{"$f":"+신고서!N45","v":0},null,null,null,null,null,{"$f":"+신고서!T45","v":0},null,null,null,null,null,{"$f":"+신고서!Z45","v":0},null,null,null,null,null,{"$f":"+신고서!AF45","v":0},null,null,null,null,null,{"$f":"+신고서!AL45","v":0}]
[null,"기타계",null,null,"3월",null,{"$f":"+신고서!H46","v":0},null,null,null,null,null,{"$f":"+신고서!N46","v":0},null,null,null,null,null,null,null,null,null,null,null,{"$f":"+신고서!Z46","v":0},null,null,null,null,null,{"$f":"+신고서!AF46","v":0},null,null,null,null,null,{"$f":"+신고서!AL46","v":0},null,null,null,null,null,{"$f":"+신고서!AT46","v":0}]
[null,null,null,null,"4~7월",null,{"$f":"+신고서!H47","v":0},null,null,null,null,null,{"$f":"+신고서!N47","v":0},null,null,null,null,null,null,null,null,null,null,null,{"$f":"+신고서!Z47","v":0},null,null,null,null,null,{"$f":"+신고서!AF47","v":0},null,null,null,null,null,{"$f":"+신고서!AL47","v":0}]
[null,null,null,null,"그 외",null,{"$f":"+신고서!H48","v":0},null,null,null,null,null,{"$f":"+신고서!N48","v":0},null,null,null,null,null,{"$f":"신고서!T46","v":0},null,null,null,null,null,{"$f":"+신고서!Z48","v":0},null,null,null,null,null,{"$f":"+신고서!AF48","v":0},null,null,null,null,null,{"$f":"+신고서!AL48","v":0},null,null,null,null,null,{"$f":"신고서!AT46","v":0}]
[null,"국세청",null,null,"3월",null,{"$f":"+신고서!H49","v":0},null,null,null,null,null,{"$f":"+신고서!N49","v":0},null,null,null,null,null,{"$f":"+신고서!T49","v":0},null,null,null,null,null,{"$f":"+신고서!Z49","v":0},null,null,null,null,null,{"$f":"+신고서!AF49","v":0},null,null,null,null,null,{"$f":"+신고서!AL49","v":0},null,null,null,null,null,{"$f":"신고서!AT49","v":0}]
[null,null,null,null,"4~7월",null,{"$f":"+신고서!H50","v":0},null,null,null,null,null,{"$f":"+신고서!N50","v":0},null,null,null,null,null,{"$f":"+신고서!T50","v":0},null,null,null,null,null,{"$f":"+신고서!Z50","v":0},null,null,null,null,null,{"$f":"+신고서!AF50","v":0},null,null,null,null,null,{"$f":"+신고서!AL50","v":0}]
[null,null,null,null,"그 외",null,{"$f":"+신고서!H51","v":0},null,null,null,null,null,{"$f":"+신고서!N51","v":0},null,null,null,null,null,{"$f":"+신고서!T51","v":0},null,null,null,null,null,{"$f":"+신고서!Z51","v":0},null,null,null,null,null,{"$f":"+신고서!AF51","v":0},null,null,null,null,null,{"$f":"+신고서!AL51","v":0}]
[null,"기타",null,null,"3월",null,{"$f":"+신고서!H52","v":0},null,null,null,null,null,{"$f":"+신고서!N52","v":0},null,null,null,null,null,null,null,null,null,null,null,{"$f":"+신고서!Z52","v":0},null,null,null,null,null,{"$f":"+신고서!AF52","v":0},null,null,null,null,null,{"$f":"+신고서!AL52","v":0},null,null,null,null,null,{"$f":"+신고서!AT52","v":0}]
[null,null,null,null,"4~7월",null,{"$f":"+신고서!H53","v":0},null,null,null,null,null,{"$f":"+신고서!N53","v":0},null,null,null,null,null,null,null,null,null,null,null,{"$f":"+신고서!Z53","v":0},null,null,null,null,null,{"$f":"+신고서!AF53","v":0},null,null,null,null,null,{"$f":"+신고서!AL53","v":0}]
[null,null,null,null,"그 외",null,{"$f":"+신고서!H54","v":0},null,null,null,null,null,{"$f":"+신고서!N54","v":0},null,null,null,null,null,{"$f":"신고서!T52","v":0},null,null,null,null,null,{"$f":"+신고서!Z54","v":0},null,null,null,null,null,{"$f":"+신고서!AF54","v":0},null,null,null,null,null,{"$f":"+신고서!AL54","v":0},null,null,null,null,null,{"$f":"신고서!AT52","v":0}]
[null,"국세청",null,null,"3월",null,{"$f":"+신고서!H55","v":0},null,null,null,null,null,{"$f":"+신고서!N55","v":0},null,null,null,null,null,{"$f":"+신고서!T55","v":0},null,null,null,null,null,{"$f":"+신고서!Z55","v":0},null,null,null,null,null,{"$f":"+신고서!AF55","v":0},null,null,null,null,null,{"$f":"+신고서!AL55","v":0},null,null,null,null,null,{"$f":"신고서!AT55","v":0}]
[null,null,null,null,"4~7월",null,{"$f":"+신고서!H56","v":0},null,null,null,null,null,{"$f":"+신고서!N56","v":0},null,null,null,null,null,{"$f":"+신고서!T56","v":0},null,null,null,null,null,{"$f":"+신고서!Z56","v":0},null,null,null,null,null,{"$f":"+신고서!AF56","v":0},null,null,null,null,null,{"$f":"+신고서!AL56","v":0}]
[null,null,null,null,"그 외",null,{"$f":"+신고서!H57","v":0},null,null,null,null,null,{"$f":"+신고서!N57","v":0},null,null,null,null,null,{"$f":"+신고서!T57","v":0},null,null,null,null,null,{"$f":"+신고서!Z57","v":0},null,null,null,null,null,{"$f":"+신고서!AF57","v":0},null,null,null,null,null,{"$f":"+신고서!AL57","v":0}]
[null,"기타",null,null,"3월",null,{"$f":"+신고서!H58","v":0},null,null,null,null,null,{"$f":"+신고서!N58","v":0},null,null,null,null,null,null,null,null,null,null,null,{"$f":"+신고서!Z58","v":0},null,null,null,null,null,{"$f":"+신고서!AF58","v":0},null,null,null,null,null,{"$f":"+신고서!AL58","v":0},null,null,null,null,null,{"$f":"+신고서!AT58","v":0}]
[null,null,null,null,"4~7월",null,{"$f":"+신고서!H59","v":0},null,null,null,null,null,{"$f":"+신고서!N59","v":0},null,null,null,null,null,null,null,null,null,null,null,{"$f":"+신고서!Z59","v":0},null,null,null,null,null,{"$f":"+신고서!AF59","v":0},null,null,null,null,null,{"$f":"+신고서!AL59","v":0}]
[null,null,null,null,"그 외",null,{"$f":"+신고서!H60","v":0},null,null,null,null,null,{"$f":"+신고서!N60","v":0},null,null,null,null,null,{"$f":"신고서!T58","v":0},null,null,null,null,null,{"$f":"+신고서!Z60","v":0},null,null,null,null,null,{"$f":"+신고서!AF60","v":0},null,null,null,null,null,{"$f":"+신고서!AL60","v":0},null,null,null,null,null,{"$f":"신고서!AT58","v":0}]
[null,null,null,null,null,null,null,null,null,null,null,null,null,null,null,null,null,null,null,null,null,null,null,null,null,null,null,null,null,null,null,null,null,null,null,null,null,null,null,null,null,null,null,null,null,"210㎜×297㎜"]

{"sheet":"징수부","index":8,"n_rows":73,"n_cols":17,"rows_kept":73,"cut":false,"hidden":false,"merged":[[70,13,70,16],[70,6,70,7],[70,8,70,9],[70,10,70,12],[66,13,66,14],[67,13,67,14],[68,13,68,14],[69,13,69,14],[59,13,59,14],[69,15,69,16],[66,15,66,16],[67,15,67,16],[68,15,68,16],[61,13,61,14],[62,13,62,14],[65,15,65,16],[63,13,63,14],[64,13,64,14],[60,13,60,14],[67,2,67,3],[68,2,68,3],[65,13,65,14],[57,15,57,16],[58,15,58,16],[59,15,59,16],[60,15,60,16],[61,15,61,16],[62,15,62,16],[63,15,63,16],[64,15,64,16],[58,13,58,14],[57,13,57,14],[55,1,56,1],[56,15,56,16],[37,7,38,7],[30,1,30,3],[40,2,40,3],[41,2,41,3],[56,13,56,14],[37,13,38,13],[37,14,38,14],[37,15,38,15],[51,10,51,12],[47,10,47,12],[48,10,48,12],[49,10,49,12],[50,10,50,12],[43,10,43,12],[44,10,44,12],[45,10,45,12],[46,10,46,12],[39,10,39,12],[40,10,40,12],[41,10,41,12],[42,10,42,12],[37,9,38,9],[7,1,7,3],[7,4,7,16],[8,11,9,13],[10,4,10,6],[10,7,10,8],[3,2,3,3],[5,1,6,3],[5,4,5,6],[6,4,6,6],[2,5,4,16],[5,7,5,16],[6,7,6,16],[8,15,8,16],[9,15,9,16],[8,9,9,10],[10,14,10,16],[11,4,11,10],[11,11,11,16],[10,11,10,13],[8,14,9,14],[8,4,9,6],[8,7,9,8],[14,1,14,16],[8,1,13,3],[12,4,12,10],[12,11,12,16],[13,4,13,6],[13,7,13,8],[13,9,13,10],[13,13,13,14],[13,11,13,12],[13,15,13,16],[46,2,46,3],[47,2,47,3],[48,2,48,3],[49,2,49,3],[42,2,42,3],[45,2,45,3],[43,2,43,3],[44,2,44,3],[10,9,10,10],[37,10,38,12],[24,2,24,3],[25,2,25,3],[29,2,29,3],[26,2,26,3],[27,2,27,3],[28,2,28,3],[16,7,17,7],[16,8,17,8],[22,2,22,3],[23,2,23,3],[21,2,21,3],[15,2,17,3],[18,2,18,3],[19,2,19,3],[16,11,17,11],[34,1,34,16],[39,2,39,3],[36,1,38,1],[36,2,36,12],[36,13,36,16],[37,8,38,8],[15,1,17,1],[16,4,17,4],[15,12,15,16],[16,12,16,13],[16,15,17,15],[16,16,17,16],[16,5,17,5],[16,6,17,6],[16,9,17,9],[16,10,17,10],[37,4,37,6],[20,2,20,3],[15,4,15,11],[71,1,71,16],[35,1,35,16],[69,2,69,3],[70,1,70,5],[63,2,63,3],[64,2,64,3],[65,2,65,3],[66,2,66,3],[59,2,59,3],[60,2,60,3],[61,2,61,3],[62,2,62,3],[54,1,54,16],[57,2,57,3],[58,2,58,3],[55,2,55,4],[56,2,56,3],[55,5,56,5],[55,6,55,9],[55,10,55,16],[50,2,50,3],[51,2,51,3],[37,16,38,16],[37,2,38,3]]}
[]
[null,"■ 소득세법 시행규칙 [별지 제25호서식(1)] <개정 2014.3.14>",null,null,null,null,null,null,null,null,null,null,null,null,null,null,"(3쪽 중 제1쪽)"]
[null," ",null,null,null,"소 득 자 별 근 로 소 득 원 천 징 수 부"]
[null," ","①귀속연도",null,{"$f":"기본사항!G10","v":2021}]
[]
[null,"징수의무자",null,null,"②법 인 명(상호)",null,null,{"$f":"기본사항!G14","v":"(주)조세통람"}]
[null,null,null,null,"③사업자등록번호",null,null,{"$f":"기본사항!G16","v":"203-81-11111"}]
[null,"④ 근무처"]
[null,"소   득  자",null,null," ⑤성          명",null,null,{"$f":"기본사항!G7","v":"이영화"},null,"⑥주민등록번호",null,{"$f":"기본사항!G8","v":"123456-1234567"},null,null,"⑦입사일\n  퇴사일"]
[]
[null,null,null,null,"⑧ 내외국인 구분",null,null,"내국인1/외국인9",null,"⑨ 국적",null,null,null,null,"(국적코드 :         )"]
[null,null,null,null,"⑩ 공제대상가족의 수(본인․배우자를 각각 1인으로 봄)",null,null,null,null,null,null,{"$f":"인적공제!G17","v":5}]
[null,null,null,null,"⑪ 20세 이하 자녀의 수",null,null,null,null,null,null,{"$f":"인적공제!O7","v":0}]
[null,null,null,null,"⑫ 감면 적용 여부",null,null,"여 1, 부 2",null,"⑬ 감면규정",null,null,null,"⑭ 감면기간",null,"~"]
[null,"Ⅰ. 근  로  소  득  지  급  명  세"]
[null,"월별","(15)지급연월",null,"1. 총       급       여 ",null,null,null,null,null,null,null,"2. 징수세액"]
[null,null,null,null,"(16)급여","(17)상여","(18)인정상여","(19)주식매수선택권행사이익","(20)우리사주조합인출금","(21)임원퇴직소득금액 한도초과액","(22)~(29)","(30)계","간이세액표 적용 대상",null,"그 외","(34)소득세계\n(32)+(33)","(35)지방\n소득세"]
[null,null,null,null,null,null,null,null,null,null,null,null,"(31)급여구간","(32)소득세","(33)소득세"]
[null,1,{"$f":"급여내역!E8","v":0},null,{"$f":"급여내역!H8","v":2100000},{"$f":"급여내역!M8","v":0},{"$f":"급여내역!Q8","v":0},{"$f":"급여내역!U8","v":0},{"$f":"급여내역!V8","v":0},{"$f":"급여내역!X8","v":0},null,{"$f":"SUM(E19:K19)","v":2100000},null,{"$f":"급여내역!AC8","v":22740},null,{"$f":"N19+O19","v":22740},{"$f":"P19*0.1","v":2274}]
[null,2,{"$f":"급여내역!E9","v":0},null,{"$f":"급여내역!H9","v":2100000},{"$f":"급여내역!M9","v":0},{"$f":"급여내역!Q9","v":0},{"$f":"급여내역!U9","v":0},{"$f":"급여내역!V9","v":0},{"$f":"급여내역!X9","v":0},null,{"$f":"SUM(E20:K20)","v":2100000},null,{"$f":"급여내역!AC9","v":22740},null,{"$f":"N20+O20","v":22740},{"$f":"P20*0.1","v":2274}]
[null,3,{"$f":"급여내역!E10","v":0},null,{"$f":"급여내역!H10","v":2100000},{"$f":"급여내역!M10","v":0},{"$f":"급여내역!Q10","v":0},{"$f":"급여내역!U10","v":0},{"$f":"급여내역!V10","v":0},{"$f":"급여내역!X10","v":0},null,2100000,null,{"$f":"급여내역!AC10","v":22740},null,22740,2274]
[null,4,{"$f":"급여내역!E11","v":0},null,{"$f":"급여내역!H11","v":2100000},{"$f":"급여내역!M11","v":0},{"$f":"급여내역!Q11","v":0},{"$f":"급여내역!U11","v":0},{"$f":"급여내역!V11","v":0},{"$f":"급여내역!X11","v":0},null,2100000,null,{"$f":"급여내역!AC11","v":22740},null,22740,2274]
[null,5,{"$f":"급여내역!E12","v":0},null,{"$f":"급여내역!H12","v":2100000},{"$f":"급여내역!M12","v":0},{"$f":"급여내역!Q12","v":0},{"$f":"급여내역!U12","v":0},{"$f":"급여내역!V12","v":0},{"$f":"급여내역!X12","v":0},null,2100000,null,{"$f":"급여내역!AC12","v":22740},null,22740,2274]
[null,6,{"$f":"급여내역!E13","v":0},null,{"$f":"급여내역!H13","v":2100000},{"$f":"급여내역!M13","v":0},{"$f":"급여내역!Q13","v":0},{"$f":"급여내역!U13","v":0},{"$f":"급여내역!V13","v":0},{"$f":"급여내역!X13","v":0},null,2100000,null,{"$f":"급여내역!AC13","v":22740},null,22740,2274]
[null,7,{"$f":"급여내역!E14","v":0},null,{"$f":"급여내역!H14","v":2100000},{"$f":"급여내역!M14","v":0},{"$f":"급여내역!Q14","v":0},{"$f":"급여내역!U14","v":0},{"$f":"급여내역!V14","v":0},{"$f":"급여내역!X14","v":0},null,2100000,null,{"$f":"급여내역!AC14","v":22740},null,22740,2274]
[null,8,{"$f":"급여내역!E15","v":0},null,{"$f":"급여내역!H15","v":2100000},{"$f":"급여내역!M15","v":0},{"$f":"급여내역!Q15","v":0},{"$f":"급여내역!U15","v":0},{"$f":"급여내역!V15","v":0},{"$f":"급여내역!X15","v":0},null,2100000,null,{"$f":"급여내역!AC15","v":22740},null,22740,2274]
[null,9,{"$f":"급여내역!E16","v":0},null,{"$f":"급여내역!H16","v":2100000},{"$f":"급여내역!M16","v":0},{"$f":"급여내역!Q16","v":0},{"$f":"급여내역!U16","v":0},{"$f":"급여내역!V16","v":0},{"$f":"급여내역!X16","v":0},null,2100000,null,{"$f":"급여내역!AC16","v":22740},null,22740,2274]
[null,10,{"$f":"급여내역!E17","v":0},null,{"$f":"급여내역!H17","v":2100000},{"$f":"급여내역!M17","v":0},{"$f":"급여내역!Q17","v":0},{"$f":"급여내역!U17","v":0},{"$f":"급여내역!V17","v":0},{"$f":"급여내역!X17","v":0},null,2100000,null,{"$f":"급여내역!AC17","v":22740},null,22740,2274]
[null,11,{"$f":"급여내역!E18","v":0},null,{"$f":"급여내역!H18","v":2100000},{"$f":"급여내역!M18","v":0},{"$f":"급여내역!Q18","v":0},{"$f":"급여내역!U18","v":0},{"$f":"급여내역!V18","v":0},{"$f":"급여내역!X18","v":0},null,2100000,null,{"$f":"급여내역!AC18","v":22740},null,22740,2274]
[null,12,{"$f":"급여내역!E19","v":0},null,{"$f":"급여내역!H19","v":2100000},{"$f":"급여내역!M19","v":0},{"$f":"급여내역!Q19","v":0},{"$f":"급여내역!U19","v":0},{"$f":"급여내역!V19","v":0},{"$f":"급여내역!X19","v":0},null,2100000,null,{"$f":"급여내역!AC19","v":22740},null,22740,2274]
[null,"계",null,null,{"$f":"SUM(E19:E30)","v":25200000},0,0,0,0,0,0,25200000,null,{"$f":"SUM(N19:N30)","v":272880},{"$f":"SUM(O19:O30)","v":0},{"$f":"SUM(P19:P30)","v":272880},{"$f":"SUM(Q19:Q30)","v":27288}]
[null,null,null,null,null,null,null,null,null,null,null,null,null,null,null,null,"297㎜×210㎜"]
[]
[null,null,null,null,null,null,null,null,null,null,null,null,null,null,null,null,"(3쪽 중 제2쪽)"]
[null,"Ⅱ. 비   과   세   소   득 "]
[null,"※소득세법 시행규칙 제24호 서식(1) 근로소득원천징수영수증(5쪽) 비과세 및 감면소득 코드 참조"]
[null,"월별","1. 지급명세서 작성 대상 비과세 소득",null,null,null,null,null,null,null,null,null,null,"2. 지급명세서 작성 제외대상 비과세 소득\n※해당 원천징수의무자가 지급한 \n소득을 적음"]
[null,null,"(15)지급연월",null,"국외근로소득\n(코드 :    )",null,null,"(39)야간근로\n수당 등\n(O01)","\n(40)출산˙\n보육수당\n(Q01)","(41)～(49)\n(코드 :  )"," (50)합계\n(38+～+49)",null,null," (51)일직료\n 등\n(H02)","(52)자가운전보조금\n(H03)","(53)～(59)","(60)합계\n(51+～+59)"]
[null,null,null,null," (36)외화","(37)환율","(38)원화"]
[null,1,{"$f":"급여내역!AX8","v":0},null,null,null,{"$f":"급여내역!BB8","v":0},{"$f":"급여내역!BK8","v":0},{"$f":"급여내역!BO8","v":0},{"$f":"급여내역!BP8","v":0},{"$f":"SUM(G40:J40)","v":0},null,null,null,null,null,{"$f":"SUM(N40:P40)","v":0}]
[null,2,{"$f":"급여내역!AX9","v":0},null,null,null,{"$f":"급여내역!BB9","v":0},{"$f":"급여내역!BK9","v":0},{"$f":"급여내역!BO9","v":0},{"$f":"급여내역!BP9","v":0},{"$f":"SUM(G41:J41)","v":0},null,null,null,null,null,{"$f":"SUM(N41:P41)","v":0}]
[null,3,{"$f":"급여내역!AX10","v":0},null,null,null,{"$f":"급여내역!BB10","v":0},{"$f":"급여내역!BK10","v":0},{"$f":"급여내역!BO10","v":0},{"$f":"급여내역!BP10","v":0},0,null,null,null,null,null,0]
[null,4,{"$f":"급여내역!AX11","v":0},null,null,null,{"$f":"급여내역!BB11","v":0},{"$f":"급여내역!BK11","v":0},{"$f":"급여내역!BO11","v":0},{"$f":"급여내역!BP11","v":0},0,null,null,null,null,null,0]
[null,5,{"$f":"급여내역!AX12","v":0},null,null,null,{"$f":"급여내역!BB12","v":0},{"$f":"급여내역!BK12","v":0},{"$f":"급여내역!BO12","v":0},{"$f":"급여내역!BP12","v":0},0,null,null,null,null,null,0]
[null,6,{"$f":"급여내역!AX13","v":0},null,null,null,{"$f":"급여내역!BB13","v":0},{"$f":"급여내역!BK13","v":0},{"$f":"급여내역!BO13","v":0},{"$f":"급여내역!BP13","v":0},0,null,null,null,null,null,0]
[null,7,{"$f":"급여내역!AX14","v":0},null,null,null,{"$f":"급여내역!BB14","v":0},{"$f":"급여내역!BK14","v":0},{"$f":"급여내역!BO14","v":0},{"$f":"급여내역!BP14","v":0},0,null,null,null,null,null,0]
[null,8,{"$f":"급여내역!AX15","v":0},null,null,null,{"$f":"급여내역!BB15","v":0},{"$f":"급여내역!BK15","v":0},{"$f":"급여내역!BO15","v":0},{"$f":"급여내역!BP15","v":0},0,null,null,null,null,null,0]
[null,9,{"$f":"급여내역!AX16","v":0},null,null,null,{"$f":"급여내역!BB16","v":0},{"$f":"급여내역!BK16","v":0},{"$f":"급여내역!BO16","v":0},{"$f":"급여내역!BP16","v":0},0,null,null,null,null,null,0]
[null,10,{"$f":"급여내역!AX17","v":0},null,null,null,{"$f":"급여내역!BB17","v":0},{"$f":"급여내역!BK17","v":0},{"$f":"급여내역!BO17","v":0},{"$f":"급여내역!BP17","v":0},0,null,null,null,null,null,0]
[null,11,{"$f":"급여내역!AX18","v":0},null,null,null,{"$f":"급여내역!BB18","v":0},{"$f":"급여내역!BK18","v":0},{"$f":"급여내역!BO18","v":0},{"$f":"급여내역!BP18","v":0},0,null,null,null,null,null,0]
[null,12,{"$f":"급여내역!AX19","v":0},null,null,null,{"$f":"급여내역!BB19","v":0},{"$f":"급여내역!BK19","v":0},{"$f":"급여내역!BO19","v":0},{"$f":"급여내역!BP19","v":0},0,null,null,null,null,null,0]
[null,"계",null,null,null,{"$f":"SUM(F40:F51)","v":0},{"$f":"SUM(G40:G51)","v":0},{"$f":"SUM(H40:H51)","v":0},0,0,0,null,null,0,0,{"$f":"SUM(P40:P51)","v":0},{"$f":"SUM(Q40:Q51)","v":0}]
[null,null,null,null,null,null,null,null,null,null,null,null,null,null,null,null,"297㎜×210㎜"]
[null,null,null,null,null,null,null,null,null,null,null,null,null,null,null,null,"(3쪽 중 제3쪽)"]
[null,"Ⅲ.  근    로   소   득   원   천   징   수   액   등"]
[null,"월별","1.감면세액",null,null,"(63)납세조합\n공제세액","2. 차  감  원  천  징  수  액",null,null,null,"3. 징수의무자 자체 증빙 지출액(소득공제)"]
[null,null,"(61)감면소득",null,"(62)감면세액",null,"(64)소득세","(65)지방소득세","(66)농어촌특별세","(67)외국납부세액","(68)연금보험","(69)건강보험","(70)고용보험","(71)기부금",null,"(72)비고"]
[null,1,null,null,{"$f":"급여내역!AI8","v":0},null,{"$f":"급여내역!AL8","v":22740},{"$f":"급여내역!AP8","v":2270},{"$f":"급여내역!AT8","v":0},null,{"$f":"급여내역!CA8","v":94500},{"$f":"급여내역!CB8+급여내역!CD8","v":73600},{"$f":"급여내역!CC8","v":16800}]
[null,2,null,null,{"$f":"급여내역!AI9","v":0},null,{"$f":"급여내역!AL9","v":22740},{"$f":"급여내역!AP9","v":2270},{"$f":"급여내역!AT9","v":0},null,{"$f":"급여내역!CA9","v":94500},{"$f":"급여내역!CB9+급여내역!CD9","v":73600},{"$f":"급여내역!CC9","v":16800}]
[null,3,null,null,{"$f":"급여내역!AI10","v":0},null,{"$f":"급여내역!AL10","v":22740},{"$f":"급여내역!AP10","v":2270},{"$f":"급여내역!AT10","v":0},null,{"$f":"급여내역!CA10","v":94500},{"$f":"급여내역!CB10+급여내역!CD10","v":73600},{"$f":"급여내역!CC10","v":16800}]
[null,4,null,null,{"$f":"급여내역!AI11","v":0},null,{"$f":"급여내역!AL11","v":22740},{"$f":"급여내역!AP11","v":2270},{"$f":"급여내역!AT11","v":0},null,{"$f":"급여내역!CA11","v":94500},{"$f":"급여내역!CB11+급여내역!CD11","v":73600},{"$f":"급여내역!CC11","v":16800}]
[null,5,null,null,{"$f":"급여내역!AI12","v":0},null,{"$f":"급여내역!AL12","v":22740},{"$f":"급여내역!AP12","v":2270},{"$f":"급여내역!AT12","v":0},null,{"$f":"급여내역!CA12","v":94500},{"$f":"급여내역!CB12+급여내역!CD12","v":73600},{"$f":"급여내역!CC12","v":16800}]
[null,6,null,null,{"$f":"급여내역!AI13","v":0},null,{"$f":"급여내역!AL13","v":22740},{"$f":"급여내역!AP13","v":2270},{"$f":"급여내역!AT13","v":0},null,{"$f":"급여내역!CA13","v":94500},{"$f":"급여내역!CB13+급여내역!CD13","v":73600},{"$f":"급여내역!CC13","v":16800}]
[null,7,null,null,{"$f":"급여내역!AI14","v":0},null,{"$f":"급여내역!AL14","v":22740},{"$f":"급여내역!AP14","v":2270},{"$f":"급여내역!AT14","v":0},null,{"$f":"급여내역!CA14","v":94500},{"$f":"급여내역!CB14+급여내역!CD14","v":73600},{"$f":"급여내역!CC14","v":16800}]
[null,8,null,null,{"$f":"급여내역!AI15","v":0},null,{"$f":"급여내역!AL15","v":22740},{"$f":"급여내역!AP15","v":2270},{"$f":"급여내역!AT15","v":0},null,{"$f":"급여내역!CA15","v":94500},{"$f":"급여내역!CB15+급여내역!CD15","v":73600},{"$f":"급여내역!CC15","v":16800}]
[null,9,null,null,{"$f":"급여내역!AI16","v":0},null,{"$f":"급여내역!AL16","v":22740},{"$f":"급여내역!AP16","v":0},{"$f":"급여내역!AT16","v":0},null,{"$f":"급여내역!CA16","v":94500},{"$f":"급여내역!CB16+급여내역!CD16","v":73600},{"$f":"급여내역!CC16","v":16800}]
[null,10,null,null,{"$f":"급여내역!AI17","v":0},null,{"$f":"급여내역!AL17","v":22740},{"$f":"급여내역!AP17","v":2270},{"$f":"급여내역!AT17","v":0},null,{"$f":"급여내역!CA17","v":94500},{"$f":"급여내역!CB17+급여내역!CD17","v":73600},{"$f":"급여내역!CC17","v":16800}]
[null,11,null,null,{"$f":"급여내역!AI18","v":0},null,{"$f":"급여내역!AL18","v":22740},{"$f":"급여내역!AP18","v":2270},{"$f":"급여내역!AT18","v":0},null,{"$f":"급여내역!CA18","v":94500},{"$f":"급여내역!CB18+급여내역!CD18","v":73600},{"$f":"급여내역!CC18","v":16800}]
[null,12,null,null,{"$f":"급여내역!AI19","v":0},null,{"$f":"급여내역!AL19","v":22740},{"$f":"급여내역!AP19","v":2270},{"$f":"급여내역!AT19","v":0},null,{"$f":"급여내역!CA19","v":94500},{"$f":"급여내역!CB19+급여내역!CD19","v":73600},{"$f":"급여내역!CC19","v":16800}]
[null,"계",{"$f":"SUM(C58:D69)","v":0},null,{"$f":"SUM(E58:E69)","v":0},0,272880,24970,0,0,1134000,883200,201600]
[null,"작성일자:",null,null,null,null,{"$f":"기본사항!G19","v":"2022-03-02"},null,"징수의무자:",null,{"$f":"기본사항!G15","v":"김철수"},null,null,"(서명 또는 인)"]
[null,"※  (72)비고란에는 (71)기부금에 해당하는 기부금유형 및 코드를 적습니다."]
[null,"                                                    ",null,null,null,null,null,null,null,null,null,null,null,null,null,null,"297㎜×210㎜"]

{"sheet":"사용가이드","index":9,"n_rows":0,"n_cols":0,"rows_kept":0,"cut":false,"hidden":false,"merged":[]}