{"text_format":"1","workbook":"xlsx","n_sheets":11,"sheets":["기본사항","신고서","급여내역","인적공제","신용카드","기부금","기부금 이월","감면","영수증","징수부","사용가이드"],"not_rendered":{"charts":0,"images":2,"macros":1,"external_links":0,"defined_names":9,"comments":7,"pivot_tables":0},"unopened":[],"bounds":{"document_bytes":16777216,"sheet_cells":100000,"rows_first":2000,"rows_last":500,"rows_between":2000,"halvings":0,"cell_chars":16384,"cell_head_chars":4096},"cells_cut":0,"cells_raw":0,"read":"whole","date_system":"1900"}

{"sheet":"기본사항","index":0,"n_rows":23,"n_cols":16,"rows_kept":23,"cut":false,"hidden":false,"merged":[[22,15,22,20],[19,6,19,13],[20,15,20,20],[15,2,15,5],[15,6,15,13],[18,2,18,5],[17,6,17,13],[18,6,18,13],[17,2,17,5],[19,15,19,20],[19,2,19,5],[14,6,14,13],[4,2,5,13],[9,2,9,5],[6,6,6,13],[21,15,21,20],[16,2,16,5],[4,15,5,19],[16,6,16,13],[7,2,7,5],[6,2,6,5],[13,2,13,5],[7,6,7,13],[14,2,14,5],[9,6,9,13],[11,2,12,13],[2,15,2,19],[3,15,3,19],[8,2,8,5],[8,6,8,13],[13,6,13,13]]}
[]
[]
[null,null,null,null,null,null,null,null,null,null,null,null,null,null,null,"사용가이드"]
[]
[null,null,"소득자 인적사항"]
[]
[null,null,"성명",null,null,null,"이영화"]
[null,null,"주민등록번호",null,null,null,"123456-1234567"]
[null,null,"주소",null,null,null,"서울 중구 다산로11길 25"]
[null,null,"귀속연도",null,null,null,2022]
[]
[null,null,"원천징수의무자 인적사항"]
[]
[null,null,"상호",null,null,null,"(주)조세통람"]
[null,null,"대표자성명",null,null,null,"김철수"]
[null,null,"사업자등록번호",null,null,null,"203-81-11111"]
[null,null,"주민등록번호",null,null,null,"123456-1234567"]
[null,null,"사업장주소",null,null,null,"서울 중구 동호로14길 5-6"]
[null,null,"신고년월일",null,null,null,"2023-03-02"]
[null,null,"관할세무서",null,null,null,"중부세무서장"]
[]
[null,null,null,null,null,null,null,null,null,null,null,null,null,null,null,"최신세무·회계·법령서비스"]
[null,null,null,null,null,null,null,null,null,null,null,null,null,null,null,"http://www.taxnet.co.kr/"]

{"sheet":"신고서","index":1,"n_rows":275,"n_cols":65,"rows_kept":275,"cut":false,"hidden":false,"merged":[[122,44,122,57],[105,2,108,7],[105,32,105,37],[105,38,105,43],[105,44,105,57],[106,32,106,37],[106,38,106,43],[251,41,252,49],[253,41,253,49],[254,41,254,49],[128,2,128,23],[127,32,127,37],[127,38,127,43],[127,44,127,57],[112,38,114,43],[114,21,114,23],[115,8,117,20],[162,33,167,37],[210,1,210,57],[211,1,211,57],[212,1,212,10],[212,11,212,19],[212,20,212,30],[212,31,212,38],[212,39,212,57],[255,41,255,49],[251,50,252,57],[253,50,253,57],[254,50,254,57],[255,50,255,57],[255,1,255,9],[255,10,255,16],[255,27,255,33],[255,34,255,37],[255,38,255,40],[255,17,255,20],[224,39,224,57],[225,1,225,19],[225,20,225,30],[226,39,226,57],[227,1,227,19],[227,20,227,30],[225,31,225,38],[225,39,225,57],[247,33,247,40],[226,20,226,30],[226,31,226,38],[230,39,230,57],[231,31,231,38],[227,31,227,38],[227,39,227,57],[228,1,228,57],[229,1,229,57],[230,11,230,19],[231,1,231,10],[231,11,231,19],[232,1,232,10],[18,2,18,4],[20,2,20,4],[19,2,19,4],[17,2,17,10],[108,44,108,57],[109,32,109,37],[109,44,109,57],[136,38,136,43],[136,44,136,57],[130,1,131,57],[129,2,129,23],[120,32,120,37],[120,38,120,43],[120,44,120,57],[128,24,128,31],[115,21,115,23],[115,24,117,31],[115,38,117,43],[117,21,117,23],[126,44,126,57],[122,38,122,43],[129,24,129,31],[129,32,129,37],[122,24,122,31],[126,24,126,31],[126,8,126,23],[134,32,134,37],[121,38,121,43],[134,38,134,57],[135,38,135,43],[135,44,135,57],[124,44,124,57],[126,38,126,43],[109,21,109,23],[109,24,111,31],[109,38,111,43],[111,21,111,23],[124,8,124,23],[14,5,14,12],[15,5,15,12],[18,5,18,12],[19,5,19,12],[20,5,20,12],[21,5,21,12],[22,5,22,12],[23,5,23,12],[24,5,24,12],[25,5,25,12],[26,5,26,12],[27,5,27,12],[28,5,28,12],[31,7,31,12],[126,32,126,37],[118,32,118,37],[118,38,118,43],[27,2,27,4],[119,24,119,31],[120,24,120,31],[121,24,121,31],[123,24,123,31],[124,24,124,31],[122,8,122,23],[127,2,127,23],[118,24,118,31],[109,2,118,7],[121,32,121,37],[135,10,135,22],[135,23,135,31],[135,32,135,37],[112,8,114,20],[112,21,112,23],[112,24,114,31],[31,2,31,4],[30,2,30,4],[127,24,127,31],[8,10,8,16],[8,18,8,26],[8,27,8,35],[8,36,8,41],[8,43,8,57],[5,27,5,35],[5,36,5,57],[6,1,6,9],[6,27,6,35],[6,45,6,55],[6,56,6,57],[5,1,5,9],[5,10,5,26],[17,27,17,29],[17,17,17,19],[13,27,13,57],[13,2,13,26],[6,36,6,38],[9,36,9,38],[6,39,6,44],[9,39,9,44],[12,1,12,9],[12,12,12,14],[17,23,17,26],[17,30,17,31],[17,32,17,33],[14,2,14,4],[20,20,20,22],[20,23,20,26],[20,27,20,29],[26,2,26,4],[2,1,2,57],[3,1,3,57],[4,1,4,9],[4,10,4,26],[4,27,4,35],[4,36,4,57],[11,1,11,9],[11,27,11,35],[16,2,16,12],[15,2,15,4],[15,17,15,19],[14,27,15,29],[15,14,15,16],[12,17,12,19],[9,1,9,9],[9,27,9,35],[9,45,9,55],[9,56,9,57],[12,27,12,57],[13,1,55,1],[24,2,24,4],[23,20,23,22],[24,23,24,26],[20,14,20,19],[21,2,21,4],[23,2,23,4],[27,20,27,22],[8,1,8,9],[22,14,22,19],[22,23,22,26],[22,27,22,29],[22,2,22,4],[21,20,21,22],[21,23,21,26],[21,27,21,29],[22,20,22,22],[49,54,49,57],[29,2,29,4],[27,14,27,16],[27,17,27,19],[42,20,42,25],[29,20,29,22],[29,23,29,26],[27,27,27,29],[36,27,36,29],[29,27,29,29],[30,27,30,29],[42,26,42,31],[28,27,28,29],[29,14,29,16],[29,17,29,19],[48,54,48,57],[26,14,26,19],[26,27,26,29],[28,30,28,31],[26,20,26,22],[26,23,26,26],[25,2,25,4],[25,14,25,16],[25,17,25,19],[30,7,30,12],[36,42,36,43],[36,44,36,45],[42,32,42,38],[42,39,42,45],[36,2,36,4],[40,14,41,19],[40,20,41,25],[28,14,28,19],[28,20,28,22],[28,23,28,26],[36,20,36,22],[36,23,36,26],[37,2,37,4],[45,32,45,38],[43,32,43,38],[32,2,32,4],[32,7,32,12],[32,14,32,19],[32,20,32,22],[32,23,32,26],[32,27,32,29],[33,23,33,26],[31,17,31,19],[33,14,33,16],[30,14,30,19],[30,20,30,22],[30,23,30,26],[30,30,30,31],[51,54,51,57],[34,7,34,12],[34,14,34,19],[34,20,34,22],[34,23,34,26],[34,27,34,29],[35,2,35,4],[48,26,48,31],[36,7,36,12],[35,23,35,26],[35,27,35,29],[46,14,46,19],[36,14,36,19],[48,32,48,38],[43,39,43,45],[49,14,49,19],[46,20,46,25],[51,2,51,4],[42,46,42,49],[43,46,43,49],[44,46,44,49],[45,46,45,49],[46,46,46,49],[47,46,47,49],[42,50,42,53],[43,50,43,53],[44,50,44,53],[45,50,45,53],[46,50,46,53],[47,50,47,53],[44,7,44,13],[49,32,49,38],[31,20,31,22],[31,23,31,26],[31,27,31,29],[37,27,37,29],[42,54,42,57],[43,54,43,57],[44,54,44,57],[45,54,45,57],[46,54,46,57],[37,7,37,12],[37,14,37,16],[42,14,42,19],[52,54,52,57],[47,26,47,31],[47,32,47,38],[47,39,47,45],[35,54,35,55],[35,56,35,57],[33,27,33,29],[51,7,51,12],[51,14,51,19],[51,20,51,25],[34,56,34,57],[32,30,32,31],[32,32,32,33],[32,34,32,35],[32,36,32,37],[32,38,32,39],[32,40,32,41],[32,42,32,43],[32,44,32,45],[32,54,32,55],[33,2,33,4],[33,7,33,12],[34,2,34,4],[33,17,33,19],[33,20,33,22],[37,23,37,26],[43,14,43,19],[43,20,43,25],[43,26,43,31],[47,54,47,57],[37,17,37,19],[37,20,37,22],[49,39,49,45],[35,30,35,31],[35,32,35,33],[35,34,35,35],[50,20,50,25],[50,26,50,31],[50,32,50,38],[50,39,50,45],[50,54,50,57],[36,56,36,57],[33,56,33,57],[34,30,34,31],[34,32,34,33],[34,34,34,35],[34,36,34,37],[34,38,34,39],[34,40,34,41],[34,42,34,43],[34,44,34,45],[34,54,34,55],[47,20,47,25],[49,20,49,25],[49,26,49,31],[45,14,45,19],[45,20,45,25],[45,26,45,31],[45,39,45,45],[35,7,35,12],[35,14,35,16],[35,17,35,19],[35,20,35,22],[46,26,46,31],[37,30,37,31],[37,32,37,33],[37,34,37,35],[37,36,37,37],[39,2,41,6],[42,2,42,6],[43,2,43,6],[44,2,44,6],[45,2,45,6],[46,2,46,6],[47,2,47,6],[40,7,41,13],[42,7,42,13],[46,7,46,13],[45,7,45,13],[44,32,44,38],[44,39,44,45],[53,2,53,4],[53,7,53,12],[53,14,53,19],[53,20,53,25],[53,26,53,31],[52,39,52,45],[51,26,51,31],[51,32,51,38],[51,39,51,45],[52,32,52,38],[49,7,49,12],[48,2,48,4],[48,7,48,12],[48,14,48,19],[48,20,48,25],[49,2,49,4],[53,32,53,38],[53,39,53,45],[50,2,50,4],[50,7,50,12],[50,14,50,19],[52,2,52,4],[52,7,52,12],[52,14,52,19],[52,20,52,25],[52,26,52,31],[69,35,69,55],[68,10,68,20],[69,10,69,20],[54,26,54,31],[54,32,54,38],[54,39,54,45],[68,21,68,34],[69,21,69,34],[68,35,68,55],[62,7,62,15],[62,16,62,19],[62,20,62,29],[62,44,62,55],[62,30,62,33],[62,34,62,43],[61,7,61,15],[61,16,61,19],[61,20,61,29],[61,44,61,55],[61,30,61,33],[61,34,61,43],[58,2,58,57],[54,54,54,57],[55,14,55,19],[55,39,55,45],[55,54,55,57],[60,34,60,43],[68,7,68,9],[59,2,59,57],[60,7,60,15],[60,16,60,19],[60,20,60,29],[57,1,57,57],[47,14,47,19],[55,2,55,4],[55,7,55,12],[55,20,55,25],[37,54,37,55],[37,56,37,57],[33,54,33,55],[43,7,43,13],[47,7,47,13],[55,26,55,31],[55,32,55,38],[54,2,54,4],[54,7,54,12],[54,14,54,19],[54,20,54,25],[30,40,30,41],[33,30,33,31],[33,32,33,33],[33,34,33,35],[33,36,33,37],[33,38,33,39],[33,40,33,41],[36,30,36,31],[36,32,36,33],[37,38,37,39],[37,40,37,41],[37,42,37,43],[37,44,37,45],[33,42,33,43],[33,44,33,45],[35,36,35,37],[60,44,60,55],[60,30,60,33],[36,34,36,35],[36,36,36,37],[36,38,36,39],[36,40,36,41],[48,39,48,45],[53,54,53,57],[46,32,46,38],[46,39,46,45],[31,14,31,16],[76,1,76,7],[76,32,76,37],[76,38,76,43],[76,44,76,57],[87,15,87,23],[88,15,88,23],[87,24,88,31],[86,8,86,23],[86,24,86,31],[81,24,81,31],[64,7,64,54],[65,2,65,56],[66,2,66,56],[63,7,63,15],[63,16,63,19],[63,20,63,29],[63,44,63,55],[63,30,63,33],[63,34,63,43],[69,7,69,9],[72,2,72,55],[71,2,71,56],[76,24,76,31],[76,8,76,23],[77,24,77,31],[78,24,78,31],[79,24,79,31],[79,44,79,57],[80,32,80,37],[80,38,80,43],[80,44,80,57],[77,44,77,57],[78,32,78,37],[78,38,78,43],[78,44,78,57],[77,15,77,23],[78,15,78,23],[77,38,77,43],[79,8,80,14],[77,1,81,1],[77,2,81,7],[77,8,78,14],[77,32,77,37],[79,32,79,37],[89,24,97,31],[89,15,89,23],[90,15,90,23],[91,15,91,23],[92,15,92,23],[93,15,93,23],[94,17,94,23],[82,24,82,31],[83,24,83,31],[84,24,84,31],[85,24,85,31],[82,15,82,23],[83,15,83,23],[85,15,85,23],[84,15,84,23],[81,8,81,23],[81,32,81,37],[81,38,81,43],[81,44,81,57],[88,44,88,57],[87,44,87,57],[86,44,86,57],[84,38,84,43],[84,44,84,57],[85,32,85,37],[85,38,85,43],[85,44,85,57],[79,15,79,23],[79,38,79,43],[80,15,80,23],[82,38,82,43],[82,44,82,57],[83,32,83,37],[83,38,83,43],[83,44,83,57],[80,24,80,31],[91,44,91,57],[92,44,92,57],[93,32,93,37],[93,44,93,57],[100,24,100,31],[94,32,94,37],[100,8,100,23],[87,32,87,37],[94,11,97,14],[94,15,96,16],[97,17,97,23],[98,8,98,23],[98,24,98,31],[87,38,88,43],[95,32,95,37],[89,44,89,57],[89,8,97,10],[98,44,98,57],[88,32,88,37],[102,44,102,57],[103,44,103,57],[115,44,115,57],[101,44,101,57],[101,24,101,31],[101,8,101,23],[89,11,91,14],[89,32,89,37],[119,44,119,57],[82,2,86,7],[82,8,83,14],[82,32,82,37],[84,8,85,14],[84,32,84,37],[89,38,97,43],[92,11,93,14],[92,32,92,37],[96,17,96,23],[87,2,98,7],[87,8,88,14],[102,8,102,23],[102,24,102,31],[100,32,100,37],[100,44,100,57],[94,44,94,57],[95,44,95,57],[97,44,97,57],[96,44,96,57],[97,15,97,16],[97,32,97,37],[90,44,90,57],[91,32,91,37],[106,8,106,23],[107,8,107,23],[118,8,118,23],[108,24,108,31],[108,8,108,23],[105,24,105,31],[119,8,119,23],[82,1,102,1],[122,32,122,37],[104,32,104,37],[104,38,104,43],[108,32,108,37],[101,32,101,37],[98,32,98,37],[98,38,98,43],[96,32,96,37],[108,38,108,43],[103,24,103,31],[103,2,103,23],[102,32,102,37],[102,38,102,43],[107,32,107,37],[86,38,86,43],[86,32,86,37],[106,44,106,57],[116,21,116,23],[129,38,129,43],[129,44,129,57],[132,1,132,3],[132,4,132,22],[132,23,132,57],[103,1,129,1],[103,32,103,37],[103,38,103,43],[104,24,104,31],[128,32,128,37],[128,38,128,43],[128,44,128,57],[104,44,104,57],[104,2,104,23],[110,21,110,23],[113,21,113,23],[110,44,110,57],[113,44,113,57],[116,44,116,57],[110,32,110,37],[113,32,113,37],[116,32,116,37],[125,8,125,23],[125,24,125,31],[107,38,107,43],[107,44,107,57],[106,24,106,31],[107,24,107,31],[109,8,111,20],[105,8,105,23],[142,4,146,9],[142,10,142,22],[142,23,142,26],[142,27,142,32],[142,38,142,42],[142,54,142,57],[121,44,121,57],[123,32,123,37],[123,38,123,43],[123,44,123,57],[124,32,124,37],[124,38,124,43],[118,44,118,57],[119,2,126,7],[119,32,119,37],[119,38,119,43],[140,4,140,22],[140,23,140,31],[140,32,140,37],[140,38,140,43],[140,44,140,57],[137,4,137,22],[137,23,137,31],[137,32,137,37],[137,38,137,43],[137,44,137,57],[138,4,138,22],[138,23,138,31],[138,32,138,37],[120,8,120,23],[121,8,121,23],[123,8,123,23],[133,1,175,1],[133,2,140,3],[133,4,136,9],[133,10,133,14],[134,10,134,22],[134,23,134,31],[136,10,136,22],[136,23,136,31],[141,2,175,3],[141,4,141,22],[141,23,141,32],[139,4,139,22],[139,23,139,31],[139,32,139,37],[139,38,139,43],[139,44,139,57],[147,43,147,45],[147,54,147,57],[148,10,148,22],[148,23,148,26],[148,27,148,32],[148,33,148,37],[148,38,148,42],[148,43,148,45],[141,33,141,36],[157,17,158,17],[157,10,158,16],[157,18,158,18],[157,19,158,21],[157,22,158,22],[157,27,158,32],[136,32,136,37],[138,38,138,43],[138,44,138,57],[146,10,146,22],[146,23,146,26],[146,27,146,32],[146,33,146,37],[146,38,146,42],[146,54,146,57],[143,10,143,22],[143,23,143,26],[143,27,143,32],[143,38,143,42],[143,54,143,57],[144,10,144,22],[144,23,144,26],[144,27,144,32],[144,38,144,42],[144,54,144,57],[141,38,141,42],[141,43,141,45],[141,54,141,57],[145,10,145,22],[145,23,145,26],[145,27,145,32],[142,33,145,37],[142,43,145,45],[145,38,145,42],[145,54,145,57],[154,54,154,57],[153,10,153,22],[153,23,153,26],[153,27,153,32],[147,10,147,22],[147,23,147,26],[147,27,147,32],[147,33,147,37],[149,10,149,22],[149,23,149,26],[149,27,149,32],[154,10,154,22],[154,23,154,26],[154,27,154,32],[154,33,154,37],[154,38,154,42],[154,43,154,45],[151,27,151,32],[151,38,151,42],[151,43,151,45],[151,54,151,57],[148,54,148,57],[149,38,149,42],[149,43,149,45],[149,54,149,57],[150,10,150,22],[150,23,150,26],[150,27,150,32],[150,33,152,37],[150,38,150,42],[149,33,149,37],[147,38,147,42],[150,8,154,9],[160,38,160,42],[160,54,160,57],[159,10,159,17],[159,19,159,21],[161,10,161,22],[152,10,152,22],[152,23,152,26],[152,27,152,32],[152,38,152,42],[152,43,152,45],[152,54,152,57],[150,43,150,45],[150,54,150,57],[151,10,151,22],[151,23,151,26],[159,27,159,32],[161,38,161,42],[161,54,161,57],[159,23,159,26],[159,33,159,37],[159,38,159,42],[159,54,159,57],[160,10,160,16],[160,19,160,21],[160,23,160,26],[160,27,160,32],[160,33,160,37],[155,8,161,9],[155,10,155,22],[155,23,155,26],[155,27,155,32],[165,23,165,26],[165,27,165,32],[165,38,165,42],[165,54,165,57],[164,38,164,42],[155,33,155,37],[155,38,155,42],[155,54,155,57],[156,10,156,16],[156,19,156,21],[162,43,162,45],[162,54,162,57],[163,15,163,22],[163,23,163,26],[163,27,163,32],[163,38,163,42],[163,54,163,57],[163,43,168,45],[162,38,162,42],[164,10,164,22],[164,23,164,26],[156,23,156,26],[156,27,156,32],[156,33,156,37],[156,38,156,42],[156,54,156,57],[157,38,158,42],[157,54,158,57],[155,43,160,45],[157,23,158,26],[157,33,158,37],[166,10,166,22],[170,38,170,43],[170,44,170,57],[171,23,171,31],[171,32,171,37],[171,38,171,43],[171,44,171,57],[168,54,168,57],[166,23,166,26],[169,4,174,22],[169,23,169,31],[169,32,169,37],[169,38,169,43],[169,44,169,57],[170,23,170,31],[170,32,170,37],[168,10,168,22],[168,23,168,26],[168,27,168,32],[168,33,168,37],[168,38,168,42],[166,27,166,32],[166,38,166,42],[166,54,166,57],[167,10,167,22],[167,23,167,26],[167,27,167,32],[167,38,167,42],[167,54,167,57],[147,4,168,7],[147,8,149,9],[164,54,164,57],[161,27,161,32],[182,23,182,30],[182,38,182,57],[177,2,177,57],[174,23,174,31],[174,32,174,37],[174,38,174,43],[174,44,174,57],[175,4,175,22],[175,23,175,31],[175,32,175,37],[175,38,175,43],[175,44,175,57],[176,4,176,22],[172,23,172,31],[172,32,172,37],[172,38,172,43],[172,44,172,57],[173,23,173,31],[173,32,173,37],[173,38,173,43],[173,44,173,57],[176,23,176,31],[176,32,176,37],[176,38,176,43],[181,38,181,39],[181,40,181,41],[164,27,164,32],[195,27,195,35],[195,36,195,57],[190,2,190,56],[188,1,188,12],[188,24,188,25],[188,35,188,36],[162,8,168,9],[162,10,163,14],[162,15,162,22],[162,23,162,26],[162,27,162,32],[183,14,183,22],[183,23,183,30],[183,31,183,37],[184,29,185,57],[186,24,186,25],[186,26,186,27],[182,1,183,4],[186,1,187,22],[179,32,179,33],[179,36,179,42],[179,43,179,56],[180,1,180,57],[184,1,185,22],[184,26,184,27],[181,42,181,43],[182,7,182,12],[176,44,176,57],[178,1,178,57],[181,1,181,37],[182,14,182,22],[206,1,206,57],[207,1,207,10],[207,11,207,19],[207,20,207,30],[207,31,207,38],[207,39,207,57],[204,1,204,10],[204,11,204,19],[204,20,204,30],[204,31,204,38],[204,39,204,57],[205,1,205,57],[202,1,202,10],[202,11,202,19],[202,20,202,30],[202,31,202,38],[202,39,202,57],[203,1,203,10],[203,11,203,19],[203,20,203,30],[203,31,203,38],[203,39,203,57],[273,2,273,56],[252,38,252,40],[253,1,253,9],[253,10,253,16],[253,27,253,33],[253,34,253,37],[253,38,253,40],[251,1,252,9],[251,10,252,16],[251,27,252,33],[262,45,262,57],[260,32,260,35],[265,44,266,57],[261,45,261,57],[251,17,252,20],[251,34,251,40],[252,34,252,37],[261,27,261,31],[261,32,261,35],[261,36,261,40],[267,1,267,9],[267,10,267,16],[267,17,267,22],[267,23,267,26],[267,27,267,36],[270,1,270,57],[271,1,271,57],[272,1,272,57],[269,17,269,22],[269,23,269,26],[269,27,269,36],[269,37,269,40],[274,1,274,57],[28,2,28,4],[268,44,268,57]],"merged_total":1397,"flags":["merged_cut"]}
[]
[null,"■ 소득세법 시행규칙[별지 제37호서식(1)] <개정 2022. 03. 18.>",null,null,null,null,null,null,null,null,null,null,null,null,null,null,null,null,null,null,null,null,null,null,null,null,null,null,null,null,null,null,null,null,null,null,null,null,null,null,null,null,null,null,null,null,null,null,null,null,null,null,null,null,null,null,null,"(8쪽 중 제1쪽)"]
[null,"소득ㆍ세액 공제신고서/근로소득자 소득ㆍ세액 공제신고서 ( 2022년 소득에 대한 연말정산용)"]
[null,"※ 근로소득자는 신고서에 소득ㆍ세액 공제 증명서류를 첨부하여 원천징수의무자(소속 회사 등)에게 제출하며, 원천징수의무자는 신고서 및 첨부서류를 확인하여 근로소득 세액계산을 하고 근로소득자에게 즉시 근로소득원천징수영수증을 발급해야 합니다. 연말정산 시 근로소득자에게 환급이 발생하는 경우 원천징수의무자는 근로소득자에게 환급세액을 지급해야 합니다."]
[null,"소득자 성명",null,null,null,null,null,null,null,null,{"$f":"기본사항!G7","v":"이영화"},null,null,null,null,null,null,null,null,null,null,null,null,null,null,null,null,"주민등록번호",null,null,null,null,null,null,null,null,{"$f":"기본사항!G8","v":"123456-1234567"}]
[null,"근무처 명칭",null,null,null,null,null,null,null,null,{"$f":"기본사항!G14","v":"(주)조세통람"},null,null,null,null,null,null,null,null,null,null,null,null,null,null,null,null,"사업자등록번호",null,null,null,null,null,null,null,null,{"$f":"기본사항!G16","v":"203-81-11111"}]
[null,"세대주여부",null,null,null,null,null,null,null,null,null,null,null,null,"세대주",null,null,",",null,null,null,"세대원",null,null,null,null,null,"국적",null,null,null,null,null,null,null,null,"한국",null,null,"( 국적 코드:",null,null,null,null,null,"KR",null,null,null,null,null,null,null,null,null,null,")"]
[null,null,null,null,null,null,null,null,null,null,false,null,null,null,null,null,null,null,null,null,null,null,null,null,null,null,false]
[null,"근무기간",null,null,null,null,null,null,null,null,20220101,null,null,null,null,null,null,"~",20221231,null,null,null,null,null,null,null,null,"감면기간",null,null,null,null,null,null,null,null,null,null,null,null,null,null,"~"]
[null,"거주구분",null,null,null,null,null,null,null,null,null,null,null,null,"거주자",null,null,",",null,null,null,"비거주자",null,null,null,null,null,"거주지국",null,null,null,null,null,null,null,null,"한국",null,null,"( 거주지국 코드:",null,null,null,null,null,"KR",null,null,null,null,null,null,null,null,null,null,")"]
[null,null,null,null,null,null,null,null,null,null,true,null,null,null,null,null,null,null,null,null,null,null,null,null,null,null,false,null,null,null,null,null,null,null,null,null,null,null,null,null,null,null,null,null,null,null,null,null,"i",null,"i","i"]
[null,"인적공제 항목변동 여부",null,null,null,null,null,null,null,null,null,null,"   전년과동일",null,null,null,null,",",null,null,null,"변동",null,null,null,null,null,"분납신청 여부",null,null,null,null,null,null,null,null,null,null,null,null,"신청",null,null,",",null,null,null,null,null,null,null,null,null,null,null,"미신청"]
[null,"원천징수세액 선택",null,null,null,null,null,null,null,null,null,null,1.2,null,null,null,null,1,null,null,null,null,0.8,null,null,null,null,"※ 근로소득자 본인이 원하는 경우 매월 원천징수하는 세액을 법령상 세액의 120%, 100%, 80% 중 선택할 수 있습니다."]
[null,"Ⅰ.인적공제 및 소득공제명세","인적공제항목",null,null,null,null,null,null,null,null,null,null,null,null,null,null,null,null,null,null,null,null,null,null,null,null,"각종 소득ㆍ세액 공제 항목"]
[null,null,"관계코드",null,null,"성명",null,null,null,null,null,null,null,"소득금액\n기준","기본공제",null,null,null,null,null,"경로우대",null,null,"출산입양",null,null,null,"자료\n구분",null,null,"보험료",null,null,null,null,null,null,null,"의료비",null,null,null,null,null,null,null,null,null,null,null,null,null,null,null,"교육비"]
[null,null,"내ㆍ외\n국인",null,null,"주민등록번호",null,null,null,null,null,null,null,"(백만원)\n초과여부","부녀자",null,null,"한부모",null,null,"장애인",null,null,"자녀",null,null,null,null,null,null,"건강",null,"고용",null,"보장성",null,"장애인\n전용\n보장성",null,"일반",null,"난임",null,"65세이상\n장애인\n건강보험\n산정특례자",null,null,null,null,null,null,null,null,"실손의료\n보험금",null,null,"일반",null,"장애인"]
[null,null,"인적공제 항목에 해당하는",null,null,null,null,null,null,null,null,null,null,null,{"$f":"인적공제!G17","v":5},null,null,null,null,null,{"$f":"인적공제!M17","v":1},null,null,{"$f":"인적공제!I17","v":0},null,null,null,"국세청계",null,null,{"$f":"AE19+AE21+AE23+AE25+AE27+AE29+AE31+AE33+AE35+AE37","v":0},null,{"$f":"AG19+AG21+AG23+AG25+AG27+AG29+AG31+AG33+AG35+AG37","v":0},null,{"$f":"AI19+AI21+AI23+AI25+AI27+AI29+AI31+AI33+AI35+AI37","v":0},null,{"$f":"AK19+AK21+AK23+AK25+AK27+AK29+AK31+AK33+AK35+AK37","v":0},null,{"$f":"AM19+AM21+AM23+AM25+AM27+AM29+AM31+AM33+AM35+AM37","v":0},null,{"$f":"AO19+AO21+AO23+AO25+AO27+AO29+AO31+AO33+AO35+AO37","v":0},null,{"$f":"AQ19+AQ21+AQ23+AQ25+AQ27+AQ29+AQ31+AQ33+AQ35+AQ37","v":0},null,null,null,null,null,null,null,null,null,null,null,{"$f":"BC19+BC21+BC23+BC25+BC27+BC29+BC31+BC33+BC35+BC37","v":0},null,{"$f":"BE19+BE21+BE23+BE25+BE27+BE29+BE31+BE33+BE35+BE37","v":0}]
[null,null,"인원수를 적습니다. (자녀:",null,null,null,null,null,null,null,null,0,"명)",null,{"$f":"IF(R18=\"\",IF(O20=\"\",\"\",1),\"\")","v":""},null,null,{"$f":"IF(R20=\"\",\"\",1)","v":""},null,null,{"$f":"인적공제!K17","v":0},null,null,{"$f":"인적공제!L17","v":0},null,null,null,"기타계",null,null,{"$f":"AE20+AE22+AE24+AE26+AE28+AE30+AE32+AE34+AE36+AE38","v":883200},null,{"$f":"AG20+AG22+AG24+AG26+AG28+AG30+AG32+AG34+AG36+AG38","v":201600},null,{"$f":"AI20+AI22+AI24+AI26+AI28+AI30+AI32+AI34+AI36+AI38","v":0},null,{"$f":"AK20+AK22+AK24+AK26+AK28+AK30+AK32+AK34+AK36+AK38","v":0},null,{"$f":"AM20+AM22+AM24+AM26+AM28+AM30+AM32+AM34+AM36+AM38","v":0},null,{"$f":"AO20+AO22+AO24+AO26+AO28+AO30+AO32+AO34+AO36+AO38","v":0},null,{"$f":"AQ20+AQ22+AQ24+AQ26+AQ28+AQ30+AQ32+AQ34+AQ36+AQ38","v":0},null,{"$f":"AS20+AS22+AS24+AS26+AS28+AS30+AS32+AS34+AS36+AS38","v":0},null,null,null,null,null,null,null,null,null,{"$f":"BC20+BC22+BC24+BC26+BC28+BC30+BC32+BC34+BC36+BC38","v":0},null,{"$f":"BE20+BE22+BE24+BE26+BE28+BE30+BE32+BE34+BE36+BE38","v":0}]
[null,null,"0",null,null,{"$f":"K5","v":"이영화"},null,null,null,null,null,null,null,null,"○",null,null,null,null,null,null,null,null,null,null,null,null,"국세청"]
[null,null,1,null,null,"(근로자 본인)",null,null,null,null,null,null,null,null,null,null,null,null,null,null,null,null,null,null,null,null,null,"기타",null,null,{"$f":"급여내역!CB20+급여내역!CD20","v":883200},null,{"$f":"급여내역!CC20","v":201600}]
[null,null,3,null,null,"조세희",null,null,null,null,null,null,null,null,"○",null,null,null,null,null,null,null,null,null,null,null,null,"국세청"]
[null,null,1,null,null,"710415-2031653",null,null,null,null,null,null,null,null,null,null,null,null,null,null,null,null,null,null,null,null,null,"기타"]
[null,null,2,null,null,"편람일",null,null,null,null,null,null,null,null,"○",null,null,null,null,null,"○",null,null,null,null,null,null,"국세청"]
[null,null,1,null,null,"481103-2019015",null,null,null,null,null,null,null,null,null,null,null,null,null,null,null,null,null,null,null,null,null,"기타"]
[null,null,4,null,null,"이대한",null,null,null,null,null,null,null,null,"○",null,null,null,null,null,null,null,null,null,null,null,null,"국세청"]
[null,null,1,null,null,"091206-4059631",null,null,null,null,null,null,null,null,null,null,null,null,null,null,null,null,null,null,null,null,null,"기타"]
[null,null,4,null,null,"이민국",null,null,null,null,null,null,null,null,"○",null,null,null,null,null,null,null,null,null,null,null,null,"국세청"]
[null,null,1,null,null,"151230-3059632",null,null,null,null,null,null,null,null,null,null,null,null,null,null,null,null,null,null,null,null,null,"기타"]
[null,null,null,null,null,null,null,null,null,null,null,null,null,null,null,null,null,null,null,null,null,null,null,null,null,null,null,"국세청"]
[null,null,null,null,null,null,null,null,null,null,null,null,null,null,null,null,null,null,null,null,null,null,null,null,null,null,null,"기타"]
[null,null,null,null,null,null,null,null,null,null,null,null,null,null,null,null,null,null,null,null,null,null,null,null,null,null,null,"국세청"]
[null,null,null,null,null,null,null,null,null,null,null,null,null,null,null,null,null,null,null,null,null,null,null,null,null,null,null,"기타"]
[null,null,null,null,null,null,null,null,null,null,null,null,null,null,null,null,null,null,null,null,null,null,null,null,null,null,null,"국세청"]
[null,null,null,null,null,null,null,null,null,null,null,null,null,null,null,null,null,null,null,null,null,null,null,null,null,null,null,"기타"]
[null,null,null,null,null,null,null,null,null,null,null,null,null,null,null,null,null,null,null,null,null,null,null,null,null,null,null,"국세청"]
[null,null,null,null,null,null,null,null,null,null,null,null,null,null,null,null,null,null,null,null,null,null,null,null,null,null,null,"기타"]
[null,null,null,null,null,null,null,null,null,null,null,null,null,null,null,null,null,null,null,null,null,null,null,null,null,null,null,"국세청"]
[null,null,null,null,null,null,null,null,null,null,null,null,null,null,null,null,null,null,null,null,null,null,null,null,null,null,null,"기타"]
[null,null,"각종 소득ㆍ세액 공제 항목"]
[null,null,"자료\n구분",null,null,null,null,"신용카드등 사용액",null,null,null,null,null,null,null,null,null,null,null,null,null,null,null,null,null,null,null,null,null,null,null,null,null,null,null,null,null,null,null,null,null,null,null,null,null,null,null,null,null,null,null,null,null,null,"기부금"]
[null,null,null,null,null,null,null,"신용카드",null,null,null,null,null,null,"직불카드등",null,null,null,null,null,"현금영수증",null,null,null,null,null,"도서공연등사용분\n(총급여 7천만원 이하자만 기재)",null,null,null,null,null,"전통시장사용분",null,null,null,null,null,null,"대중교통 이용분",null,null,null,null,null,null,"소비증가분"]
[null,null,null,null,null,null,null,null,null,null,null,null,null,null,null,null,null,null,null,null,null,null,null,null,null,null,null,null,null,null,null,null,null,null,null,null,null,null,null,null,null,null,null,null,null,null,"2020년\n전체사용분",null,null,null,"2021년\n전체사용분"]
[null,null,"국세청계",null,null,null,null,{"$f":"H45+H47","v":0},null,null,null,null,null,null,{"$f":"O45+O47","v":0},null,null,null,null,null,{"$f":"U45+U47","v":0},null,null,null,null,null,{"$f":"AA45+AA47","v":0},null,null,null,null,null,{"$f":"AG45+AG47","v":0},null,null,null,null,null,null,{"$f":"AN45+AN47","v":0},null,null,null,null,null,null,{"$f":"AU45+AU47","v":0},null,null,null,{"$f":"AY45+AY47","v":0},null,null,null,{"$f":"BC45+BC47","v":0}]
[null,null,"기타계",null,null,null,null,{"$f":"H46+H48","v":0},null,null,null,null,null,null,{"$f":"O46+O48","v":0},null,null,null,null,null,{"$f":"SUM(U46,U48)","v":0},null,null,null,null,null,{"$f":"AA46+AA48","v":0},null,null,null,null,null,{"$f":"AG46+AG48","v":0},null,null,null,null,null,null,{"$f":"AN46+AN48","v":0},null,null,null,null,null,null,{"$f":"AU46+AU48","v":0},null,null,null,{"$f":"AY46+AY48","v":0},null,null,null,{"$f":"BC46+BC48","v":0}]
[null,null,"국세청"]
[null,null,"기타"]
[null,null,"국세청"]
[null,null,"기타"]
[null,null,"국세청",null,null,null,null,null,null,null,null,null,null,null,null,null,null,null,null,null,null,null,null,null,null,null,null,null,null,null,null,null,null,null,null,null,null,null,null,null,null,null,null,null,null,null,null,null,null,null,null,null,null,null,null,null,null,null,null,null,null,null,null,null,{"$f":"IF(R50=\"\",AC49+AC50,0)","v":0}]
[null,null,"기타"]
[null,null,"국세청",null,null,null,null,null,null,null,null,null,null,null,null,null,null,null,null,null,null,null,null,null,null,null,null,null,null,null,null,null,null,null,null,null,null,null,null,null,null,null,null,null,null,null,null,null,null,null,null,null,null,null,null,null,null,null,null,null,null,null,null,null,{"$f":"IF(R52=\"\",AC51+AC52,0)","v":0}]
[null,null,"기타"]
[null,null,"국세청",null,null,null,null,null,null,null,null,null,null,null,null,null,null,null,null,null,null,null,null,null,null,null,null,null,null,null,null,null,null,null,null,null,null,null,null,null,null,null,null,null,null,null,null,null,null,null,null,null,null,null,null,null,null,null,null,null,null,null,null,null,{"$f":"IF(R54=\"\",AC53+AC54,0)","v":0}]
[null,null,"기타"]
[null,null,"국세청",null,null,null,null,null,null,null,null,null,null,null,null,null,null,null,null,null,null,null,null,null,null,null,null,null,null,null,null,null,null,null,null,null,null,null,null,null,null,null,null,null,null,null,null,null,null,null,null,null,null,null,null,null,null,null,null,null,null,null,null,null,{"$f":"IF(R56=\"\",AC55+AC56,0)","v":0}]
[null,null,"기타"]
[]
[null,"유의사항"]
[null,null,"1. “인적공제 항목 변동 여부”란에는 해당 항목에 “√”표시합니다(인적공제 항목이 전년과 동일한 경우에는 주민등록표등본을 제출하지 않습니다)."]
[null,null,"2. 관계코드"]
[null,null,null,null,null,null,null,"구 분",null,null,null,null,null,null,null,null,"관계코드",null,null,null,"구  분",null,null,null,null,null,null,null,null,null,"관계코드",null,null,null,"구  분",null,null,null,null,null,null,null,null,null,"관계코드"]
[null,null,null,null,null,null,null,"소득자 본인\n(「소득세법」 §50①1)",null,null,null,null,null,null,null,null,"0",null,null,null,"소득자의 직계존속\n(「소득세법」 §50①3가)",null,null,null,null,null,null,null,null,null,1,null,null,null,"배우자의 직계존속\n(「소득세법」 §50①3가)",null,null,null,null,null,null,null,null,null,2]
[null,null,null,null,null,null,null,"배우자\n(「소득세법」 §50①2)",null,null,null,null,null,null,null,null,3,null,null,null,"직계비속(자녀ㆍ입양자)\n(「소득세법」 §50①3나)",null,null,null,null,null,null,null,null,null,4,null,null,null,"직계비속(코드 4 제외)\n(「소득세법」 §50①3나)",null,null,null,null,null,null,null,null,null,"5*"]
[null,null,null,null,null,null,null,"형제자매\n(「소득세법」 §50①3다)",null,null,null,null,null,null,null,null,6,null,null,null,"수급자(코드1~6제외)\n(「소득세법」 §50①3라)",null,null,null,null,null,null,null,null,null,7,null,null,null,"위탁아동\n(「소득세법」 §50①3마)",null,null,null,null,null,null,null,null,null,8]
[null,null,null,null,null,null,null,"* 관계코드 5: 해당 직계비속과 그 배우자가 장애인인 경우 그 배우자를 말하며, 관계코드 4~6은 소득자와 배우자의 각각의 관계를 포함합니다."]
[null,null,"3. 연령기준\n  - 경로우대: (    .   .   .)  이전 출생(만 70세 이상: 연 100만원 공제)"]
[null,null,"4. \"부녀자 공제\"란에는 소득자 본인이 여성인 경우로서 다음의 요건을 모두 충족하는 경우에 표시합니다.\n   가. 해당 과세기간의 종합소득과세표준을 계산할 때 합산하는 종합소득금액이 3천만원 이하일 것\n   나. 배우자가 없는 여성으로서 「소득세법」 제50조제1항제3호에 따른 부양가족이 있는 세대주이거나 배우자가 있는 여성일 것"]
[null,null,"5. \"장애인 공제\"란에는 다음의 해당 코드를 적습니다."]
[null,null,null,null,null,null,null,"구분",null,null,"「장애인복지법」에 따른 장애인",null,null,null,null,null,null,null,null,null,null,"「국가유공자 등 예우 및 지원에 관한 법률」에\n따른 상이자 및 이와 유사한 자로서\n근로능력이 없는 자",null,null,null,null,null,null,null,null,null,null,null,null,null,"그 밖에 항시 치료를 요하는 중증환자"]
[null,null,null,null,null,null,null,"해당코드",null,null,1,null,null,null,null,null,null,null,null,null,null,2,null,null,null,null,null,null,null,null,null,null,null,null,null,3]
[]
[null,null,"6. 내ㆍ외국인: 내국인=1, 외국인=9로 구분하여 적습니다. 종교관련종사자가 외국인에 해당하는 경우 국적을 적으며, 국적코드는 거주지국코드를 참조하여 적습니다."]
[null,null,"7. 내ㆍ외국인: 내국인=1, 외국인=9로 구분하여 적습니다. 근로소득자가 외국인에 해당하는 경우 국적을 적으며, 국적코드는 거주지국코드를 참조하여 적습니다."]
[]
[null,null,null,null,null,null,null,null,null,null,null,null,null,null,null,null,null,null,null,null,null,null,null,null,null,null,null,null,null,null,null,null,null,null,null,null,null,null,null,null,null,null,null,null,null,null,null,null,null,null,null,null,null,null,null,null,null,"210㎜×297㎜"]
[null,null,null,null,null,null,null,null,null,null,null,null,null,null,null,null,null,null,null,null,null,null,null,null,null,null,null,null,null,null,null,null,null,null,null,null,null,null,null,null,null,null,null,null,null,null,null,null,null,null,null,null,null,null,null,null,null,"(8쪽 중 제2쪽)"]
[null,"구분",null,null,null,null,null,null,"지출명세",null,null,null,null,null,null,null,null,null,null,null,null,null,null,null,"지출구분",null,null,null,null,null,null,null,"금액",null,null,null,null,null,"한도액",null,null,null,null,null,"공제액"]
[null,"Ⅱ.연금보험료공제","연금보험료(국민연금,\n공무원연금, 군인연금, 교직원연금 등)",null,null,null,null,null,"국민연금보험료",null,null,null,null,null,null,"종(전)근무지",null,null,null,null,null,null,null,null,"보험료",null,null,null,null,null,null,null,{"$f":"급여내역!CA26+급여내역!CA33+급여내역!CA40","v":0},null,null,null,null,null,"전액",null,null,null,null,null,{"$f":"AG78","v":0}]
[null,null,null,null,null,null,null,null,null,null,null,null,null,null,null,"주(현)근무지",null,null,null,null,null,null,null,null,"보험료",null,null,null,null,null,null,null,{"$f":"급여내역!CA20","v":1134000},null,null,null,null,null,"전액",null,null,null,null,null,{"$f":"AG79","v":1134000}]
[null,null,null,null,null,null,null,null,"국민연금보험료 외의 공적연금보험료",null,null,null,null,null,null,"종(전)근무지",null,null,null,null,null,null,null,null,"보험료",null,null,null,null,null,null,null,300000,null,null,null,null,null,"전액",null,null,null,null,null,{"$f":"AG80","v":300000}]
[null,null,null,null,null,null,null,null,null,null,null,null,null,null,null,"주(현)근무지",null,null,null,null,null,null,null,null,"보험료",null,null,null,null,null,null,null,null,null,null,null,null,null,"전액",null,null,null,null,null,{"$f":"AG81","v":0}]
[null,null,null,null,null,null,null,null,"연금보험료 계",null,null,null,null,null,null,null,null,null,null,null,null,null,null,null,null,null,null,null,null,null,null,null,{"$f":"SUM(AG78:AL81)","v":1434000},null,null,null,null,null,null,null,null,null,null,null,{"$f":"SUM(AS78:BF81)","v":1434000}]
[null,"Ⅲ.특별소득공제","보험료",null,null,null,null,null,"국민건강보험\n(노인장기요양보험포함)",null,null,null,null,null,null,"종(전)근무지",null,null,null,null,null,null,null,null,"보험료",null,null,null,null,null,null,null,{"$f":"급여내역!CB26+급여내역!CD26+급여내역!CB33+급여내역!CD33+급여내역!CB40+급여내역!CD40","v":0},null,null,null,null,null,"전액",null,null,null,null,null,{"$f":"AG83","v":0}]
[null,null,null,null,null,null,null,null,null,null,null,null,null,null,null,"주(현)근무지",null,null,null,null,null,null,null,null,"보험료",null,null,null,null,null,null,null,{"$f":"급여내역!CB20+급여내역!CD20","v":883200},null,null,null,null,null,"전액",null,null,null,null,null,{"$f":"AG84","v":883200}]
[null,null,null,null,null,null,null,null,"고용보험",null,null,null,null,null,null,"종(전)근무지",null,null,null,null,null,null,null,null,"보험료",null,null,null,null,null,null,null,{"$f":"급여내역!CC26+급여내역!CC33+급여내역!CC40","v":0},null,null,null,null,null,"전액",null,null,null,null,null,{"$f":"AG85","v":0}]
[null,null,null,null,null,null,null,null,null,null,null,null,null,null,null,"주(현)근무지",null,null,null,null,null,null,null,null,"보험료",null,null,null,null,null,null,null,{"$f":"급여내역!CC20","v":201600},null,null,null,null,null,"전액",null,null,null,null,null,{"$f":"AG86","v":201600}]
[null,null,null,null,null,null,null,null,"보험료 계",null,null,null,null,null,null,null,null,null,null,null,null,null,null,null,null,null,null,null,null,null,null,null,{"$f":"SUM(AG83:AL86)","v":1084800},null,null,null,null,null,null,null,null,null,null,null,{"$f":"SUM(AS83:BF86)","v":1084800}]
[null,null,"주택자금",null,null,null,null,null,"주택임차차입금",null,null,null,null,null,null,"대출기관차입",null,null,null,null,null,null,null,null,"원리금 상환액",null,null,null,null,null,null,null,3800000,null,null,null,null,null,"작성방법참조",null,null,null,null,null,{"$f":"ROUNDDOWN(MIN(3000000,AG88*0.4),0)","v":1520000}]
[null,null,null,null,null,null,null,null,null,null,null,null,null,null,null,"거주자 차입",null,null,null,null,null,null,null,null,null,null,null,null,null,null,null,null,null,null,null,null,null,null,null,null,null,null,null,null,{"$f":"ROUNDDOWN(MIN((3000000-AS88),AG89*0.4),0)","v":0}]
[null,null,null,null,null,null,null,null,"장기\n주택\n저당\n차입금",null,null,"2011년\n이전\n차입분",null,null,null,"15년 미만",null,null,null,null,null,null,null,null,"이자 상환액",null,null,null,null,null,null,null,null,null,null,null,null,null,"작성방법참조",null,null,null,null,null,{"$f":"IF(AG90=\"\",0,MIN(AG90,(6000000-AS88-AS89)))","v":0}]
[null,null,null,null,null,null,null,null,null,null,null,null,null,null,null,"15년~29년",null,null,null,null,null,null,null,null,null,null,null,null,null,null,null,null,null,null,null,null,null,null,null,null,null,null,null,null,{"$f":"IF(AG91=\"\",0,MIN(AG91,(10000000-AS88-AS89)))","v":0}]
[null,null,null,null,null,null,null,null,null,null,null,null,null,null,null,"30년 이상",null,null,null,null,null,null,null,null,null,null,null,null,null,null,null,null,null,null,null,null,null,null,null,null,null,null,null,null,{"$f":"IF(AG92=\"\",0,MIN(AG92,(15000000-AS88-AS89)))","v":0}]
[null,null,null,null,null,null,null,null,null,null,null,"2012년\n이후\n차입분\n(15년 이상)",null,null,null,"고정금리이거나,\n 비거치상환 대출",null,null,null,null,null,null,null,null,null,null,null,null,null,null,null,null,null,null,null,null,null,null,null,null,null,null,null,null,{"$f":"IF(AG93=\"\",0,MIN(AG93,(15000000-AS88-AS89)))","v":0}]
[null,null,null,null,null,null,null,null,null,null,null,null,null,null,null,"기타 대출",null,null,null,null,null,null,null,null,null,null,null,null,null,null,null,null,null,null,null,null,null,null,null,null,null,null,null,null,{"$f":"IF(AG94=\"\",0,MIN(AG94,(5000000-AS88-AS89)))","v":0}]
[null,null,null,null,null,null,null,null,null,null,null,"2015년\n이후\n차입분",null,null,null,"15년 이상",null,"고정금리이면서,\n비거치상환 대출",null,null,null,null,null,null,null,null,null,null,null,null,null,null,null,null,null,null,null,null,null,null,null,null,null,null,{"$f":"IF(AG95=\"\",0,MIN(AG95,(18000000-AS88-AS89)))","v":0}]
[null,null,null,null,null,null,null,null,null,null,null,null,null,null,null,null,null,"고정금리이거나,\n비거치상환 대출",null,null,null,null,null,null,null,null,null,null,null,null,null,null,null,null,null,null,null,null,null,null,null,null,null,null,{"$f":"IF(AG96=\"\",0,MIN(AG96,(15000000-AS88-AS89)))","v":0}]
[null,null,null,null,null,null,null,null,null,null,null,null,null,null,null,null,null,"기타 대출",null,null,null,null,null,null,null,null,null,null,null,null,null,null,null,null,null,null,null,null,null,null,null,null,null,null,{"$f":"IF(AG97=\"\",0,MIN(AG97,(5000000-AS88-AS89)))","v":0}]
[null,null,null,null,null,null,null,null,null,null,null,null,null,null,null,"10년~\n15년",null,"고정금리이거나,\n비거치상환 대출",null,null,null,null,null,null,null,null,null,null,null,null,null,null,null,null,null,null,null,null,null,null,null,null,null,null,{"$f":"IF(AG98=\"\",0,MIN(AG98,(3000000-AS88-AS89)))","v":0}]
[null,null,null,null,null,null,null,null,"주택자금 공제액 계",null,null,null,null,null,null,null,null,null,null,null,null,null,null,null,null,null,null,null,null,null,null,null,null,null,null,null,null,null,null,null,null,null,null,null,{"$f":"SUM(AS88:BF98)","v":1520000}]
[null,null,"기부금\n(이월분)",null,null,null,null,null,"「소득세법」 제34조 제2항 제1호에 따른 기부금",null,null,null,null,null,null,null,null,null,null,null,null,null,null,null,"기부금이월액",null,null,null,null,null,null,null,null,null,null,null,null,null,"작성방법참조",null,null,null,null,null,{"$f":"IF(AG100=\"\",0,MIN(BI102,AG100))","v":0}]
[null,null,null,null,null,null,null,null,"「소득세법」 제34조 제3항 제1호(종교단체\n 기부금 제외)에 따른 기부금",null,null,null,null,null,null,null,null,null,null,null,null,null,null,null,"기부금이월액",null,null,null,null,null,null,null,null,null,null,null,null,null,null,null,null,null,null,null,{"$f":"IF(AG101=\"\",0,IF(AG102>0,MIN(AG101,(BI102*0.1)+MIN((BI102*0.2),AG101)),MIN(AG101,BI102*0.3)))","v":0},null,null,null,null,null,null,null,null,null,null,null,null,null,null,null,"근로소득금액"]
[null,null,null,null,null,null,null,null,"「소득세법」 제34조 제3항 제1호에 따른 \n기부금 중 종교단체기부금",null,null,null,null,null,null,null,null,null,null,null,null,null,null,null,"기부금이월액",null,null,null,null,null,null,null,null,null,null,null,null,null,null,null,null,null,null,null,{"$f":"IF(AG102=\"\",0,MIN(AG102,(BI102*0.1)))","v":0},null,null,null,null,null,null,null,null,null,null,null,null,null,null,null,{"$f":"영수증!T65","v":16170000}]
[null,null,null,null,null,null,null,null,"기부금이월분(합계)",null,null,null,null,null,null,null,null,null,null,null,null,null,null,null,null,null,null,null,null,null,null,null,{"$f":"SUM(AG101:AL102)","v":0},null,null,null,null,null,null,null,null,null,null,null,{"$f":"SUM(AS101:BF102)","v":0}]
[null,"Ⅳ.그밖의소득공제","개인연금저축(2000년 이전가입)",null,null,null,null,null,null,null,null,null,null,null,null,null,null,null,null,null,null,null,null,null,"납입금액",null,null,null,null,null,null,null,null,null,null,null,null,null,"납입액 40%와\n72만원",null,null,null,null,null,{"$f":"ROUNDDOWN(IF(AG104=\"\",0,MIN(AG104*0.4,720000)),0)","v":0},null,null,null,null,null,null,null,null,null,null,null,null,null,null,null,"총급여액"]
[null,null,"소기업ㆍ소상공인 공제부금",null,null,null,null,null,null,null,null,null,null,null,null,null,null,null,null,null,null,null,null,null,"납입금액",null,null,null,null,null,null,null,null,null,null,null,null,null,"작성방법참조",null,null,null,null,null,{"$f":"IF(AG105=\"\",0,IF(BI105>100000000,MIN(AG105,2000000),IF(BI105>40000000,MIN(AG105,3000000),MIN(AG105,5000000))))","v":0},null,null,null,null,null,null,null,null,null,null,null,null,null,null,null,{"$f":"영수증!T63","v":25200000}]
[null,null,"주택마련저축 ",null,null,null,null,null,"청약저축",null,null,null,null,null,null,null,null,null,null,null,null,null,null,null,"납입금액",null,null,null,null,null,null,null,null,null,null,null,null,null,"작성방법참조",null,null,null,null,null,{"$f":"ROUNDDOWN(IF(AG106=\"\",0,MIN(MIN(AG106,2400000)*0.4,MAX((BI106-AS88-AS89-SUM(AS90:BF98)),0))),0)","v":0},null,null,null,null,null,null,null,null,null,null,null,null,null,null,null,{"$f":"IF(AS90>0,6000000,IF(AS91>0,10000000,IF(AS92>0,15000000,IF(AS93>0,15000000,IF(AS94>0,5000000,3000000)))))","v":3000000}]
[null,null,null,null,null,null,null,null,"근로자주택마련저축",null,null,null,null,null,null,null,null,null,null,null,null,null,null,null,"납입금액",null,null,null,null,null,null,null,null,null,null,null,null,null,"작성방법참조",null,null,null,null,null,{"$f":"ROUNDDOWN(IF(AG107=\"\",0,MIN(MIN(AG107,1800000)*0.4,MAX((BI106-AS88-AS89-AS106-SUM(AS90:BF98)),0))),0)","v":0}]
[null,null,null,null,null,null,null,null,"주택청약종합저축",null,null,null,null,null,null,null,null,null,null,null,null,null,null,null,"납입금액",null,null,null,null,null,null,null,null,null,null,null,null,null,"작성방법참조",null,null,null,null,null,{"$f":"ROUNDDOWN(IF(AG108=\"\",0,MIN(MIN(AG108,2400000)*0.4,MAX((BI106-AS88-AS89-AS106-AS107-SUM(AS90:BF98)),0))),0)","v":0}]
[null,null,null,null,null,null,null,null,"주택마련저축 소득공제 계",null,null,null,null,null,null,null,null,null,null,null,null,null,null,null,null,null,null,null,null,null,null,null,{"$f":"SUM(AG106:AL108)","v":0},null,null,null,null,null,null,null,null,null,null,null,{"$f":"SUM(AS106:BF108)","v":0}]
[null,null,"투자조합\n출자 등",null,null,null,null,null,"2019년 출자ㆍ투자분",null,null,null,null,null,null,null,null,null,null,null,null,"벤처 등",null,null,"출자ㆍ투자금액",null,null,null,null,null,null,null,null,null,null,null,null,null,0.1,null,null,null,null,null,{"$f":"MIN(ROUNDDOWN(IF(AG110=\"\",0,AG110*$AM$110),0),영수증!$T$65*0.5)","v":0}]
[null,null,null,null,null,null,null,null,null,null,null,null,null,null,null,null,null,null,null,null,null,"조합1",null,null,null,null,null,null,null,null,null,null,null,null,null,null,null,null,null,null,null,null,null,null,{"$f":"MIN(ROUNDDOWN(IF(AG111=\"\",0,AG111*$AM$110),0),영수증!$T$65*0.5)","v":0}]
[null,null,null,null,null,null,null,null,null,null,null,null,null,null,null,null,null,null,null,null,null,"조합2",null,null,null,null,null,null,null,null,null,null,null,null,null,null,null,null,null,null,null,null,null,null,{"$f":"MIN(ROUNDDOWN(IF(AG112=\"\",0,AG112*AM110),0),영수증!T65*0.5)","v":0}]
[null,null,null,null,null,null,null,null,"2020년 출자ㆍ투자분",null,null,null,null,null,null,null,null,null,null,null,null,"벤처 등",null,null,"출자ㆍ투자금액",null,null,null,null,null,null,null,null,null,null,null,null,null,0.1,null,null,null,null,null,{"$f":"MIN(ROUNDDOWN(IF(AG113=\"\",0,AG113*$AM$113),0),영수증!$T$65*0.5)","v":0}]
[null,null,null,null,null,null,null,null,null,null,null,null,null,null,null,null,null,null,null,null,null,"조합1",null,null,null,null,null,null,null,null,null,null,null,null,null,null,null,null,null,null,null,null,null,null,{"$f":"MIN(ROUNDDOWN(IF(AG114=\"\",0,AG114*$AM$113),0),영수증!$T$65*0.5)","v":0}]
[null,null,null,null,null,null,null,null,null,null,null,null,null,null,null,null,null,null,null,null,null,"조합2",null,null,null,null,null,null,null,null,null,null,null,null,null,null,null,null,null,null,null,null,null,null,{"$f":"MIN(ROUNDDOWN(IF(AG115=\"\",0,AG115*$AM$113),0),영수증!$T$65*0.5)","v":0}]
[null,null,null,null,null,null,null,null,"2021년 출자ㆍ투자분",null,null,null,null,null,null,null,null,null,null,null,null,"벤처 등",null,null,"출자ㆍ투자금액",null,null,null,null,null,null,null,null,null,null,null,null,null,0.1,null,null,null,null,null,{"$f":"MIN(ROUNDDOWN(IF(AG116=\"\",0,AG116*$AM$116),0),영수증!$T$65*0.5)","v":0}]
[null,null,null,null,null,null,null,null,null,null,null,null,null,null,null,null,null,null,null,null,null,"조합1",null,null,null,null,null,null,null,null,null,null,null,null,null,null,null,null,null,null,null,null,null,null,{"$f":"MIN(ROUNDDOWN(IF(AG117=\"\",0,AG117*$AM$116),0),영수증!$T$65*0.5)","v":0}]
[null,null,null,null,null,null,null,null,null,null,null,null,null,null,null,null,null,null,null,null,null,"조합2",null,null,null,null,null,null,null,null,null,null,null,null,null,null,null,null,null,null,null,null,null,null,{"$f":"MIN(ROUNDDOWN(IF(AG118=\"\",0,AG118*$AM$116),0),영수증!$T$65*0.5)","v":0}]
[null,null,null,null,null,null,null,null,"투자조합 출자 등 소득공제 계",null,null,null,null,null,null,null,null,null,null,null,null,null,null,null,null,null,null,null,null,null,null,null,{"$f":"SUM(AG110:AL118)","v":0},null,null,null,null,null,null,null,null,null,null,null,{"$f":"SUM(AS110:AS118)","v":0}]
[null,null,"신용카드등사용액",null,null,null,null,null,"①신용카드",null,null,null,null,null,null,null,null,null,null,null,null,null,null,null,"사용금액",null,null,null,null,null,null,null,{"$f":"SUM(H43:H44)","v":0}]
[null,null,null,null,null,null,null,null,"②직불·선불카드",null,null,null,null,null,null,null,null,null,null,null,null,null,null,null,"사용금액",null,null,null,null,null,null,null,{"$f":"SUM(O43:O44)","v":0}]
[null,null,null,null,null,null,null,null,"③현금영수증",null,null,null,null,null,null,null,null,null,null,null,null,null,null,null,"사용금액",null,null,null,null,null,null,null,{"$f":"SUM(U43:U43)","v":0}]
[null,null,null,null,null,null,null,null,"④도서·공연사용분(총급여 7천만원 이하자)",null,null,null,null,null,null,null,null,null,null,null,null,null,null,null,"사용금액",null,null,null,null,null,null,null,{"$f":"SUM(AA43:AA44)","v":0}]
[null,null,null,null,null,null,null,null,"⑤전통시장사용분",null,null,null,null,null,null,null,null,null,null,null,null,null,null,null,"사용금액",null,null,null,null,null,null,null,{"$f":"SUM(AG43:AG44)","v":0}]
[null,null,null,null,null,null,null,null,"⑥대중교통이용분",null,null,null,null,null,null,null,null,null,null,null,null,null,null,null,"사용금액",null,null,null,null,null,null,null,{"$f":"SUM(AN43:AN44)","v":0}]
["`",null,null,null,null,null,null,null,"⑦소비증가분 (2021년 신용카드등사용금액 중\n   2020년 대비 5%를 초과하여 증가한 금액)",null,null,null,null,null,null,null,null,null,null,null,null,null,null,null,"증가금액"]
[null,null,null,null,null,null,null,null,"계(①+②+③+④+⑤+⑥)",null,null,null,null,null,null,null,null,null,null,null,null,null,null,null,null,null,null,null,null,null,null,null,{"$f":"SUM(AG120:AL125)","v":0},null,null,null,null,null,null,null,null,null,null,null,{"$f":"신용카드!AP25","v":0}]
[null,null,"우리사주조합 출연금",null,null,null,null,null,null,null,null,null,null,null,null,null,null,null,null,null,null,null,null,null,"출연금액",null,null,null,null,null,null,null,null,null,null,null,null,null,"작성방법참조",null,null,null,null,null,{"$f":"IF(AG128=\"\",0,MIN(AG128,4000000))","v":0}]
[null,null,"고용유지중소기업 근로자",null,null,null,null,null,null,null,null,null,null,null,null,null,null,null,null,null,null,null,null,null,"임금삭감액",null,null,null,null,null,null,null,null,null,null,null,null,null,"작성방법참조",null,null,null,null,null,{"$f":"ROUNDDOWN(IF(AG129=\"\",0,MIN(AG129*0.5,10000000)),0)","v":0}]
[null,null,"장기집합투자증권저축",null,null,null,null,null,null,null,null,null,null,null,null,null,null,null,null,null,null,null,null,null,"납입금액",null,null,null,null,null,null,null,null,null,null,null,null,null,"작성방법참조",null,null,null,null,null,{"$f":"ROUNDDOWN(IF(AG130=\"\",0,MIN(AG130*0.4,2400000)),0)","v":0}]
[null,"210㎜×297㎜\n(8쪽 중 제3쪽)"]
[]
[null,"구분",null,null,"세액감면․공제명세",null,null,null,null,null,null,null,null,null,null,null,null,null,null,null,null,null,null,"세액감면․공제 명세"]
[null,"Ⅴ.세액감면및공제","세액감면",null,"외국인\n근로자",null,null,null,null,null,"입국목적",null,null,null,null,null,null,null,"정부간 협약                     「조세특례제한법」상 감면         조세조약 상 감면"]
[null,null,null,null,null,null,null,null,null,null,"기술도입계약 또는 근로제공일",null,null,null,null,null,null,null,null,null,null,null,null,null,null,null,null,null,null,null,null,null,"감면기간만료일"]
[null,null,null,null,null,null,null,null,null,null,"외국인 근로소득에 대한 감면",null,null,null,null,null,null,null,null,null,null,null,null,"접수일",null,null,null,null,null,null,null,null,null,null,null,null,null,null,"제출일"]
[null,null,null,null,null,null,null,null,null,null,"근로소득에 대한 조세조약 상 면제",null,null,null,null,null,null,null,null,null,null,null,null,"접수일",null,null,null,null,null,null,null,null,null,null,null,null,null,null,"제출일"]
[null,null,null,null,"성과공유 중소기업 경영성과급 감면",null,null,null,null,null,null,null,null,null,null,null,null,null,null,null,null,null,null,"시작일",null,null,null,null,null,null,null,null,null,null,null,null,null,null,"종료일"]
[null,null,null,null,"중소기업 청년근로자 및 핵심인력 성과보상기금 수령액 감면",null,null,null,null,null,null,null,null,null,null,null,null,null,null,null,null,null,null,"시작일",null,null,null,null,null,null,null,null,null,null,null,null,null,null,"종료일"]
[null,null,null,null,"내국인 우수 인력 국내 복귀 감면",null,null,null,null,null,null,null,null,null,null,null,null,null,null,null,null,null,null,"시작일",null,null,null,null,null,null,null,null,null,null,null,null,null,null,"종료일"]
[null,null,null,null,"중소기업 취업자 감면",null,null,null,null,null,null,null,null,null,null,null,null,null,null,null,null,null,null,"취업일",null,null,null,null,null,null,null,null,null,null,null,null,null,null,"감면기간종료일"]
[null,null,"세액공제",null,"공제종류",null,null,null,null,null,null,null,null,null,null,null,null,null,null,null,null,null,null,"명세",null,null,null,null,null,null,null,null,null,"한도액",null,null,null,null,"공제대상금액",null,null,null,null,"공제율",null,null,null,null,null,null,null,null,null,null,"공제세액"]
[null,null,null,null,"연금계좌",null,null,null,null,null,"「과학기술인공제회법」에 따른 \n퇴직연금",null,null,null,null,null,null,null,null,null,null,null,null,"납입금액",null,null,null,100,null,null,null,null,null,"작성방법참조",null,null,null,null,{"$f":"IF(AB143=\"\",0,MIN(AB143,7000000))","v":100},null,null,null,null,"12%\n또는\n15%",null,null,null,null,null,null,null,null,null,null,{"$f":"영수증!AN79","v":15}]
[null,null,null,null,null,null,null,null,null,null,"「근로자퇴직급여 보장법」에 따른\n퇴직연금",null,null,null,null,null,null,null,null,null,null,null,null,"납입금액",null,null,null,null,null,null,null,null,null,null,null,null,null,null,{"$f":"IF(AB144=\"\",0,MIN(AB144,7000000-AM143))","v":0},null,null,null,null,null,null,null,null,null,null,null,null,null,null,null,{"$f":"영수증!AN83","v":0}]
[null,null,null,null,null,null,null,null,null,null,"연금저축",null,null,null,null,null,null,null,null,null,null,null,null,"납입금액",null,null,null,null,null,null,null,null,null,null,null,null,null,null,{"$f":"IF(AB145=\"\",0,MIN(MIN(IF((7000000-AM143-AM144)<0,0,(7000000-AM143-AM144)),AB145),IF(BI145>120000000,3000000,4000000)))","v":0},null,null,null,null,null,null,null,null,null,null,null,null,null,null,null,{"$f":"영수증!AN87","v":0},null,null,null,null,null,{"$f":"영수증!T63","v":25200000}]
[null,null,null,null,null,null,null,null,null,null,"개인종합자산관리계좌 만기 시연금계좌 납입액",null,null,null,null,null,null,null,null,null,null,null,null,"납입금액",null,null,null,null,null,null,null,null,null,null,null,null,null,null,{"$f":"MIN(AB146*10%,3000000)","v":0},null,null,null,null,null,null,null,null,null,null,null,null,null,null,null,{"$f":"영수증!AN88","v":0}]
[null,null,null,null,null,null,null,null,null,null,"연금계좌 계",null,null,null,null,null,null,null,null,null,null,null,null,null,null,null,null,{"$f":"SUM(AB143:AG145)","v":100},null,null,null,null,null,null,null,null,null,null,{"$f":"SUM(AM143:AQ145)","v":100},null,null,null,null,null,null,null,null,null,null,null,null,null,null,null,{"$f":"SUM(BC143:BF145)","v":15}]
[null,null,null,null,"특별세액공제",null,null,null,"보\n험\n료",null,"보장성",null,null,null,null,null,null,null,null,null,null,null,null,"보험료",null,null,null,null,null,null,null,null,null,"100만원",null,null,null,null,{"$f":"IF(AB148=\"\",0,MIN(AB148,1000000))","v":0},null,null,null,null,0.12,null,null,null,null,null,null,null,null,null,null,{"$f":"ROUNDDOWN(AM148*0.12,0)","v":0},null,null,null,null,null,"총급여3%",{"$f":"ROUNDDOWN(영수증!T63*0.03,0)","v":756000}]
[null,null,null,null,null,null,null,null,null,null,"장애인전용보장성",null,null,null,null,null,null,null,null,null,null,null,null,"보험료",null,null,null,null,null,null,null,null,null,"100만원",null,null,null,null,{"$f":"IF(AB149=\"\",0,MIN(AB149,1000000))","v":0},null,null,null,null,0.15,null,null,null,null,null,null,null,null,null,null,{"$f":"ROUNDDOWN(AM149*0.15,0)","v":0},null,null,null,null,null,"3%초과의료비",{"$f":"(AM155-BJ148)","v":-756000}]
[null,null,null,null,null,null,null,null,null,null,"보험료 계",null,null,null,null,null,null,null,null,null,null,null,null,null,null,null,null,{"$f":"SUM(AB148:AG149)","v":0},null,null,null,null,null,null,null,null,null,null,{"$f":"SUM(AM148:AQ149)","v":0},null,null,null,null,null,null,null,null,null,null,null,null,null,null,null,{"$f":"SUM(BC148:BF149)","v":0},null,null,null,null,null,"한도액",7000000]
[null,null,null,null,null,null,null,null,"의\n료\n비",null,"본인ㆍ65세이상자ㆍ장애인\nㆍ건강보험산정특례자 ",null,null,null,null,null,null,null,null,null,null,null,null,"지출액",null,null,null,0,null,null,null,null,null,"작성방법참조",null,null,null,null,{"$f":"MAX(IF(BI153<0,AB151+BI153,AB151),0)","v":0},null,null,null,null,0.15,null,null,null,null,null,null,null,null,null,null,{"$f":"AM151*AR151","v":0}]
[null,null,null,null,null,null,null,null,null,null,"난임시술비",null,null,null,null,null,null,null,null,null,null,null,null,"지출액",null,null,null,0,null,null,null,null,null,null,null,null,null,null,{"$f":"MAX(IF(BI155<0,AB152+BI155,AB152),0)","v":0},null,null,null,null,0.2,null,null,null,null,null,null,null,null,null,null,{"$f":"AM152*AR152","v":0}]
[null,null,null,null,null,null,null,null,null,null,"그 밖의 공제대상자",null,null,null,null,null,null,null,null,null,null,null,null,"지출액",null,null,null,0,null,null,null,null,null,null,null,null,null,null,{"$f":"IF(AB153=\"\",0,MIN(MAX(AB153-BJ148,0),7000000))","v":0},null,null,null,null,0.15,null,null,null,null,null,null,null,null,null,null,{"$f":"AM153*AR153","v":0},null,null,null,null,null,{"$f":"IF(AB153=\"\",0,MIN((AB153-ROUNDDOWN(영수증!T63*0.03,0)),7000000))","v":-756000}]
[null,null,null,null,null,null,null,null,null,null,"실손의료보험금 계",null,null,null,null,null,null,null,null,null,null,null,null,"수령액"]
[null,null,null,null,null,null,null,null,null,null,"의료비계",null,null,null,null,null,null,null,null,null,null,null,null,null,null,null,null,{"$f":"SUM(AB151:AG154)","v":0},null,null,null,null,null,null,null,null,null,null,{"$f":"MAX(SUM(AM151:AQ153),0)","v":0},null,null,null,null,null,null,null,null,null,null,null,null,null,null,null,{"$f":"SUM(BC151:BF153)","v":0},null,null,null,null,null,{"$f":"IF(BI153<0,AB151+BI153,AB152)","v":-756000}]
[null,null,null,null,null,null,null,null,"교\n육\n비",null,"소득자 본인",null,null,null,null,null,null,null,null,null,null,null,null,"공납금\n(대학원 포함)",null,null,null,null,null,null,null,null,null,"전액",null,null,null,null,{"$f":"AB156","v":0},null,null,null,null,0.15,null,null,null,null,null,null,null,null,null,null,{"$f":"ROUNDDOWN(AM156*0.15,0)","v":0}]
[null,null,null,null,null,null,null,null,null,null,"취학전 아동",null,null,null,null,null,null,null,"(",null,null,null,"명)","유치원,\n학원비 등",null,null,null,null,null,null,null,null,null,"1명당 300만원",null,null,null,null,{"$f":"IF(AB157=\"\",0,MIN(AB157,3000000*T157))","v":0},null,null,null,null,null,null,null,null,null,null,null,null,null,null,null,{"$f":"ROUNDDOWN(IF(AB157=\"\",0,AM157*0.15),0)","v":0}]
[null,null,null,null,null,null,null,null,null,null,"초ㆍ중ㆍ고등학교",null,null,null,null,null,null,null,"(",null,null,null,"명)","공납금",null,null,null,null,null,null,null,null,null,"1명당 300만원",null,null,null,null,{"$f":"IF(AB158=\"\",0,MIN(AB158,3000000*T158))","v":0},null,null,null,null,null,null,null,null,null,null,null,null,null,null,null,{"$f":"ROUNDDOWN(IF(AB158=\"\",0,AM158*0.15),0)","v":0}]
[]
[null,null,null,null,null,null,null,null,null,null,"대학생(대학원 불포함)",null,null,null,null,null,null,null,"(",null,null,null,"명)","공납금",null,null,null,null,null,null,null,null,null,"1명당 900만원",null,null,null,null,{"$f":"IF(AB160=\"\",0,MIN(AB160,9000000*T160))","v":0},null,null,null,null,null,null,null,null,null,null,null,null,null,null,null,{"$f":"ROUNDDOWN(IF(AB160=\"\",0,AM160*0.15),0)","v":0}]
[null,null,null,null,null,null,null,null,null,null,"장애인",null,null,null,null,null,null,null,"(",null,null,null,"명)","특수교육비",null,null,null,null,null,null,null,null,null,"전액",null,null,null,null,{"$f":"AB161","v":0},null,null,null,null,null,null,null,null,null,null,null,null,null,null,null,{"$f":"ROUNDDOWN(IF(AB161=\"\",0,AM161*0.15),0)","v":0}]
[null,null,null,null,null,null,null,null,null,null,"교육비 계",null,null,null,null,null,null,null,null,null,null,null,null,null,null,null,null,{"$f":"SUM(AB156:AG161)","v":0},null,null,null,null,null,null,null,null,null,null,{"$f":"SUM(AM156:AQ161)","v":0},null,null,null,null,null,null,null,null,null,null,null,null,null,null,null,{"$f":"SUM(BC156:BF161)","v":0}]
[null,null,null,null,null,null,null,null,"기\n부\n금",null,"정치자금\n기부금",null,null,null,null,"10만원 이하",null,null,null,null,null,null,null,"기부금액",null,null,null,null,null,null,null,null,null,"작성방법참조",null,null,null,null,{"$f":"AB163","v":0},null,null,null,null,"100/110",null,null,null,null,null,null,null,null,null,null,{"$f":"ROUNDDOWN(IF(AM163=\"\",0,(AM163*100/110)),0)","v":0}]
[null,null,null,null,null,null,null,null,null,null,null,null,null,null,null,"10만원 초과",null,null,null,null,null,null,null,"기부금액",null,null,null,null,null,null,null,null,null,null,null,null,null,null,{"$f":"IF(AB164=\"\",0,MIN(AB164,영수증!T65-AS103))","v":0},null,null,null,null,"15% 또는 \n30%(2021년의 경우 20% 또는 35%)",null,null,null,null,null,null,null,null,null,null,{"$f":"ROUNDDOWN(IF(AM164<=29900000,(AM164*0.15),(AM164-29900000)*0.25+4485000),0)","v":0}]
[null,null,null,null,null,null,null,null,null,null,"법정기부금",null,null,null,null,null,null,null,null,null,null,null,null,"기부금액",null,null,null,null,null,null,null,null,null,null,null,null,null,null,{"$f":"IF(AB165=\"\",0,MIN(AB165,(영수증!T65-AM163-AM164-AS100)))","v":0},null,null,null,null,null,null,null,null,null,null,null,null,null,null,null,{"$f":"ROUNDDOWN(IF(AM165<=20000000,(AM165*0.15),(AM165-20000000)*0.3+3000000),0)","v":0}]
[null,null,null,null,null,null,null,null,null,null,"우리사주조합기부금",null,null,null,null,null,null,null,null,null,null,null,null,"기부금액",null,null,null,0,null,null,null,null,null,null,null,null,null,null,{"$f":"IF(AB166=\"\",0,MIN(AB166,(영수증!T65-AM163-AM164-AM165)*0.3))","v":0},null,null,null,null,null,null,null,null,null,null,null,null,null,null,null,{"$f":"ROUNDDOWN(IF(AM166<=20000000,(AM166*0.15),(AM166-20000000)*0.3+3000000),0)","v":0}]
[null,null,null,null,null,null,null,null,null,null,"「소득세법」 제34조 제3항 제1호(종교단체 기부금 제외)에 따른 기부금",null,null,null,null,null,null,null,null,null,null,null,null,"기부금액",null,null,null,0,null,null,null,null,null,null,null,null,null,null,{"$f":"IF(AB167=\"\",0,IF(AB168>0,MIN(AB167,(AL167*0.1)+MIN((AL167*0.2),AB167)),MIN(AB167,AL167*0.3)))","v":0},null,null,null,null,null,null,null,null,null,null,null,null,null,null,null,{"$f":"ROUNDDOWN(IF(AM167<=20000000,(AM167*0.15),(AM167-20000000)*0.3+3000000),0)","v":0}]
[null,null,null,null,null,null,null,null,null,null,"「소득세법」 제34조 제3항 제1호에 따른 기부금 중 종교단체기부금",null,null,null,null,null,null,null,null,null,null,null,null,"기부금액",null,null,null,null,null,null,null,null,null,null,null,null,null,null,{"$f":"IF(AB168=\"\",0,MIN(AB168,(AM166*0.1)))","v":0},null,null,null,null,null,null,null,null,null,null,null,null,null,null,null,{"$f":"ROUNDDOWN(IF(AM168<=20000000,(AM168*0.15),(AM168-20000000)*0.3+3000000),0)","v":0}]
[null,null,null,null,null,null,null,null,null,null,"기부금 계",null,null,null,null,null,null,null,null,null,null,null,null,null,null,null,null,{"$f":"SUM(AB163:AG168)","v":0},null,null,null,null,null,null,null,null,null,null,{"$f":"SUM(AM163:AQ168)","v":0},null,null,null,null,null,null,null,null,null,null,null,null,null,null,null,{"$f":"SUM(BC163:BF168)","v":0}]
[null,null,null,null,"외국납부세액",null,null,null,null,null,null,null,null,null,null,null,null,null,null,null,null,null,null,"국외원천소득",null,null,null,null,null,null,null,null,null,null,null,null,null,null,"국외근로소득금액",null,null,null,null,null,{"$f":"IF(AG170=0,0,ROUNDDOWN(AG170-(영수증!T64*(AG170/영수증!T63)),0))","v":0}]
[null,null,null,null,null,null,null,null,null,null,null,null,null,null,null,null,null,null,null,null,null,null,null,"납세액(외화)"]
[null,null,null,null,null,null,null,null,null,null,null,null,null,null,null,null,null,null,null,null,null,null,null,"납세액(원화)",null,null,null,null,null,null,null,null,null,null,null,null,null,null,"-"]
[null,null,null,null,null,null,null,null,null,null,null,null,null,null,null,null,null,null,null,null,null,null,null,"납세국명",null,null,null,null,null,null,null,null,null,null,null,null,null,null,"납부일"]
[null,null,null,null,null,null,null,null,null,null,null,null,null,null,null,null,null,null,null,null,null,null,null,"신청서제출일",null,null,null,null,null,null,null,null,null,null,null,null,null,null,"국외근무처"]
[null,null,null,null,null,null,null,null,null,null,null,null,null,null,null,null,null,null,null,null,null,null,null,"근무기간",null,null,null,null,null,null,null,null,null,null,null,null,null,null,"직책"]
[null,null,null,null,"주택자금차입금이자세액공제",null,null,null,null,null,null,null,null,null,null,null,null,null,null,null,null,null,null,"이자상환액",null,null,null,null,null,null,null,null,null,null,null,null,null,null,0.3,null,null,null,null,null,{"$f":"ROUNDDOWN(AG176*0.3,0)","v":0}]
[null,null,null,null,"월세액 세액공제",null,null,null,null,null,null,null,null,null,null,null,null,null,null,null,null,null,null,"지출액",null,null,null,null,null,null,null,null,0,null,null,null,null,null,"10% 또는 12%",null,null,null,null,null,{"$f":"ROUNDDOWN(MIN(AG177,7500000)*IF(영수증!T63<=55000000,0.12,IF(영수증!T63<=70000000,0.1,0)),0)","v":0}]
[null,null,"신고인은「소득세법」제140조에 따라 위의 내용을 신고하며, 위 내용을 충분히 검토하였고 신고인이 알고 있는 사실 그대로를 정확하게 적었음을 확인합니다."]
[null,"2022년        월         일"]
[null,null,null,null,null,null,null,null,null,null,null,null,null,null,null,null,null,null,null,null,null,null,null,null,null,null,null,null,null,null,null,null,"신고인",null,null,null,{"$f":"K5","v":"이영화"},null,null,null,null,null,null,"(서명 또는 인)"]
[null,"Ⅵ. 추가 제출 서류"]
[null,"1. 외국인근로자 단일세율적용신청서 제출여부(○ 또는 ×로 적습니다)",null,null,null,null,null,null,null,null,null,null,null,null,null,null,null,null,null,null,null,null,null,null,null,null,null,null,null,null,null,null,null,null,null,null,null,null,null,null,"제출(",null,null,null,")"]
[null,"2.종(전)\n근무지명세",null,null,null,null,null,"종(전)근무지명",null,null,null,null,null,null,null,null,null,null,null,null,null,null,null,"종(전)급여총액",null,null,null,null,null,null,null,null,null,null,null,null,null,null,"종(전)근무지 근로소득원천징수영수증"]
[null,null,null,null,null,null,null,"사업자등록번호",null,null,null,null,null,null,null,null,null,null,null,null,null,null,null,"종(전)결정세액",null,null,null,null,null,null,null,null,null,null,null,null,null,null,null,null,null,null,"       원천징수영수증 제출(",null,null,null,null,null,null,null,null,null,")"]
[null,"3. 연금.저축 등 소득․세액공제 명세서 제출여부\n   (○ 또는 ×로 적습니다)",null,null,null,null,null,null,null,null,null,null,null,null,null,null,null,null,null,null,null,null,null,null,"제출(",null,null,null,")","※ 연금계좌, 주택마련저축 등 소득·세액공제를 신청한 경우 해당 명세서를 제출하여야 합니다."]
[]
[null,"4. 월세액․거주자 간 주택임차차입금 원리금상환액\n   소득공제 명세서 제출여부 (○ 또는 ×로 적습니다)",null,null,null,null,null,null,null,null,null,null,null,null,null,null,null,null,null,null,null,null,null,null,"제출(",null,null,null,")","※ 월세액, 거주자 간 주택임차차입금 원리금상환액 소득·세액공제를 신청한 경우 해당 명세서를 제출해야 합니다."]
[]
[null,"5. 그 밖의 추가 제출 서류",null,null,null,null,null,null,null,null,null,null,null,null,null,null,null,"① 의료비지급명세서",null,null,null,null,null,"(",null,null,")",",","② 기부금명세서",null,null,null,null,null,"(",null,null,")",",","③ 소득.세액공제 증명서류"]
[null,"유 의 사 항"]
[null,null,"1. 근로소득자가 종(전)근무지 근로소득을 원천징수의무자에게 신고하지 않은 경우에는 근로소득자 본인이 종합소득세 신고를 해야 하며, 신고하지 않은 경우 가산세 부과 등 불이익이 따릅니다.\n2. 현 근무지의 연금보험료ㆍ국민건강보험료 및 고용보험료 등은 신고인이 기재하지 않아도 됩니다.\n3. \"공제금액\"란은 근로소득자가 원천징수의무자에게 제출하는 경우 적지 않을 수 있습니다."]
[null,null,null,null,null,null,null,null,null,null,null,null,null,null,null,null,null,null,null,null,null,null,null,null,null,null,null,null,null,null,null,null,null,null,null,null,null,null,null,null,null,null,null,null,null,null,null,null,null,null,null,null,null,null,null,null,null,"210㎜×297㎜"]
[null,null,null,null,null,null,null,null,null,null,null,null,null,null,null,null,null,null,null,null,null,null,null,null,null,null,null,null,null,null,null,null,null,null,null,null,null,null,null,null,null,null,null,null,null,null,null,null,null,null,null,null,null,null,null,null,null,"(8쪽 중 제7쪽)"]
[null,"연금․저축 등 소득․세액 공제명세서"]
[null,"1.인적사항"]
[null,"①상      호",null,null,null,null,null,null,null,null,{"$f":"기본사항!G14","v":"(주)조세통람"},null,null,null,null,null,null,null,null,null,null,null,null,null,null,null,null,"②사 업 자 등 록 번 호",null,null,null,null,null,null,null,null,{"$f":"기본사항!G16","v":"203-81-11111"}]
[null,"③성      명",null,null,null,null,null,null,null,null,{"$f":"기본사항!G7","v":"이영화"},null,null,null,null,null,null,null,null,null,null,null,null,null,null,null,null,"④주 민 등 록 번 호",null,null,null,null,null,null,null,null,{"$f":"기본사항!G8","v":"123456-1234567"}]
[null,"⑤주      소",null,null,null,null,null,null,null,null,{"$f":"기본사항!G9","v":"서울 중구 다산로11길 25"},null,null,null,null,null,null,null,null,null,null,null,null,null,null,null,null,null,null,null,null,null,null,null,null,null,"(전화번호:",null,null,null,null,null,")"]
[null,"⑥사업장소재지",null,null,null,null,null,null,null,null,{"$f":"기본사항!G18","v":"서울 중구 동호로14길 5-6"},null,null,null,null,null,null,null,null,null,null,null,null,null,null,null,null,null,null,null,null,null,null,null,null,null,"(전화번호:",null,null,null,null,null,")"]
[null,"2. 연금계좌 세액공제"]
[null," 1) 퇴직연금계좌"]
[null,"  * 퇴직연금계좌에 대한 명세를 작성합니다."]
[null,"퇴직연금 구분",null,null,null,null,null,null,null,null,null,"금융회사 등",null,null,null,null,null,null,null,null,"계좌번호(또는 증권번호)",null,null,null,null,null,null,null,null,null,null,"납입금액",null,null,null,null,null,null,null,"세액공제금액",null,null,null,null,null,null,null,null,null,null,null,null,null,null,null,null,null,null,null,{"$f":"SUM(AF204:AM205)=AB143+AB144","v":true},{"$f":"SUM(AN204:BF205)=SUM(BC143:BF144)","v":true}]
[null,null,null,null,null,null,null,null,null,null,null,null,null,null,null,null,null,null,null,null,null,null,null,null,null,null,null,null,null,null,null,100,null,null,null,null,null,null,null,15]
[]
[null,"  2) 연금저축계좌"]
[null,"  * 연금저축계좌에 대한 명세를 작성합니다."]
[null,"연금저축 구분",null,null,null,null,null,null,null,null,null,"금융회사 등",null,null,null,null,null,null,null,null,"계좌번호(또는 증권번호)",null,null,null,null,null,null,null,null,null,null,"납입금액",null,null,null,null,null,null,null,"소득·세액공제금액",null,null,null,null,null,null,null,null,null,null,null,null,null,null,null,null,null,null,null,{"$f":"SUM(AF209:AM210)=AG104+AB145","v":true},{"$f":"SUM(AN209:BF210)=AS104+BC145","v":true}]
[]
[]
[null,"3) 개인종합자산관리계좌 만기 시 연금계좌 납입액"]
[null," * 납입 연금저축계좌·퇴직연금계좌에 대한 명세를 작성합니다."]
[null,"연금 구분",null,null,null,null,null,null,null,null,null,"금융회사 등",null,null,null,null,null,null,null,null,"계좌번호(또는 증권번호)",null,null,null,null,null,null,null,null,null,null,"납입금액",null,null,null,null,null,null,null,"세액공제금액",null,null,null,null,null,null,null,null,null,null,null,null,null,null,null,null,null,null,null,{"$f":"SUM(AF214:AM215)=AB146","v":true},{"$f":"SUM(AN214:BF215)=BC146","v":true}]
[]
[]
[]
[null,"3. 주택마련저축 소득공제"]
[null,"  * 주택마련저축 소득공제에 대한 명세를 작성합니다."]
[null,"저축 구분",null,null,null,null,null,null,null,null,null,"금융회사 등",null,null,null,null,null,null,null,null,"계좌번호(또는 증권번호)",null,null,null,null,null,null,null,null,null,null,"납입금액",null,null,null,null,null,null,null,"소득공제금액",null,null,null,null,null,null,null,null,null,null,null,null,null,null,null,null,null,null,null,{"$f":"SUM(AF220:AM222)=AG109","v":true},{"$f":"SUM(AN220:BF222)=AS109","v":true}]
[]
[]
[]
[null," 4. 장기집합투자증권저축 소득공제"]
[null,"  * 장기집합투자증권저축 소득공제에 대한 명세를 작성합니다."]
[null,"금융회사 등",null,null,null,null,null,null,null,null,null,null,null,null,null,null,null,null,null,null,"계좌번호(또는 증권번호)",null,null,null,null,null,null,null,null,null,null,"납입금액",null,null,null,null,null,null,null,"소득공제금액",null,null,null,null,null,null,null,null,null,null,null,null,null,null,null,null,null,null,null,{"$f":"SUM(AF226:AM228)=AG130","v":true},{"$f":"SUM(AN226:BF228)=AS130","v":true}]
[]
[]
[]
[null," 5. 중소기업창업투자조합 출자 등에 대한 소득공제"]
[null,"  * 중소기업창업투자조합 출자 등 소득공제에 대한 명세를 작성합니다."]
[null,"금융회사 등",null,null,null,null,null,null,null,null,null,"투자구분",null,null,null,null,null,null,null,null,"금융기관 등",null,null,null,null,null,null,null,null,null,null,"계좌번호(또는 증권번호)",null,null,null,null,null,null,null,"납입금액",null,null,null,null,null,null,null,null,null,null,null,null,null,null,null,null,null,null,null,{"$f":"SUM(AN232:AN234)=AG119","v":true}]
[]
[]
[]
[]
[null,"작 성 방 법"]
[null,"1. 연금계좌 세액공제, 주택마련저축ㆍ장기집합투자증권저축ㆍ중소기업창업투자조합 출자 소득공제를 받는 소득자에 대해서는 해당 소득ㆍ세액 공제에 대한 명세를 작성해야 합니다. 해당 계좌별로 납입금액과 소득ㆍ세액 공제금액을 적고, 공제금액이 영(0)인 경우에는 적지 않습니다.\n 2. 퇴직연금계좌에서 \"퇴직연금 구분\"란은 퇴직연금［확정기여형(DC),개인형(IRP)］ㆍ과학기술인공제회로 구분하여 적습니다.\n 3. 연금저축계좌에서 \"연금저축 구분\"란은 개인연금저축과 연금저축으로 구분하여 적습니다.\n 4. 주택마련저축 공제의 \"저축 구분\"란은 청약저축, 주택청약종합저축(2014년 이전 가입), 주택청약종합저축(2015년 이후 가입) 및 근로자주택마련저축으로 구분하여 적습니다.\n 5. 중소기업창업투자조합 출자 등 소득공제의 \"투자 구분\"란은 벤처 등(「조세특례제한법」 제16조제1항제3호ㆍ제4호ㆍ제6호)과 조합 등(「조세특례제한법」 제16조제1항제1호ㆍ제2호ㆍ제5호)으로 구분하여 적습니다. \n 6. 공제금액란은 근로소득자가 적지 않을 수 있습니다."]
[]
[]
[]
[]
[]
[]
[null,null,null,null,null,null,null,null,null,null,null,null,null,null,null,null,null,null,null,null,null,null,null,null,null,null,null,null,null,null,null,null,null,null,null,null,null,null,null,null,null,null,null,null,null,null,null,null,null,null,null,null,null,null,null,null,null,"210㎜×297㎜"]
[null,null,null,null,null,null,null,null,null,null,null,null,null,null,null,null,null,null,null,null,null,null,null,null,null,null,null,null,null,null,null,null,null,null,null,null,null,null,null,null,null,null,null,null,null,null,null,null,null,null,null,null,null,null,null,null,null,"(8쪽 중 제8쪽)"]
[null,"[  ] 월세액ㆍ[  ] 거주자 간 주택임차차입금 원리금 상환액 소득ㆍ세액공제 명세서\n[무주택자 해당여부 [  ]여, [  ]부]"]
[null," 1. 인적사항",null,null,null,null,null,null,null,null," ①상 호",null,null,null,null,null,null,null,null,null,{"$f":"기본사항!G14","v":"(주)조세통람"},null,null,null,null,null,null,null,null,null,null,null,null," ②사업자등록번호",null,null,null,null,null,null,null,{"$f":"기본사항!G16","v":"203-81-11111"}]
[null,null,null,null,null,null,null,null,null,null," ③성 명",null,null,null,null,null,null,null,null,null,{"$f":"기본사항!G7","v":"이영화"},null,null,null,null,null,null,null,null,null,null,null,null," ④주민등록번호",null,null,null,null,null,null,null,{"$f":"기본사항!G8","v":"123456-1234567"}]
[null,null,null,null,null,null,null,null,null,null," ⑤주 소  ",null,null,null,null,null,null,null,null,null,{"$f":"기본사항!G9","v":"서울 중구 다산로11길 25"},null,null,null,null,null,null,null,null,null,null,null,null,null,null,"(전화번호:",null,null,null,null,null,")"]
[null,null,null,null,null,null,null,null,null,null," ⑥사업장소재지",null,null,null,null,null,null,null,null,null,{"$f":"기본사항!G18","v":"서울 중구 동호로14길 5-6"},null,null,null,null,null,null,null,null,null,null,null,null,null,null,"(전화번호:",null,null,null,null,null,")"]
[null," 2. 월세액 세액공제 명세"]
[null,"⑦ 임대인 \n   성 명(상 호)",null,null,null,null,null,null,null,null,"⑧ 주민등록번호\n(사업자번호)",null,null,null,null,null,null,"⑨ 유형",null,null,null,"⑩계약면적(㎡)",null,null,null,null,null,"⑪ 임대차계약서 상\n주소지 ",null,null,null,null,null,null,"⑫ 계약서상\n임대차 계약기간",null,null,null,null,null,null,"⑬ 연간 \n월세액(원)",null,null,null,null,null,null,null,null,"⑭세액공제\n금액(원)",null,null,null,null,null,null,null,null,{"$f":"SUM(AP254:AX256)=AG177","v":true},{"$f":"SUM(AY254:BF256)=AS177","v":true}]
[null,null,null,null,null,null,null,null,null,null,null,null,null,null,null,null,null,null,null,null,null,null,null,null,null,null,null,null,null,null,null,null,null,null,"개시일",null,null,null,"종료일"]
[]
[]
[]
[null,"※⑨유형: 구분코드 - 단독주택:1, 다가구:2, 다세대주택:3, 연립주택:4, 아파트:5, 오피스텔:6, 고시원: 7, 기타:8\n※⑫계약서상 임대차계약기간 - 개시일과 종료일은 예시와 같이 기재 (예시) 2017.01.01."]
[null," 3. 거주자간 주택임차차입금 원리금 상환액 소득공제 명세"]
[null," 1) 금전소비대차 계약내용"]
[null,"⑮대주(貸主)",null,null,null,null,null,null,null,null,null,"⑯주민등록번호",null,null,null,null,null,null,"⑰금전소비대차\n계약기간",null,null,null,null,null,null,null,null,"⑱차입금\n이자율",null,null,null,null,"원리금 상환액",null,null,null,null,null,null,null,null,null,null,null,null,"㉒공제금액"]
[null,null,null,null,null,null,null,null,null,null,null,null,null,null,null,null,null,null,null,null,null,null,null,null,null,null,null,null,null,null,null,null,"⑲계",null,null,null,"⑳원금",null,null,null,null,"㉑ 이자"]
[]
[]
[]
[null," 2) 임대차 계약내용"]
[null,"㉓ 임대인\n성 명(상 호)",null,null,null,null,null,null,null,null,"㉔ 주민등록번호\n(사업자번호)",null,null,null,null,null,null,"㉕ 유형",null,null,null,null,null,"㉖계약\n면적(㎡)",null,null,null,"㉗ 임대차계약서상 \n주소지 ",null,null,null,null,null,null,null,null,null,"㉘ 계약서상\n임대차 계약기간",null,null,null,null,null,null,"㉙ 전세보증금\n(원)"]
[null,null,null,null,null,null,null,null,null,null,null,null,null,null,null,null,null,null,null,null,null,null,null,null,null,null,null,null,null,null,null,null,null,null,null,null,null,"개시일",null,null,null,"종료일"]
[]
[]
[]
[null,"※㉕유형: 구분코드 - 단독주택:1, 다가구:2, 다세대주택:3, 연립주택:4, 아파트:5, 오피스텔:6, 고시원: 7, 기타:8\n※㉘계약서상 임대차계약기간 - 개시일과 종료일은 예시와 같이 기재 (예시) 2017.01.01."]
[]
[null,"작 성 방 법"]
[null,null," 1. 월세액 세액공제나 거주자 간 주택임차자금 차입금 원리금 상환액 공제를 받는 근로소득자에 대해서는 해당 소득ㆍ세액공제에 대한 명세를 작성해야 합니다.\n 2. 해당 임대차 계약별로 연간 합계한 월세액ㆍ원리금상환액과 소득ㆍ세액공제금액을 적으며, 공제금액이 \"영(0)\"인 경우에는 적지 않습니다.\n 3. ⑨,㉕유형은 단독주택, 다가구주택, 다세대주택, 연립주택, 아파트, 오피스텔, 고시원, 기타 중에서 해당되는 유형의 구분코드를 적습니다.\n 4. ㉙전세보증금은 과세기간 종료일(12. 31.) 현재의 전세보증금을 적습니다."]
[null,"210mm×297mm"]

{"sheet":"급여내역","index":2,"n_rows":42,"n_cols":82,"rows_kept":42,"cut":false,"hidden":false,"merged":[[4,81,6,81],[22,81,24,81],[29,81,31,81],[36,81,38,81],[37,66,38,66],[37,67,38,67],[30,68,30,77],[23,67,24,67],[23,66,24,66],[4,49,4,77],[8,68,8,71],[8,72,8,77],[7,72,7,77],[7,68,7,71],[10,72,10,77],[9,72,9,77],[9,57,9,61],[9,62,9,65],[9,68,9,71],[12,62,12,65],[12,68,12,71],[12,72,12,77],[11,72,11,77],[13,72,13,77],[5,20,6,20],[23,20,24,20],[30,20,31,20],[37,20,38,20],[37,24,38,27],[32,37,32,40],[30,37,31,40],[23,37,24,40],[7,28,7,33],[7,34,7,36],[9,28,9,33],[18,34,18,36],[22,37,22,48],[18,41,18,44],[15,37,15,40],[15,41,15,44],[15,45,15,48],[39,62,39,65],[39,68,39,71],[39,37,39,40],[39,41,39,44],[39,45,39,48],[39,49,39,52],[38,53,38,56],[4,80,6,80],[39,72,39,77],[32,72,32,77],[36,49,36,77],[32,53,32,56],[32,57,32,61],[32,62,32,65],[32,68,32,71],[39,53,39,56],[32,41,32,44],[32,45,32,48],[4,78,6,78],[4,79,6,79],[37,62,38,65],[37,68,37,77],[25,72,25,77],[29,49,29,77],[39,16,39,19],[39,24,39,27],[39,28,39,33],[39,34,39,36],[39,1,39,3],[39,4,39,6],[39,7,39,11],[39,12,39,15],[39,57,39,61],[32,1,32,3],[32,4,32,6],[32,7,32,11],[32,12,32,15],[36,1,38,3],[36,4,38,6],[36,7,36,27],[36,28,38,33],[37,7,38,11],[37,12,38,15],[37,16,38,19],[37,23,38,23],[37,21,38,21],[31,68,31,71],[30,49,30,56],[30,57,31,61],[30,66,31,66],[30,67,31,67],[30,62,31,65],[32,16,32,19],[32,24,32,27],[32,28,32,33],[32,34,32,36],[12,57,12,61],[29,1,31,3],[29,4,31,6],[29,7,29,27],[29,28,31,33],[30,7,31,11],[30,12,31,15],[31,49,31,52],[31,53,31,56],[23,57,24,61],[25,1,25,3],[25,4,25,6],[25,7,25,11],[25,12,25,15],[25,16,25,19],[25,24,25,27],[12,7,12,11],[13,53,13,56],[15,16,15,19],[15,24,15,27],[15,28,15,33],[15,34,15,36],[16,1,16,3],[15,1,15,3],[6,53,6,56],[8,41,8,44],[8,45,8,48],[8,49,8,52],[8,53,8,56],[8,57,8,61],[8,62,8,65],[7,57,7,61],[7,62,7,65],[6,68,6,71],[6,72,6,77],[5,49,5,56],[5,57,6,61],[5,66,6,66],[5,67,6,67],[5,68,5,77],[4,1,6,3],[4,4,6,6],[4,7,4,27],[4,28,6,33],[5,16,6,19],[5,24,6,27],[5,21,6,21],[5,23,6,23],[5,7,6,11],[5,12,6,15],[5,37,6,40],[5,41,6,44],[4,34,6,36],[4,37,4,48],[5,45,6,48],[5,62,6,65],[6,49,6,52],[8,1,8,3],[8,4,8,6],[8,12,8,15],[8,16,8,19],[8,24,8,27],[8,28,8,33],[8,34,8,36],[8,37,8,40],[7,53,7,56],[7,37,7,40],[7,41,7,44],[7,45,7,48],[7,49,7,52],[7,1,7,3],[7,4,7,6],[7,7,7,11],[7,12,7,15],[7,16,7,19],[7,24,7,27],[8,7,8,11],[10,1,10,3],[10,4,10,6],[10,12,10,15],[10,16,10,19],[10,24,10,27],[10,28,10,33],[10,34,10,36],[10,37,10,40],[9,53,9,56],[9,34,9,36],[9,37,9,40],[9,41,9,44],[9,45,9,48],[9,49,9,52],[9,1,9,3],[9,4,9,6],[9,12,9,15],[9,16,9,19],[9,24,9,27],[10,49,10,52],[10,53,10,56],[9,7,9,11],[10,7,10,11],[10,57,10,61],[10,62,10,65],[10,68,10,71],[10,41,10,44],[10,45,10,48],[11,57,11,61],[11,62,11,65],[11,68,11,71],[12,1,12,3],[12,4,12,6],[12,12,12,15],[12,16,12,19],[12,24,12,27],[12,28,12,33],[12,34,12,36],[12,37,12,40],[11,53,11,56],[11,34,11,36],[11,37,11,40],[11,41,11,44],[11,45,11,48],[11,49,11,52],[11,1,11,3],[11,4,11,6],[11,12,11,15],[11,16,11,19],[11,24,11,27],[11,28,11,33],[12,41,12,44],[12,45,12,48],[14,1,14,3],[14,4,14,6],[14,12,14,15],[14,16,14,19],[14,24,14,27],[14,28,14,33],[14,34,14,36],[14,37,14,40],[13,34,13,36],[13,16,13,19],[13,24,13,27],[13,7,13,11],[14,7,14,11],[14,41,14,44],[14,45,14,48],[11,7,11,11],[13,62,13,65],[13,68,13,71],[13,37,13,40],[13,41,13,44],[13,28,13,33],[13,1,13,3],[13,4,13,6],[13,12,13,15],[22,1,24,3],[22,4,24,6],[22,7,22,27],[23,7,24,11],[23,12,24,15],[15,57,15,61],[15,62,15,65],[14,49,14,52],[14,53,14,56],[14,57,14,61],[16,41,16,44],[16,45,16,48],[16,49,16,52],[16,53,16,56],[15,4,15,6],[15,12,15,15],[15,49,15,52],[17,1,17,3],[17,4,17,6],[17,7,17,11],[17,12,17,15],[17,34,17,36],[16,4,16,6],[16,12,16,15],[16,16,16,19],[16,24,16,27],[16,28,16,33],[16,7,16,11],[15,7,15,11],[17,49,17,52],[15,72,15,77],[15,53,15,56],[14,62,14,65],[14,68,14,71],[14,72,14,77],[16,68,16,71],[16,72,16,77],[17,57,17,61],[17,62,17,65],[17,53,17,56],[16,57,16,61],[16,62,16,65],[17,68,17,71],[17,72,17,77],[15,68,15,71],[18,68,18,71],[18,72,18,77],[17,41,17,44],[17,45,17,48],[19,1,19,3],[19,4,19,6],[19,7,19,11],[19,12,19,15],[19,28,19,33],[19,37,19,40],[19,34,19,36],[18,16,18,19],[18,24,18,27],[18,28,18,33],[19,16,19,19],[19,24,19,27],[18,1,18,3],[18,4,18,6],[18,7,18,11],[18,12,18,15],[17,37,17,40],[18,45,18,48],[18,49,18,52],[18,53,18,56],[22,80,24,80],[29,78,31,78],[29,79,31,79],[29,80,31,80],[28,66,28,67],[35,51,35,57],[21,4,21,11],[21,12,21,19],[21,24,21,33],[21,34,21,48],[28,4,28,11],[28,12,28,19],[28,24,28,33],[28,34,28,48],[23,21,24,21],[23,16,24,19],[30,16,31,19],[30,24,31,27],[30,21,31,21],[30,41,31,44],[29,34,31,36],[29,37,29,48],[30,45,31,48],[31,72,31,77],[36,80,38,80],[37,37,38,40],[37,41,38,44],[36,37,36,48],[37,45,38,48],[37,49,37,56],[38,68,38,71],[36,78,38,78],[36,79,38,79],[38,49,38,52],[22,78,24,78],[22,79,24,79],[19,72,19,77],[36,34,38,36],[38,72,38,77],[37,57,38,61],[19,68,19,71],[19,41,19,44],[21,64,21,65],[28,51,28,57],[35,34,35,48],[19,49,19,52],[19,53,19,56],[19,57,19,61],[19,62,19,65],[19,45,19,48],[21,66,21,67],[23,62,24,65],[23,68,23,77],[24,49,24,52],[24,53,24,56],[24,68,24,71],[24,72,24,77],[23,49,23,56],[1,24,1,66],[3,4,3,11],[3,12,3,19],[3,24,3,33],[3,34,3,48],[3,51,3,57],[3,58,3,63],[3,64,3,65],[2,24,2,48],[3,66,3,67],[35,64,35,65],[35,66,35,67],[32,49,32,52],[23,23,24,23],[30,23,31,23],[23,24,24,27],[22,28,24,33],[23,41,24,44],[23,45,24,48],[22,34,24,36],[28,58,28,63],[28,64,28,65],[22,49,22,77],[25,62,25,65],[35,24,35,33],[25,68,25,71],[25,37,25,40],[25,41,25,44],[25,45,25,48],[25,49,25,52],[25,28,25,33],[25,34,25,36],[25,53,25,56],[25,57,25,61],[45,7,50,38],[5,22,6,22],[23,22,24,22],[30,22,31,22],[37,22,38,22],[35,58,35,63],[21,51,21,57],[21,58,21,63],[41,15,41,19],[18,37,18,40],[35,4,35,11],[35,12,35,19],[18,57,18,61],[16,37,16,40],[16,34,16,36],[18,62,18,65],[17,16,17,19],[17,24,17,27],[17,28,17,33],[13,45,13,48],[13,49,13,52],[13,57,13,61],[12,49,12,52],[12,53,12,56]]}
[]
[null,null,null,null,null,null,null,null,null,null,null,null,null,null,null,null,null,null,null,null,null,null,null,null,"2022년 급여지급내역"]
[]
[null,null,null,null,"[근무처명]  :",null,null,null,null,null,null,null,{"$f":"기본사항!G14","v":"(주)조세통람"},null,null,null,null,null,null,null,null,null,null,null,"[사업자등록번호] :",null,null,null,null,null,null,null,null,null,{"$f":"기본사항!G16","v":"203-81-11111"},null,null,null,null,null,null,null,null,null,null,null,null,null,null,null,null,"[근무기간]",null,null,null,null,null,null,"2021-01-01",null,null,null,null,null,"~",null,"2021-12-31",null,null,null,null,"[현근무지]"]
[null,"월별",null,null,"지급일자",null,null,"과 세 대 상 급 여",null,null,null,null,null,null,null,null,null,null,null,null,null,null,null,null,null,null,null,null,"간이세액표에의한소득세",null,null,null,null,null,"감면세액",null,null,"차감원천징수액",null,null,null,null,null,null,null,null,null,null,null,"비 과 세 소 득",null,null,null,null,null,null,null,null,null,null,null,null,null,null,null,null,null,null,null,null,null,null,null,null,null,null,null,null,"국민연금","건강보험","고용보험","노인장기\n요양보험"]
[null,null,null,null,null,null,null,"급여액",null,null,null,null,"상여액",null,null,null,"인정상여",null,null,null,"주식매수\n선택권","우리사주\n조합인출금","임원퇴직\n소득금액\n한도초과액","직무발명\n보상금","계",null,null,null,null,null,null,null,null,null,null,null,null,"소득세",null,null,null,"지방\n소득세",null,null,null,"농특세",null,null,null,"국 외 근 로 소 득",null,null,null,null,null,null,null,"연구\n활동비",null,null,null,null,"야간\n근로수당",null,null,null,"출산\n보육수당","외국인근로자","그밖의비과세"]
[null,null,null,null,null,null,null,null,null,null,null,null,null,null,null,null,null,null,null,null,null,null,null,null,null,null,null,null,null,null,null,null,null,null,null,null,null,null,null,null,null,null,null,null,null,null,null,null,null,"지급일자",null,null,null,"원화",null,null,null,null,null,null,null,null,null,null,null,null,null,null,"내용",null,null,null,"금액"]
[null,1,null,null,null,null,null,2100000,null,null,null,null,null,null,null,null,null,null,null,null,null,null,null,null,{"$f":"SUM(H8:X8)","v":2100000},null,null,null,22740,null,null,null,null,null,null,null,null,22740,null,null,null,2270,null,null,null,null,null,null,null,null,null,null,null,null,null,null,null,null,null,null,null,null,null,null,null,null,null,null,null,null,null,null,null,null,null,null,null,null,94500,67830,16800,5770]
[null,2,null,null,null,null,null,2100000,null,null,null,null,null,null,null,null,null,null,null,null,null,null,null,null,{"$f":"SUM(H9:X9)","v":2100000},null,null,null,22740,null,null,null,null,null,null,null,null,22740,null,null,null,2270,null,null,null,null,null,null,null,null,null,null,null,null,null,null,null,null,null,null,null,null,null,null,null,null,null,null,null,null,null,null,null,null,null,null,null,null,94500,67830,16800,5770]
[null,3,null,null,null,null,null,2100000,null,null,null,null,null,null,null,null,null,null,null,null,null,null,null,null,2100000,null,null,null,22740,null,null,null,null,null,null,null,null,22740,null,null,null,2270,null,null,null,null,null,null,null,null,null,null,null,null,null,null,null,null,null,null,null,null,null,null,null,null,null,null,null,null,null,null,null,null,null,null,null,null,94500,67830,16800,5770]
[null,4,null,null,null,null,null,2100000,null,null,null,null,null,null,null,null,null,null,null,null,null,null,null,null,2100000,null,null,null,22740,null,null,null,null,null,null,null,null,22740,null,null,null,2270,null,null,null,null,null,null,null,null,null,null,null,null,null,null,null,null,null,null,null,null,null,null,null,null,null,null,null,null,null,null,null,null,null,null,null,null,94500,67830,16800,5770]
[null,5,null,null,null,null,null,2100000,null,null,null,null,null,null,null,null,null,null,null,null,null,null,null,null,2100000,null,null,null,22740,null,null,null,null,null,null,null,null,22740,null,null,null,2270,null,null,null,null,null,null,null,null,null,null,null,null,null,null,null,null,null,null,null,null,null,null,null,null,null,null,null,null,null,null,null,null,null,null,null,null,94500,67830,16800,5770]
[null,6,null,null,null,null,null,2100000,null,null,null,null,null,null,null,null,null,null,null,null,null,null,null,null,2100000,null,null,null,22740,null,null,null,null,null,null,null,null,22740,null,null,null,2270,null,null,null,null,null,null,null,null,null,null,null,null,null,null,null,null,null,null,null,null,null,null,null,null,null,null,null,null,null,null,null,null,null,null,null,null,94500,67830,16800,5770]
[null,7,null,null,null,null,null,2100000,null,null,null,null,null,null,null,null,null,null,null,null,null,null,null,null,2100000,null,null,null,22740,null,null,null,null,null,null,null,null,22740,null,null,null,2270,null,null,null,null,null,null,null,null,null,null,null,null,null,null,null,null,null,null,null,null,null,null,null,null,null,null,null,null,null,null,null,null,null,null,null,null,94500,67830,16800,5770]
[null,8,null,null,null,null,null,2100000,null,null,null,null,null,null,null,null,null,null,null,null,null,null,null,null,2100000,null,null,null,22740,null,null,null,null,null,null,null,null,22740,null,null,null,2270,null,null,null,null,null,null,null,null,null,null,null,null,null,null,null,null,null,null,null,null,null,null,null,null,null,null,null,null,null,null,null,null,null,null,null,null,94500,67830,16800,5770]
[null,9,null,null,null,null,null,2100000,null,null,null,null,null,null,null,null,null,null,null,null,null,null,null,null,2100000,null,null,null,22740,null,null,null,null,null,null,null,null,22740,null,null,null,{"$f":"-+DI16","v":0},null,null,null,null,null,null,null,null,null,null,null,null,null,null,null,null,null,null,null,null,null,null,null,null,null,null,null,null,null,null,null,null,null,null,null,null,94500,67830,16800,5770]
[null,10,null,null,null,null,null,2100000,null,null,null,null,null,null,null,null,null,null,null,null,null,null,null,null,2100000,null,null,null,22740,null,null,null,null,null,null,null,null,22740,null,null,null,2270,null,null,null,null,null,null,null,null,null,null,null,null,null,null,null,null,null,null,null,null,null,null,null,null,null,null,null,null,null,null,null,null,null,null,null,null,94500,67830,16800,5770]
[null,11,null,null,null,null,null,2100000,null,null,null,null,null,null,null,null,null,null,null,null,null,null,null,null,2100000,null,null,null,22740,null,null,null,null,null,null,null,null,22740,null,null,null,2270,null,null,null,null,null,null,null,null,null,null,null,null,null,null,null,null,null,null,null,null,null,null,null,null,null,null,null,null,null,null,null,null,null,null,null,null,94500,67830,16800,5770]
[null,12,null,null,null,null,null,2100000,null,null,null,null,null,null,null,null,null,null,null,null,null,null,null,null,2100000,null,null,null,22740,null,null,null,null,null,null,null,null,22740,null,null,null,2270,null,null,null,null,null,null,null,null,null,null,null,null,null,null,null,null,null,null,null,null,null,null,null,null,null,null,null,null,null,null,null,null,null,null,null,null,94500,67830,16800,5770]
[null,"계",null,null,null,null,null,{"$f":"SUM(H8:L19)","v":25200000},null,null,null,null,{"$f":"SUM(M8:P19)","v":0},null,null,null,{"$f":"SUM(Q8:T19)","v":0},null,null,null,{"$f":"SUM(U8:U19)","v":0},{"$f":"SUM(V8:V19)","v":0},{"$f":"SUM(W8:W19)","v":0},{"$f":"SUM(X8:X19)","v":0},{"$f":"SUM(Y8:AB19)","v":25200000},null,null,null,{"$f":"SUM(AC8:AH19)","v":272880},null,null,null,null,null,{"$f":"SUM(AI8:AK19)","v":0},null,null,{"$f":"SUM(AL8:AO19)","v":272880},null,null,null,{"$f":"SUM(AP8:AS19)","v":24970},null,null,null,{"$f":"SUM(AT8:AW19)","v":0},null,null,null,null,null,null,null,{"$f":"SUM(BB8:BE19)","v":0},null,null,null,{"$f":"SUM(BF8:BJ19)","v":0},null,null,null,null,{"$f":"MIN(SUM(BK8:BN19),2400000)","v":0},null,null,null,{"$f":"SUM(BO8:BO19)","v":0},{"$f":"SUM(BP8:BP19)","v":0},null,null,null,null,{"$f":"SUM(BU8:BZ19)","v":0},null,null,null,null,null,{"$f":"SUM(CA8:CA19)","v":1134000},{"$f":"SUM(CB8:CB19)","v":813960},{"$f":"SUM(CC8:CC19)","v":201600},{"$f":"SUM(CD8:CD19)","v":69240}]
[]
[null,null,null,null,"[근무처명]  :",null,null,null,null,null,null,null,"㈜우인",null,null,null,null,null,null,null,null,null,null,null,"[사업자등록번호] :",null,null,null,null,null,null,null,null,null,"101-81-22222",null,null,null,null,null,null,null,null,null,null,null,null,null,null,null,null,"[근무기간]",null,null,null,null,null,null,null,null,null,null,null,null,"~",null,null,null,null,"[종(전)근무지]"]
[null,"월별",null,null,"지급일자",null,null,"과 세 대 상 급 여",null,null,null,null,null,null,null,null,null,null,null,null,null,null,null,null,null,null,null,null,"간이세액표에의한소득세",null,null,null,null,null,"감면세액",null,null,"차감원천징수액",null,null,null,null,null,null,null,null,null,null,null,"비 과 세 소 득",null,null,null,null,null,null,null,null,null,null,null,null,null,null,null,null,null,null,null,null,null,null,null,null,null,null,null,null,"국민연금","건강보험","고용보험","노인장기\n요양보험"]
[null,null,null,null,null,null,null,"급여액",null,null,null,null,"상여액",null,null,null,"인정상여",null,null,null,{"$f":"U6","v":"주식매수\n선택권"},{"$f":"V6","v":"우리사주\n조합인출금"},{"$f":"W6","v":"임원퇴직\n소득금액\n한도초과액"},{"$f":"X6","v":"직무발명\n보상금"},"계",null,null,null,null,null,null,null,null,null,null,null,null,"소득세",null,null,null,{"$f":"AP6","v":"지방\n소득세"},null,null,null,"농특세",null,null,null,"국 외 근 로 소 득",null,null,null,null,null,null,null,{"$f":"BF6","v":"연구\n활동비"},null,null,null,null,{"$f":"BK6","v":"야간\n근로수당"},null,null,null,{"$f":"BO6","v":"출산\n보육수당"},{"$f":"BP6","v":"외국인근로자"},"그밖의비과세"]
[null,null,null,null,null,null,null,null,null,null,null,null,null,null,null,null,null,null,null,null,null,null,null,null,null,null,null,null,null,null,null,null,null,null,null,null,null,null,null,null,null,null,null,null,null,null,null,null,null,"지급일자",null,null,null,"원화",null,null,null,null,null,null,null,null,null,null,null,null,null,null,"내용",null,null,null,"금액"]
[null,"계",null,null,null,null,null,null,null,null,null,null,null,null,null,null,null,null,null,null,null,null,null,null,{"$f":"SUM(H26:X26)","v":0}]
[]
[]
[null,null,null,null,"[근무처명]  :",null,null,null,null,null,null,null,null,null,null,null,null,null,null,null,null,null,null,null,"[사업자등록번호] :",null,null,null,null,null,null,null,null,null,null,null,null,null,null,null,null,null,null,null,null,null,null,null,null,null,null,"[근무기간]",null,null,null,null,null,null,null,null,null,null,null,null,"~",null,null,null,null,"[종(전)근무지]"]
[null,"월별",null,null,"지급일자",null,null,"과 세 대 상 급 여",null,null,null,null,null,null,null,null,null,null,null,null,null,null,null,null,null,null,null,null,"간이세액표에의한소득세",null,null,null,null,null,"감면세액",null,null,"차감원천징수액",null,null,null,null,null,null,null,null,null,null,null,"비 과 세 소 득",null,null,null,null,null,null,null,null,null,null,null,null,null,null,null,null,null,null,null,null,null,null,null,null,null,null,null,null,"국민연금","건강보험","고용보험","노인장기\n요양보험"]
[null,null,null,null,null,null,null,"급여액",null,null,null,null,"상여액",null,null,null,"인정상여",null,null,null,{"$f":"U24","v":"주식매수\n선택권"},{"$f":"V24","v":"우리사주\n조합인출금"},{"$f":"W24","v":"임원퇴직\n소득금액\n한도초과액"},{"$f":"X24","v":"직무발명\n보상금"},"계",null,null,null,null,null,null,null,null,null,null,null,null,"소득세",null,null,null,{"$f":"AP24","v":"지방\n소득세"},null,null,null,"농특세",null,null,null,"국 외 근 로 소 득",null,null,null,null,null,null,null,{"$f":"BF24","v":"연구\n활동비"},null,null,null,null,{"$f":"BK24","v":"야간\n근로수당"},null,null,null,{"$f":"BO24","v":"출산\n보육수당"},{"$f":"BP24","v":"외국인근로자"},"그밖의비과세"]
[null,null,null,null,null,null,null,null,null,null,null,null,null,null,null,null,null,null,null,null,null,null,null,null,null,null,null,null,null,null,null,null,null,null,null,null,null,null,null,null,null,null,null,null,null,null,null,null,null,"지급일자",null,null,null,"원화",null,null,null,null,null,null,null,null,null,null,null,null,null,null,"내용",null,null,null,"금액"]
[null,"계",null,null,null,null,null,null,null,null,null,null,null,null,null,null,null,null,null,null,null,null,null,null,{"$f":"SUM(H33:X33)","v":0}]
[]
[]
[null,null,null,null,"[근무처명]  :",null,null,null,null,null,null,null,null,null,null,null,null,null,null,null,null,null,null,null,"[사업자등록번호] :",null,null,null,null,null,null,null,null,null,null,null,null,null,null,null,null,null,null,null,null,null,null,null,null,null,null,"[근무기간]",null,null,null,null,null,null,null,null,null,null,null,null,"~",null,null,null,null,null,null,"[납세조합]"]
[null,"월별",null,null,"지급일자",null,null,"과 세 대 상 급 여",null,null,null,null,null,null,null,null,null,null,null,null,null,null,null,null,null,null,null,null,"간이세액표에의한소득세",null,null,null,null,null,"감면세액",null,null,"차감원천징수액",null,null,null,null,null,null,null,null,null,null,null,"비 과 세 소 득",null,null,null,null,null,null,null,null,null,null,null,null,null,null,null,null,null,null,null,null,null,null,null,null,null,null,null,null,"국민연금","건강보험","고용보험","노인장기\n요양보험"]
[null,null,null,null,null,null,null,"급여액",null,null,null,null,"상여액",null,null,null,"인정상여",null,null,null,{"$f":"U31","v":"주식매수\n선택권"},{"$f":"V31","v":"우리사주\n조합인출금"},{"$f":"W31","v":"임원퇴직\n소득금액\n한도초과액"},{"$f":"X31","v":"직무발명\n보상금"},"계",null,null,null,null,null,null,null,null,null,null,null,null,"소득세",null,null,null,{"$f":"AP31","v":"지방\n소득세"},null,null,null,"농특세",null,null,null,"국 외 근 로 소 득",null,null,null,null,null,null,null,{"$f":"BF31","v":"연구\n활동비"},null,null,null,null,{"$f":"BK31","v":"야간\n근로수당"},null,null,null,{"$f":"BO31","v":"출산\n보육수당"},{"$f":"BP31","v":"외국인근로자"},"그밖의비과세"]
[null,null,null,null,null,null,null,null,null,null,null,null,null,null,null,null,null,null,null,null,null,null,null,null,null,null,null,null,null,null,null,null,null,null,null,null,null,null,null,null,null,null,null,null,null,null,null,null,null,"지급일자",null,null,null,"원화",null,null,null,null,null,null,null,null,null,null,null,null,null,null,"내용",null,null,null,"금액"]
[null,"계",null,null,null,null,null,null,null,null,null,null,null,null,null,null,null,null,null,null,null,null,null,null,{"$f":"SUM(H40:X40)","v":0}]
[]
[null,null,null,null,null,null,"ㅁ 납세조합공제액:",null,null,null,null,null,null,null,null,null,null,null,null,null,"원"]

{"sheet":"인적공제","index":3,"n_rows":17,"n_cols":15,"rows_kept":17,"cut":false,"hidden":false,"merged":[[5,2,16,2],[3,2,3,14]]}
[]
[]
[]
[null,null,"인적공제액계산"]
[]
[null,null,"인\n적\n공\n제","구분","성명","주민등록번호","기본공제","관계","출산입양1","출산입양2","장애인","자녀","경로우대","세대주","자녀수"]
[null,null,null,"본인",{"$f":"신고서!F19","v":"이영화"},{"$f":"기본사항!$G$8","v":"123456-1234567"},{"$f":"IF(신고서!O19=\"○\",1,0)","v":1},{"$f":"신고서!C19","v":"0"},{"$f":"IF(신고서!X19=\"\",0,1)","v":0},{"$f":"IF(신고서!X19=\"○1\",3,(IF(신고서!X19=\"○2\",5,(IF(신고서!X19=\"○3\",7,0)))))","v":0},{"$f":"IF(신고서!U20=\"\",0,1)","v":0},{"$f":"IF(신고서!X20=\"○\",1,0)","v":0},{"$f":"IF(신고서!U19=\"○\",1,0)","v":0},{"$f":"IF(신고서!K8=TRUE,\"예\",\"아니오\")","v":"아니오"},{"$f":"L17","v":0}]
[null,null,null,"부양가족1",{"$f":"신고서!F21","v":"조세희"},{"$f":"신고서!F22","v":"710415-2031653"},{"$f":"IF(신고서!O21=\"○\",1,0)","v":1},{"$f":"신고서!C21","v":3},{"$f":"IF(신고서!X21=\"\",0,1)","v":0},{"$f":"IF(신고서!X21=\"○1\",3,(IF(신고서!X21=\"○2\",5,(IF(신고서!X21=\"○3\",7,0)))))","v":0},{"$f":"IF(신고서!U22=\"\",0,1)","v":0},{"$f":"IF(신고서!X22=\"○\",1,0)","v":0},{"$f":"IF(신고서!U21=\"○\",1,0)","v":0},{"$f":"IF(H8=3,IF(신고서!O21=\"\",0,1),0)","v":1},{"$f":"IF(신고서!O18=1,1,0)","v":0}]
[null,null,null,"부양가족2",{"$f":"신고서!F23","v":"편람일"},{"$f":"신고서!F24","v":"481103-2019015"},{"$f":"IF(신고서!O23=\"○\",1,0)","v":1},{"$f":"신고서!C23","v":2},{"$f":"IF(신고서!X23=\"\",0,1)","v":0},{"$f":"IF(신고서!X23=\"○1\",3,(IF(신고서!X23=\"○2\",5,(IF(신고서!X23=\"○3\",7,0)))))","v":0},{"$f":"IF(신고서!U24=\"\",0,1)","v":0},{"$f":"IF(신고서!X24=\"○\",1,0)","v":0},{"$f":"IF(신고서!U23=\"○\",1,0)","v":1},null,{"$f":"IF(신고서!R18=1,1,0)","v":0}]
[null,null,null,"부양가족3",{"$f":"신고서!F25","v":"이대한"},{"$f":"신고서!F26","v":"091206-4059631"},{"$f":"IF(신고서!O25=\"○\",1,0)","v":1},{"$f":"신고서!C25","v":4},{"$f":"IF(신고서!X25=\"\",0,1)","v":0},{"$f":"IF(신고서!X25=\"○1\",3,(IF(신고서!X25=\"○2\",5,(IF(신고서!X25=\"○3\",7,0)))))","v":0},{"$f":"IF(신고서!U26=\"\",0,1)","v":0},{"$f":"IF(신고서!X26=\"○\",1,0)","v":0},{"$f":"IF(신고서!U25=\"○\",1,0)","v":0}]
[null,null,null,"부양가족4",{"$f":"신고서!F27","v":"이민국"},{"$f":"신고서!F28","v":"151230-3059632"},{"$f":"IF(신고서!O27=\"○\",1,0)","v":1},{"$f":"신고서!C27","v":4},{"$f":"IF(신고서!X27=\"\",0,1)","v":0},{"$f":"IF(신고서!X27=\"○1\",3,(IF(신고서!X27=\"○2\",5,(IF(신고서!X27=\"○3\",7,0)))))","v":0},{"$f":"IF(신고서!U28=\"\",0,1)","v":0},{"$f":"IF(신고서!X28=\"○\",1,0)","v":0},{"$f":"IF(신고서!U27=\"○\",1,0)","v":0}]
[null,null,null,"부양가족5",{"$f":"신고서!H29","v":0},{"$f":"신고서!H30","v":0},{"$f":"IF(신고서!O29=\"○\",1,0)","v":0},{"$f":"신고서!C29","v":0},{"$f":"IF(신고서!X29=\"\",0,1)","v":0},{"$f":"IF(신고서!X29=\"○1\",3,(IF(신고서!X29=\"○2\",5,(IF(신고서!X29=\"○3\",7,0)))))","v":0},{"$f":"IF(신고서!U30=\"\",0,1)","v":0},{"$f":"IF(신고서!X30=\"○\",1,0)","v":0},{"$f":"IF(신고서!U29=\"○\",1,0)","v":0}]
[null,null,null,"부양가족6",{"$f":"신고서!H31","v":0},{"$f":"신고서!H32","v":0},{"$f":"IF(신고서!O31=\"○\",1,0)","v":0},{"$f":"신고서!C31","v":0},{"$f":"IF(신고서!X31=\"\",0,1)","v":0},{"$f":"IF(신고서!X31=\"○1\",3,(IF(신고서!X31=\"○2\",5,(IF(신고서!X31=\"○3\",7,0)))))","v":0},{"$f":"IF(신고서!U32=\"\",0,1)","v":0},{"$f":"IF(신고서!X32=\"○\",1,0)","v":0},{"$f":"IF(신고서!U31=\"○\",1,0)","v":0}]
[null,null,null,"부양가족7",{"$f":"신고서!H33","v":0},{"$f":"신고서!H34","v":0},{"$f":"IF(신고서!O33=\"○\",1,0)","v":0},{"$f":"신고서!C33","v":0},{"$f":"IF(신고서!X33=\"\",0,1)","v":0},{"$f":"IF(신고서!X33=\"○1\",3,(IF(신고서!X33=\"○2\",5,(IF(신고서!X33=\"○3\",7,0)))))","v":0},{"$f":"IF(신고서!U34=\"\",0,1)","v":0},{"$f":"IF(신고서!X34=\"○\",1,0)","v":0},{"$f":"IF(신고서!U33=\"○\",1,0)","v":0}]
[null,null,null,"부양가족8",{"$f":"신고서!H35","v":0},{"$f":"신고서!H36","v":0},{"$f":"IF(신고서!O35=\"○\",1,0)","v":0},{"$f":"신고서!C35","v":0},{"$f":"IF(신고서!X35=\"\",0,1)","v":0},{"$f":"IF(신고서!X35=\"○1\",3,(IF(신고서!X35=\"○2\",5,(IF(신고서!X35=\"○3\",7,0)))))","v":0},{"$f":"IF(신고서!U36=\"\",0,1)","v":0},{"$f":"IF(신고서!X36=\"○\",1,0)","v":0},{"$f":"IF(신고서!U35=\"○\",1,0)","v":0}]
[null,null,null,"부양가족9",{"$f":"신고서!H37","v":0},{"$f":"신고서!H38","v":0},{"$f":"IF(신고서!O37=\"○\",1,0)","v":0},{"$f":"신고서!C37","v":0},{"$f":"IF(신고서!X37=\"\",0,1)","v":0},{"$f":"IF(신고서!X37=\"○1\",3,(IF(신고서!X37=\"○2\",5,(IF(신고서!X37=\"○3\",7,0)))))","v":0},{"$f":"IF(신고서!U38=\"\",0,1)","v":0},{"$f":"IF(신고서!X38=\"○\",1,0)","v":0},{"$f":"IF(신고서!U37=\"○\",1,0)","v":0}]
[null,null,null,"합계",null,null,{"$f":"SUM(G7:G16)","v":5},null,0,0,0,0,1]

{"sheet":"신용카드","index":4,"n_rows":38,"n_cols":49,"rows_kept":38,"cut":false,"hidden":false,"merged":[[28,41,28,48],[29,41,29,48],[35,43,35,48],[36,43,36,48],[3,11,3,48],[8,44,9,46],[8,47,8,48],[23,47,23,48],[22,47,22,48],[20,47,21,48],[10,44,10,46],[11,44,11,46],[12,44,12,46],[13,44,13,46],[14,44,14,46],[15,44,15,46],[16,44,16,46],[17,44,17,46],[10,29,10,31],[10,32,10,34],[10,35,10,36],[11,29,11,31],[11,32,11,34],[11,35,11,36],[12,29,12,31],[12,32,12,34],[12,35,12,36],[13,29,13,31],[13,32,13,34],[13,35,13,36],[14,29,14,31],[14,32,14,34],[14,35,14,36],[15,26,15,28],[16,26,16,28],[17,26,17,28],[17,29,17,31],[17,32,17,34],[17,35,17,36],[15,29,15,31],[15,32,15,34],[15,35,15,36],[16,29,16,31],[16,32,16,34],[16,35,16,36],[10,26,10,28],[11,26,11,28],[12,26,12,28],[13,26,13,28],[14,26,14,28],[16,11,17,13],[16,14,17,16],[16,17,17,20],[16,21,17,23],[16,24,16,25],[17,24,17,25],[14,11,15,13],[14,14,15,16],[14,17,15,20],[14,21,15,23],[14,24,14,25],[15,24,15,25],[10,24,10,25],[11,24,11,25],[12,11,13,13],[12,14,13,16],[12,17,13,20],[12,21,13,23],[12,24,12,25],[13,24,13,25],[10,11,11,13],[10,14,11,16],[10,17,11,20],[10,21,11,23],[28,24,28,40],[28,11,28,23],[23,41,23,46],[23,35,23,40],[27,11,27,23],[26,11,26,23],[24,41,24,46],[24,35,24,40],[26,24,26,40],[24,11,24,14],[24,15,24,19],[24,20,24,24],[24,25,24,29],[20,19,21,23],[19,11,19,46],[18,11,18,25],[18,37,18,40],[18,41,18,43],[27,24,27,40],[3,2,3,5],[4,11,4,21],[4,22,4,28],[4,29,4,35],[7,24,7,46],[5,2,26,2],[5,11,5,21],[5,22,5,28],[5,29,5,35],[9,9,25,9],[18,3,22,3],[20,11,21,14],[22,19,22,23],[22,24,22,28],[22,29,22,33],[22,34,22,38],[20,34,20,46],[20,24,21,28],[20,29,21,33],[18,32,18,34],[18,26,18,28],[18,29,18,31],[18,35,18,36],[18,44,18,46],[24,30,24,34],[21,34,21,38],[21,39,21,42],[21,43,21,46],[22,43,22,46],[23,11,23,14],[23,15,23,19],[23,20,23,24],[23,25,23,29],[23,30,23,34],[22,11,22,14],[22,15,22,18],[22,39,22,42],[20,15,21,18],[29,11,29,23],[30,11,30,46],[32,35,32,36],[35,14,36,42],[35,11,36,13],[29,24,29,40],[26,41,26,48],[27,41,27,48],[4,36,4,46],[6,11,6,46],[7,11,7,23],[5,36,5,46],[8,11,9,13],[8,14,9,16],[8,17,9,20],[8,21,9,23],[8,24,9,25],[8,26,9,28],[8,29,9,31],[8,32,9,34],[8,35,9,36],[8,37,9,40],[8,41,9,43],[25,11,25,46]]}
[]
[]
[null,null,null,null,null,null,null,null,null,null,null,"■ 조세특례제한법 시행규칙[별지 제74호의6서식] <개정(안) 2021. 11.>",null,null,null,null,null,null,null,null,null,null,null,null,null,null,null,null,null,null,null,null,null,null,null,null,null,null,null,null,null,null,null,null,null,null,null,null,"(앞  쪽)"]
[null,null,"그밖의 소득공제",null,null,null,null,null,null,null,null,"신용카드 등 소득공제 신청서"]
[null,null,null,null,null,null,null,null,null,null,null,"거 주 자 성 명",null,null,null,null,null,null,null,null,null,null,{"$f":"기본사항!G7","v":"이영화"},null,null,null,null,null,null,"생  년  월  일",null,null,null,null,null,null,{"$f":"LEFT(기본사항!G8,6)","v":"123456"}]
[null,null,"그\n밖\n의\n소\n득\n공\n제","개인연금소득공제","개인연금저축납입액",{"$f":"#REF!","v":{"$error":"#REF!"}},"원",null,null,null,null,"근 무 처 명 칭",null,null,null,null,null,null,null,null,null,null,{"$f":"기본사항!G14","v":"(주)조세통람"},null,null,null,null,null,null,"사업자등록번호",null,null,null,null,null,null,{"$f":"기본사항!G16","v":"203-81-11111"}]
[null,null,null,"연금저축소득공제","연금저축납입액",null,"원",null,null,null,null,"1. 공제대상자 및 신용카드등사용금액 명세"]
[null,null,null,"소기업소상공인부금","연간불입금액",{"$f":"#REF!","v":{"$error":"#REF!"}},"원",null,null,null,null,"공제대상자",null,null,null,null,null,null,null,null,null,null,null,null,"신용카드 등 사용금액"]
[null,null,null,null,null,null,null,null,null,null,null,"①\n내·외국인\n구분",null,null,"②\n관계",null,null,"③\n성명",null,null,null,"④\n생년월일",null,null,"자료\n구분",null,"⑤소  계\n(⑥+⑦+⑧+⑨+⑩+⑪)",null,null,"⑥\n신용카드",null,null,"⑦\n직불·\n선불카드\n등",null,null,"⑧ 현금\n영수증",null,"⑨도서공연 등\n사용분\n(총급여\n7천만원\n이하자만\n기재)",null,null,null,"⑩\n전통시장\n사용분",null,null,"⑪\n대중교통\n이용분",null,null,"⑪-1\n소비증가분"]
[null,null,null,"주택마련저축\n소득공제","청약저축",{"$f":"IF(#REF!=\"\",0,MIN(#REF!,1200000))","v":{"$error":"#REF!"}},"원",null,null,null,null,null,null,null,null,null,null,null,null,null,null,null,null,null,null,null,null,null,null,null,null,null,null,null,null,null,null,null,null,null,null,null,null,null,null,null,null,"2020년 \n전체 \n사용분","2021년 \n전체 \n사용분"]
[null,null,null,null,null,null,null,null,null,null,null,null,null,null,null,null,null,null,null,null,null,null,null,null,"국세청자료",null,null,null,null,12000000,null,null,4500000,null,null,null,null,null,null,null,null,null,null,null,1200000]
[null,null,null,null,null,null,null,null,null,null,null,null,null,null,null,null,null,null,null,null,null,null,null,null,"그 밖의 자료"]
[null,null,null,null,null,null,null,null,null,null,null,null,null,null,null,null,null,null,null,null,null,null,null,null,"국세청자료"]
[null,null,null,null,null,null,null,null,null,null,null,null,null,null,null,null,null,null,null,null,null,null,null,null,"그 밖의 자료"]
[null,null,null,null,null,null,null,null,null,null,null,null,null,null,null,null,null,null,null,null,null,null,null,null,"국세청자료"]
[null,null,null,null,null,null,null,null,null,null,null,null,null,null,null,null,null,null,null,null,null,null,null,null,"그 밖의 자료"]
[null,null,null,null,null,null,null,null,null,null,null,null,null,null,null,null,null,null,null,null,null,null,null,null,"국세청자료"]
[null,null,null,null,null,null,null,null,null,null,null,null,null,null,null,null,null,null,null,null,null,null,null,null,"그 밖의 자료"]
[null,null,null,null,"직불ㆍ선불카드(전통시장ㆍ대중교통사용분 제외)",{"$f":"#REF!","v":{"$error":"#REF!"}},"원",null,null,null,null,"⑤-1 합   계   액",null,null,null,null,null,null,null,null,null,null,null,null,null,null,{"$f":"신고서!AG127","v":0},null,null,{"$f":"신고서!AG120","v":0},null,null,{"$f":"신고서!AG122","v":0},null,null,{"$f":"신고서!AG121","v":0},null,{"$f":"신고서!AG123","v":0},null,null,null,{"$f":"신고서!AG124","v":0},null,null,{"$f":"신고서!AG125","v":0},null,null,{"$f":"SUM(AV11:AV18)","v":0},{"$f":"SUM(AW11:AW18)","v":0}]
[null,null,null,null,"현금영수증(전통시장ㆍ대중교통사용분 제외)",{"$f":"#REF!","v":{"$error":"#REF!"}},"원",null,null,null,null,"2. 신용카드등소득공제금액의 계산"]
[null,null,null,null,"전통시장사용분",{"$f":"#REF!","v":{"$error":"#REF!"}},"원",null,null,null,null,"⑫ 신용카드\n사용분 공제금액\n(⑥×15%)",null,null,null,"⑬직불카드등\n사용분 공제금액\n(⑦+⑧)×30%",null,null,null," ⑭도서공연\n사용분\n공제금액\n(⑨×30%)",null,null,null,null,"⑮전통시장\n사용분\n공제금액\n(⑩×40%)",null,null,null,null,"⑯대중교통\n이용분\n공제금액\n(⑪×40%)",null,null,null,null,"⑰공제제외금액 계산",null,null,null,null,null,null,null,null,null,null,null,null,"⑱ 2021년 신용카드등 사용금액 중 2020년 신용카드등 사용금액 대비 5%를 초과하여 증가한 금액의 10%\n[(2021년 신용카드등 사용금액)-(2020년 신용카드등 사용금액×105%)]×10%"]
[null,null,null,null,"대중교통사용분",{"$f":"#REF!","v":{"$error":"#REF!"}},"원",null,null,null,null,null,null,null,null,null,null,null,null,null,null,null,null,null,null,null,null,null,null,null,null,null,null,null,"⑰-1 \n총급여",null,null,null,null,"⑰-2 \n최저사용금액\n(⑰-1×25%) ",null,null,null,"⑰-3 \n공제제외금액"]
[null,null,null,null,"계",{"$f":"#REF!","v":{"$error":"#REF!"}},"원",null,null,null,null,{"$f":"ROUNDDOWN(AD19*0.15,0)","v":0},null,null,null,{"$f":"ROUNDDOWN((AG19+AJ19)*0.3,0)","v":0},null,null,null,{"$f":"ROUNDDOWN(AL19*0.3,0)","v":0},null,null,null,null,{"$f":"ROUNDDOWN(AP19*0.4,0)","v":0},null,null,null,null,{"$f":"ROUNDDOWN(AS19*0.4,0)","v":0},null,null,null,null,{"$f":"영수증!T63","v":25200000},null,null,null,null,{"$f":"ROUNDDOWN(AI23*0.25,0)","v":6300000},null,null,null,{"$f":"IF(AN23<=AD19,AP28,IF(AN23<=(AD19+AG19+AJ19+AL19),AP29,AP30))","v":2520000},null,null,null,{"$f":"(AW19-AV19*1.05)*10%","v":0}]
[null,null,null,"우리사주소득공제","우리사주출연금에 대한 소득공제",{"$f":"#REF!","v":{"$error":"#REF!"}},"원",null,null,null,null,"⑲공제가능금액\n[⑫+⑬+⑭+⑮+⑯\n-(⑰-3)+⑱]",null,null,null,"⑳공제한도액\n[총급여 수준별 200만원, 250만원, 300만원과 (⑰-1)×20% 중\n적은 금액]",null,null,null,null,"㉑일반 공제금액\n(⑲과 ⑳ 중 적은 금액)",null,null,null,null,"㉒전통시장\n추가 공제금액\n [⑲ > ⑳인 경우에 \n⑲-⑳과 ⑮(한도:100만원) 중 적은 금액]",null,null,null,null,"㉓대중교통 \n추가 공제금액 \n[⑲ > ⑳인 경우에 \n⑲-⑳-㉒과⑯(한도:100만원) 중 적은 금액] ",null,null,null,null,"㉔도서ㆍ공연 등\n 추가 공제금액\n[⑲ > ⑳인 경우에 \n⑲-⑳-㉒-㉓과⑭(한도:100만원) 중 적은 금액] ",null,null,null,null,null,"(25)2021년 신용카드등  사용금액 중 2020년 신용카드등 사용금액 대비 소비증가분에 대한 추가 공제금액[⑲ > ⑳인 경우에 ⑲-⑳-㉒-㉓-㉔과⑱(한도:100만원) 중 적은 금액] ",null,null,null,null,null,"(26)최종 공제금액\n(㉑+㉒+㉓+㉔+(25))"]
[null,null,null,"장기주식저축소득공제","장기주식저축에 대한 소득공제",{"$f":"#REF!","v":{"$error":"#REF!"}},"원",null,null,null,null,{"$f":"L23+P23+T23+Y23+AD23-AR23","v":-2520000},null,null,null,{"$f":"ROUNDDOWN(IF(AI23>120000000,2000000,IF(AI23>70000000,2500000,MIN(3000000,(AI23*0.2)))),0)","v":3000000},null,null,null,null,{"$f":"MIN(L25,P25)","v":-2520000},null,null,null,null,{"$f":"IF(L25>P25,MIN(1000000,MIN(MAX(L25-P25,0),Y23)),0)","v":0},null,null,null,null,{"$f":"IF(L25>P25,MIN(1000000,MIN(MAX((L25-P25-Z25),0),AD23)),0)","v":0},null,null,null,null,{"$f":"IF(L25>P25,MIN(1000000,MIN(MAX((L25-P25-Z25-AE25),0),T23)),0)","v":0},null,null,null,null,null,{"$f":"IF(L25>P25,MIN(1000000,MIN(MAX((L25-P25-Z25-AE25-AJ25),0),AV23)),0)","v":0},null,null,null,null,null,{"$f":"MAX((U25+Z25+AE25+AJ25+AP25),0)","v":0}]
[null,null,null,"고용유지 중소기업근로자소득공제","전년대비 임금삭감액",{"$f":"#REF!","v":{"$error":"#REF!"}},"원",null,null,null,null,"⑰-3  계산"]
[null,null,null,"목돈안드는전세이자상환",null,{"$f":"#REF!","v":{"$error":"#REF!"}},"원",null,null,null,null,"구    분",null,null,null,null,null,null,null,null,null,null,null,null,"계산식",null,null,null,null,null,null,null,null,null,null,null,null,null,null,null,null,"⑰-3 "]
[null,null,null,null,null,null,null,null,null,null,null,"⑥ ≥ (⑰-2) ",null,null,null,null,null,null,null,null,null,null,null,null,"(⑰-2)×15%",null,null,null,null,null,null,null,null,null,null,null,null,null,null,null,null,{"$f":"ROUNDDOWN(AN23*0.15,0)","v":945000}]
[null,null,null,null,null,null,null,null,null,null,null," ⑥ + ⑦ + ⑧ + ⑨ ≥ (⑰-2) 〉⑥",null,null,null,null,null,null,null,null,null,null,null,null," ⑥×15% + {(⑰-2) - ⑥}×30%",null,null,null,null,null,null,null,null,null,null,null,null,null,null,null,null,{"$f":"ROUNDDOWN(L23+((AN23-AD19)*0.3),0)","v":1890000}]
[null,null,null,null,null,null,null,null,null,null,null,"(⑰-2) > ⑥ + ⑦ + ⑧ + ⑨ ",null,null,null,null,null,null,null,null,null,null,null,null," ⑥×15% + (⑦+⑧+⑨)×30% + {(⑰-2)-⑥-⑦-⑧-⑨}×40%",null,null,null,null,null,null,null,null,null,null,null,null,null,null,null,null,{"$f":"ROUNDDOWN(L23+(AG19+AJ19+AL19)*0.3+(AN23-(AD19+AG19+AJ19+AL19))*0.4,0)","v":2520000}]
[null,null,null,null,null,null,null,null,null,null,null,"  「조세특례제한법 시행령」제121조의2 제8항에 따라 신용카드등사용금액에 대한 소득공제를 신청합니다."]
[null,null,null,null,null,null,null,null,null,null,null,null,null,null,null,null,null,null,null,null,null,null,null,null,null,null,null,null,null,null,null,null,null,null,null,null,null,null,null,"2021년",null,null,"월",null,null,"일"]
[null,null,null,null,null,null,null,null,null,null,null,null,null,null,null,null,null,null,null,null,null,null,null,null,null,null,null,null,null,null,null,"신청인 :",null,null,null,{"$f":"W5","v":"이영화"},null,null,"(서명 또는 인)"]
[null,null,null,null,null,null,null,null,null,null,null,null,null,null,null,null,null,null,null,null,null,null,null,"귀하"]
[]
[null,null,null,null,null,null,null,null,null,null,null,"첨부 서류 ",null,null," 다음 각 호의 어느 하나에 해당하는 서류\n  1. 신용카드등사용금액확인서(별지 제74호의5서식을 말합니다) 1부 및 승차권 등 대중교통이용분임을 증명할 수 있는 서류(대중교통이용분이 있는 경우로 한정합니다)\n  2. 소득공제명세를 일괄적으로 기재하여 국세청장이 발급하는 서류(국세청 연말정산간소화 서비스(www.hometax.go.kr→조회/발급→연말정산간소화)에서 제공하는 연말정산소득공제 명세를 말합니다)",null,null,null,null,null,null,null,null,null,null,null,null,null,null,null,null,null,null,null,null,null,null,null,null,null,null,null,null,"수수료"]
[null,null,null,null,null,null,null,null,null,null,null,null,null,null,null,null,null,null,null,null,null,null,null,null,null,null,null,null,null,null,null,null,null,null,null,null,null,null,null,null,null,null,null,"없음"]
[null,null,null,null,null,null,null,null,null,null,null,null,null,null,null,null,null,null,null,null,null,null,null,null,null,null,null,null,null,null,null,null,null,null,null,null,null,null,null,null,null,null,null,null,null,null,null,null,"210mm×297mm"]

{"sheet":"기부금","index":5,"n_rows":15,"n_cols":59,"rows_kept":15,"cut":false,"hidden":false,"merged":[[3,44,3,50],[3,51,3,57],[3,58,3,64],[4,1,7,5],[4,6,4,13],[4,14,4,21],[4,22,4,28],[4,29,4,35],[4,36,4,43],[4,44,4,50],[3,1,3,5],[3,6,3,13],[3,14,3,21],[3,22,3,28],[3,29,3,35],[3,36,3,43],[4,51,4,57],[4,58,4,64],[5,6,5,13],[5,14,5,21],[5,22,5,28],[5,29,5,35],[5,36,5,43],[5,44,5,50],[5,51,5,57],[5,58,5,64],[6,51,6,57],[6,58,6,64],[7,6,7,13],[7,14,7,21],[7,22,7,28],[7,29,7,35],[7,36,7,43],[7,44,7,50],[7,51,7,57],[7,58,7,64],[6,6,6,13],[6,14,6,21],[6,22,6,28],[6,29,6,35],[6,36,6,43],[6,44,6,50],[8,44,8,50],[8,51,8,57],[8,58,8,64],[9,1,13,5],[9,6,9,13],[9,14,9,21],[9,22,9,28],[9,29,9,35],[9,36,9,43],[9,44,9,50],[8,1,8,5],[8,6,8,13],[8,14,8,21],[8,22,8,28],[8,29,8,35],[8,36,8,43],[11,44,11,50],[9,51,9,57],[9,58,9,64],[10,6,10,13],[10,14,10,21],[10,22,10,28],[10,29,10,35],[10,36,10,43],[10,44,10,50],[10,51,10,57],[10,58,10,64],[11,6,11,13],[11,14,11,21],[11,22,11,28],[11,29,11,35],[11,36,11,43],[14,58,14,64],[1,1,1,64],[14,1,14,5],[14,6,14,13],[14,14,14,21],[14,22,14,28],[13,6,13,13],[13,14,13,21],[13,22,13,28],[13,29,13,35],[12,36,12,43],[12,44,12,50],[11,51,11,57],[11,58,11,64],[12,51,13,57],[12,58,13,64],[12,6,12,13],[12,14,12,21],[14,44,14,50],[14,51,14,57],[13,36,13,43],[13,44,13,50],[12,22,12,28],[12,29,12,35],[14,29,14,35],[14,36,14,43]]}
[]
[null,"기부금 공제 명세"]
[]
[null,"구분",null,null,null,null,"기부금의 구분",null,null,null,null,null,null,null,"2022년 소득공제대상\n이월기부금의 지출연도",null,null,null,null,null,null,null,"기부금액",null,null,null,null,null,null,null,null,null,null,null,null,null,null,null,null,null,null,null,null,null,"소득공제액"]
[null,"기부금\n소득공제\n(이월분)",null,null,null,null,"법정기부금\n(법정, 코드10)",null,null,null,null,null,null,null,"2013년",null,null,null,null,null,null,null,0,null,null,null,null,null,null,null,null,null,null,null,null,null,"법정기부금 한도계산을\n위한 소득금액",null,null,null,null,null,null,null,{"$f":"IF(W5=\"\",0,MIN(W5,AK11))","v":0}]
[null,null,null,null,null,null,"우리사주기부금\n(조특법88의4, 코드42)",null,null,null,null,null,null,null,null,null,null,null,null,null,null,null,0,null,null,null,null,null,null,null,null,null,null,null,null,null,{"$f":"MAX((AK10-AS10),0)","v":16170000}]
[null,null,null,null,null,null,"지정기부금\n(지정, 코드40)",null,null,null,null,null,null,null,"2013년",null,null,null,null,null,null,null,0,null,null,null,null,null,null,null,null,null,null,null,null,null,"지정기부금 한도계산을\n위한 소득금액",null,null,null,null,null,null,null,{"$f":"IF(W7=\"\",0,MIN(W7,AK13-AS5))","v":0}]
[null,null,null,null,null,null,"지정기부금\n(종교단체, 코드41)",null,null,null,null,null,null,null,"2013년",null,null,null,null,null,null,null,0,null,null,null,null,null,null,null,null,null,null,null,null,null,{"$f":"MAX((AK10-AS10-AS11-AS12),0)","v":16170000},null,null,null,null,null,null,null,{"$f":"IF(W8=\"\",0,MIN(W8,AK14-AS5-AS7))","v":0}]
[null,"구분",null,null,null,null,"기부금의 구분",null,null,null,null,null,null,null,"기부금의 지출연도",null,null,null,null,null,null,null,"기부금액",null,null,null,null,null,null,"기부금합계",null,null,null,null,null,null,"한도액",null,null,null,null,null,null,null,"소득공제대상\n(이월포함)",null,null,null,null,null,null,"세액공제대상\n(이월제외)",null,null,null,null,null,null,"세액공제액"]
[null,"기부금\n세액공제",null,null,null,null,"정치자금기부금\n(조특법76, 코드20)",null,null,null,null,null,null,null,"2022년",null,null,null,null,null,null,null,null,null,null,null,null,null,null,{"$f":"W10","v":0},null,null,null,null,null,null,{"$f":"영수증!T65","v":16170000},null,null,null,null,null,null,null,null,null,null,null,null,null,null,{"$f":"MIN(AD10,AK10)","v":0},null,null,null,null,null,null,{"$f":"ROUNDDOWN(IF(AZ10<=29900000,(AZ10*0.15),(AZ10-29900000)*0.25+4485000),0)","v":0}]
[null,null,null,null,null,null,"법정기부금\n(법정, 코드10)",null,null,null,null,null,null,null,"2017년~2022년",null,null,null,null,null,null,null,null,null,null,null,null,null,null,{"$f":"W11","v":0},null,null,null,null,null,null,{"$f":"MAX(AK10-AS10,0)","v":16170000},null,null,null,null,null,null,null,{"$f":"MIN(AD11,AK11)","v":0},null,null,null,null,null,null,{"$f":"MAX((AS11-AS5),0)","v":0},null,null,null,null,null,null,{"$f":"IF(BG15=0,0,ROUNDDOWN((AZ11/AZ15)*BG15,0))","v":0}]
[null,null,null,null,null,null,"우리사주기부금\n(조특법88의4, 코드42)",null,null,null,null,null,null,null,"2022년",null,null,null,null,null,null,null,0,null,null,null,null,null,null,{"$f":"W12","v":0},null,null,null,null,null,null,{"$f":"MAX((AK10-AS10-AS11)*0.3,0)","v":4851000},null,null,null,null,null,null,null,null,null,null,null,null,null,null,{"$f":"MIN(AD12,AK12)","v":0},null,null,null,null,null,null,{"$f":"IF(BG15=0,0,ROUNDDOWN((AZ12/AZ15)*BG15,0))","v":0}]
[null,null,null,null,null,null,"지정기부금\n(지정, 코드40)",null,null,null,null,null,null,null,"2017년~2022년",null,null,null,null,null,null,null,0,null,null,null,null,null,null,{"$f":"W7+W13","v":0},null,null,null,null,null,null,{"$f":"IF(AD14>0,(AK8*0.1)+MIN((AK8*0.2),W13),AK8*0.3)","v":4851000},null,null,null,null,null,null,null,{"$f":"MIN(AD13,AK13)","v":0},null,null,null,null,null,null,{"$f":"MAX(((AS13-AS7)+(AS14-AS8)),0)","v":0},null,null,null,null,null,null,{"$f":"IF(BG15=0,0,ROUNDDOWN((AZ13/AZ15)*BG15,0))","v":0}]
[null,null,null,null,null,null,"지정기부금\n(종교단체, 코드41)",null,null,null,null,null,null,null,"2017년~2022년",null,null,null,null,null,null,null,0,null,null,null,null,null,null,{"$f":"W8+W14","v":0},null,null,null,null,null,null,{"$f":"AK13","v":4851000},null,null,null,null,null,null,null,{"$f":"MIN(AD14,AK14-AS13)","v":0}]
[null,null,null,null,null,null,0,null,null,null,null,null,null,null,null,null,null,null,null,null,null,null,0,null,null,null,null,null,null,null,null,null,null,null,null,null,null,null,null,null,null,null,null,null,{"$f":"SUM(AS10:AY14)","v":0},null,null,null,null,null,null,{"$f":"SUM(AZ11:BF14)","v":0},null,null,null,null,null,null,{"$f":"ROUNDDOWN(IF(AZ15<=10000000,(AZ15*0.2),(AZ15-10000000)*0.35+2000000),0)","v":0}]

{"sheet":"기부금 이월","index":6,"n_rows":0,"n_cols":0,"rows_kept":0,"cut":false,"hidden":false,"merged":[]}

{"sheet":"감면","index":7,"n_rows":21,"n_cols":13,"rows_kept":21,"cut":false,"hidden":false,"merged":[[3,2,3,4],[6,6,6,11],[6,2,6,4],[12,3,12,4],[13,3,13,4],[19,3,19,4],[14,3,14,4],[15,3,15,4],[16,3,16,4],[17,3,17,4],[18,3,18,4]]}
[]
[]
[]
[]
[]
[]
[null,null,"세액감면",null,null,null,"감면액 계산 테이블"]
[null,null,"구  분","감면세액 계산식","감면세액",null,null,"산출세액","감면대상금액\n(입력)","총급여액 또는\n종합소득금액","감면율","감면세액"]
[null,null,"해외조광권자 등이 외국인에게 지급하는 급여","종합소득산출세액×(감면대상근로소득금액÷종합소득금액)",null,null,"조광권자",{"$f":"#REF!","v":{"$error":"#REF!"}},null,1,null,{"$f":"(H9*I9/J9)*K9","v":{"$error":"#REF!"}}]
[null,null,"중소기업 취업자 세액감면\n(조세특례제한법 제30조)","산출세액\n×(감면대상총급여액\n÷총급여액)×(50%,70%,90%,100%)",{"$f":"L10","v":0},null,"중소기업\n취업자",{"$f":"영수증!AN65","v":217872},0,{"$f":"영수증!T63","v":25200000},0.7,{"$f":"ROUNDDOWN((H10*I10/J10)*K10,0)","v":0},{"$f":"ROUNDDOWN(MAX(0, MIN(영수증!AL71,영수증!AM71))*(1-(감면!I10*감면!K10)/영수증!T63),0)","v":119829}]
[]
[]
[null,null,"감면대상자/취업일","감면율"]
[null,null,"청년 '12~'13년","100%(한도없음). 단 '18년 이후 90%(150만원 한도)"]
[null,null,"청년 '14~'15년","50%(한도없음). 단 '18년 이후 90%(150만원 한도)"]
[null,null,"청년 '16~'17년","70%(한도없음). 단 '18년 이후 90%(150만원 한도)"]
[null,null,"청년 '18~'23년","90%(150만원 한도)"]
[null,null,"60세이상자 장애인 '14~'15년","50%(한도없음)"]
[null,null,"60세이상자 장애인 '16~'21년","70%(150만원 한도)"]
[null,null,"경력단절여성 '17~'21년","70%(150만원 한도)"]
[null,null,"* 취업일부터 3년(청년 5년)간 70%(청년 90%) 감면(연 150만원 한도)"]

{"sheet":"영수증","index":8,"n_rows":156,"n_cols":48,"rows_kept":156,"cut":false,"hidden":false,"merged":[[151,36,151,39],[152,36,152,39],[153,36,153,39],[154,36,154,39],[149,40,149,41],[149,42,149,43],[150,40,150,41],[150,42,150,43],[151,40,151,41],[151,42,151,43],[152,40,152,41],[152,42,152,43],[153,40,153,41],[153,42,153,43],[154,40,154,41],[154,42,154,43],[99,8,99,18],[100,8,100,18],[62,2,62,18],[63,2,63,18],[64,2,64,18],[101,2,101,18],[102,6,102,18],[103,6,103,18],[150,36,150,39],[104,10,105,18],[74,39,75,47],[80,35,81,38],[80,39,81,47],[80,30,83,34],[82,35,83,38],[82,39,83,47],[84,35,85,38],[84,39,85,47],[98,15,98,18],[83,19,83,24],[85,19,85,24],[71,28,75,29],[71,30,73,34],[74,30,75,34],[148,40,148,41],[148,42,148,43],[147,40,147,43],[147,36,148,39],[149,36,149,39],[106,10,106,18],[107,10,107,18],[108,6,108,18],[109,6,109,18],[110,6,111,18],[112,6,112,18],[113,6,113,18],[114,6,114,18],[115,2,116,18],[116,39,116,47],[108,19,108,24],[108,30,108,37],[108,39,108,47],[109,19,109,24],[109,28,109,38],[109,39,109,47],[110,28,110,38],[113,39,113,47],[104,6,107,9],[71,39,73,47],[74,35,75,35],[74,36,75,36],[74,37,75,37],[74,38,75,38],[71,35,73,35],[71,36,73,36],[71,37,73,37],[71,38,73,38],[72,3,81,7],[74,8,81,9],[82,8,85,9],[73,19,73,24],[75,19,75,24],[77,19,77,24],[79,19,79,24],[81,19,81,24],[86,14,87,18],[86,8,98,9],[95,12,98,13],[95,14,97,14],[95,19,95,24],[88,14,89,18],[90,14,90,18],[91,14,91,18],[92,14,92,18],[93,14,93,18],[94,14,94,18],[95,15,95,18],[96,15,96,18],[46,2,49,5],[102,2,114,5],[121,4,121,11],[122,4,122,11],[125,4,125,11],[127,4,127,11],[129,4,129,11],[131,4,131,11],[133,4,133,11],[132,4,132,11],[50,2,50,20],[49,6,49,20],[82,3,100,7],[71,8,71,17],[71,19,71,24],[84,19,84,24],[99,19,99,24],[126,20,126,21],[127,20,127,21],[93,12,94,13],[72,8,73,17],[74,10,75,17],[76,10,77,17],[78,10,79,17],[4,46,4,47],[5,35,5,37],[6,35,6,42],[7,35,7,42],[9,35,9,37],[9,42,9,45],[9,46,9,47],[3,2,5,6],[3,7,5,11],[3,35,3,37],[4,35,4,37],[4,42,4,45],[8,35,8,42],[4,38,4,41],[9,38,9,41],[17,17,17,27],[17,28,17,35],[17,36,17,47],[18,8,18,16],[18,17,18,47],[13,1,16,7],[14,28,14,35],[14,36,14,47],[15,8,15,16],[15,17,15,27],[15,28,15,35],[15,36,15,47],[16,8,16,16],[16,17,16,47],[17,1,18,7],[17,8,17,16],[10,35,10,37],[11,35,11,38],[11,39,11,47],[13,8,13,16],[13,17,13,27],[13,28,13,35],[13,36,13,47],[14,8,14,16],[14,17,14,27],[19,34,19,37],[19,38,19,39],[19,42,19,45],[19,46,19,47],[20,1,32,1],[20,2,20,16],[20,17,20,21],[20,22,20,27],[20,28,20,33],[19,1,19,16],[19,17,19,19],[19,20,19,21],[19,22,19,24],[19,25,19,27],[19,28,19,33],[22,2,22,16],[22,17,22,21],[22,22,22,27],[22,28,22,33],[22,34,22,39],[22,42,22,47],[20,42,20,47],[21,2,21,16],[26,2,26,16],[26,17,26,21],[26,22,26,27],[26,28,26,33],[26,34,26,39],[26,42,26,47],[25,2,25,16],[25,17,25,21],[25,22,25,27],[25,28,25,33],[25,34,25,39],[25,42,25,47],[21,17,21,21],[21,22,21,27],[21,28,21,33],[21,34,21,39],[21,42,21,47],[24,2,24,16],[24,17,24,21],[24,22,24,27],[24,28,24,33],[24,34,24,39],[24,42,24,47],[23,2,23,16],[23,17,23,21],[23,22,23,27],[23,28,23,33],[23,34,23,39],[23,42,23,47],[29,2,29,16],[29,17,29,21],[29,22,29,27],[29,28,29,33],[29,34,29,39],[29,42,29,47],[28,2,28,16],[28,17,28,21],[28,22,28,27],[28,28,28,33],[28,34,28,39],[28,42,28,47],[27,2,27,16],[27,17,27,21],[27,22,27,27],[27,28,27,33],[27,34,27,39],[27,42,27,47],[32,2,32,16],[32,17,32,21],[32,22,32,27],[32,28,32,33],[32,34,32,39],[32,42,32,47],[31,2,31,16],[31,17,31,21],[31,22,31,27],[31,28,31,33],[31,34,31,39],[31,42,31,47],[30,2,30,16],[30,17,30,21],[30,22,30,27],[30,28,30,33],[30,34,30,39],[30,42,30,47],[33,34,33,39],[33,42,33,47],[34,2,34,13],[34,14,34,16],[34,17,34,21],[34,22,34,27],[34,28,34,33],[34,34,34,39],[34,42,34,47],[33,1,43,1],[33,2,33,13],[33,14,33,16],[33,17,33,21],[33,22,33,27],[33,28,33,33],[35,2,35,13],[35,14,35,16],[35,17,35,21],[35,22,35,27],[35,28,35,33],[43,2,43,16],[43,17,43,21],[43,22,43,27],[43,28,43,33],[42,22,42,27],[42,28,42,33],[37,42,37,47],[38,2,38,13],[38,14,38,16],[38,17,38,21],[38,22,38,27],[38,28,38,33],[38,34,38,39],[38,42,38,47],[37,2,37,13],[37,14,37,16],[37,17,37,21],[37,22,37,27],[37,28,37,33],[37,34,37,39],[35,34,35,39],[35,42,35,47],[36,2,36,13],[36,14,36,16],[36,17,36,21],[36,22,36,27],[36,28,36,33],[36,34,36,39],[36,42,36,47],[40,42,40,47],[41,2,41,13],[41,14,41,16],[41,17,41,21],[41,22,41,27],[41,28,41,33],[41,34,41,39],[41,42,41,47],[40,2,40,13],[40,14,40,16],[40,17,40,21],[40,22,40,27],[40,28,40,33],[40,34,40,39],[39,42,39,47],[39,2,39,13],[39,14,39,16],[39,17,39,21],[39,22,39,27],[39,28,39,33],[39,34,39,39],[49,30,49,36],[49,37,49,47],[46,6,48,9],[46,10,48,11],[46,12,46,20],[46,21,46,29],[46,30,46,36],[46,37,46,47],[47,12,47,20],[47,21,47,29],[47,30,47,36],[47,37,47,47],[43,34,43,39],[43,42,43,47],[42,2,42,16],[42,17,42,21],[42,34,42,39],[42,42,42,47],[44,2,44,20],[65,8,65,17],[44,21,44,29],[44,30,44,36],[44,37,44,47],[45,2,45,20],[45,21,45,29],[45,30,45,36],[45,37,45,47],[48,12,48,20],[48,21,48,29],[48,30,48,36],[65,2,100,2],[90,12,92,13],[70,8,70,17],[88,35,88,38],[76,19,76,24],[76,28,86,29],[50,21,50,29],[50,30,50,36],[50,37,50,47],[51,2,51,20],[51,21,51,29],[51,30,51,36],[51,37,51,47],[54,14,54,36],[54,39,54,46],[55,33,55,38],[57,6,57,13],[59,1,59,47],[62,1,116,1],[62,19,62,24],[62,39,63,47],[115,19,116,24],[115,25,115,38],[115,39,115,47],[44,1,51,1],[48,37,48,47],[49,21,49,29],[65,39,65,47],[66,39,66,47],[69,8,69,12],[69,15,69,16],[67,8,67,13],[67,19,67,24],[67,28,67,38],[68,19,68,24],[68,28,68,38],[63,19,63,24],[64,19,64,24],[66,19,66,24],[66,28,66,38],[65,19,65,24],[64,25,64,35],[62,25,63,35],[65,3,67,7],[68,3,71,7],[68,8,68,13],[66,8,66,17],[70,39,70,47],[70,19,70,24],[64,39,64,47],[72,19,72,24],[70,25,114,27],[74,19,74,24],[105,35,105,38],[113,35,113,38],[86,19,87,24],[70,28,70,36],[87,39,87,47],[86,35,86,38],[84,30,86,34],[67,39,67,47],[68,39,68,47],[69,19,69,24],[69,28,69,38],[69,39,69,47],[65,25,69,27],[65,28,65,38],[78,19,78,24],[76,35,77,38],[78,35,79,38],[76,39,77,47],[78,39,79,47],[80,19,80,24],[82,19,82,24],[86,39,86,47],[80,10,81,17],[82,10,83,17],[84,10,85,17],[96,39,96,47],[97,19,97,24],[97,33,98,34],[97,35,97,38],[97,39,97,47],[98,19,98,24],[98,35,98,38],[90,10,98,11],[92,19,92,24],[92,35,92,38],[92,39,92,47],[86,10,89,13],[88,39,88,47],[97,15,97,18],[76,30,79,34],[91,39,91,47],[89,32,90,34],[89,35,89,38],[89,39,89,47],[91,35,91,38],[91,19,91,24],[91,30,92,34],[99,31,100,34],[99,35,99,38],[99,39,99,47],[100,19,100,24],[88,19,89,24],[90,19,90,24],[90,35,90,38],[90,39,90,47],[87,28,108,29],[87,30,90,31],[87,32,88,34],[87,35,87,38],[93,19,93,24],[93,30,94,34],[93,35,93,38],[95,35,95,38],[100,35,100,38],[93,39,93,47],[94,19,94,24],[94,35,94,38],[94,39,94,47],[96,19,96,24],[106,39,106,47],[100,39,100,47],[101,19,101,24],[98,39,98,47],[101,35,101,38],[101,39,101,47],[102,19,102,24],[103,19,103,24],[103,31,104,34],[103,35,103,38],[103,39,103,47],[104,35,104,38],[104,39,104,47],[101,31,102,34],[102,39,102,47],[110,39,110,47],[111,28,111,38],[107,19,107,24],[107,30,107,38],[107,39,107,47],[111,39,111,47],[110,19,111,24],[105,31,106,34],[105,39,105,47],[95,30,106,30],[96,35,96,38],[95,31,98,32],[95,33,96,34],[104,19,105,24],[106,19,106,24],[106,35,106,38],[102,35,102,38],[95,39,95,47],[151,1,151,3],[149,6,149,11],[149,12,149,17],[147,12,148,17],[138,12,138,14],[138,15,138,17],[146,1,148,3],[147,6,148,11],[138,20,138,21],[139,20,139,21],[138,1,138,3],[143,6,143,11],[143,12,143,17],[140,1,140,3],[143,1,143,3],[144,1,144,3],[144,6,144,11],[144,12,144,14],[144,15,144,17],[139,1,139,3],[139,6,139,11],[139,12,139,17],[140,15,140,17],[140,6,140,11],[142,22,142,24],[138,6,138,11],[149,1,149,3],[152,1,152,3],[153,1,153,3],[154,1,154,3],[151,6,151,11],[151,12,151,17],[153,6,153,11],[153,12,153,17],[153,19,153,23],[153,24,153,29],[150,1,150,3],[146,4,148,5],[140,20,140,21],[142,1,142,3],[142,6,142,11],[142,12,142,14],[142,15,142,17],[141,1,141,3],[141,6,141,11],[141,12,141,17],[141,20,141,21],[142,20,142,21],[153,44,153,47],[151,44,151,47],[153,30,153,35],[151,30,151,35],[143,20,143,21],[144,20,144,21],[143,33,143,34],[143,35,143,36],[147,19,148,23],[147,24,148,29],[149,19,149,23],[149,24,149,29],[147,30,148,35],[151,19,151,23],[151,24,151,29],[143,37,143,39],[143,42,143,43],[146,44,148,47],[149,44,149,47],[143,22,143,24],[144,22,144,24],[143,29,143,30],[143,31,143,32],[149,30,149,35],[140,12,140,14],[137,1,137,3],[145,1,145,47],[146,6,146,43],[137,46,137,47],[138,25,138,26],[138,27,138,28],[138,29,138,30],[138,31,138,32],[138,33,138,34],[138,35,138,36],[138,37,138,39],[138,42,138,43],[138,44,138,45],[138,46,138,47],[137,25,137,26],[137,27,137,28],[137,29,137,30],[137,31,137,32],[137,20,137,21],[137,6,137,11],[137,12,137,17],[137,22,137,24],[138,22,138,24],[123,1,123,11],[123,12,123,17],[125,1,125,3],[125,12,125,17],[124,1,124,9],[124,12,124,14],[133,1,133,3],[131,1,131,3],[131,12,131,17],[132,1,132,3],[132,12,132,14],[127,1,127,3],[129,12,129,17],[127,12,127,17],[128,1,128,3],[124,15,124,17],[126,1,126,3],[126,12,126,14],[126,15,126,17],[128,12,128,14],[128,15,128,17],[129,1,129,3],[130,1,130,3],[130,12,130,14],[121,1,121,3],[121,12,121,17],[112,19,112,24],[122,1,122,3],[122,12,122,14],[122,15,122,17],[118,1,118,47],[113,19,113,24],[122,33,122,34],[121,25,121,32],[122,35,122,36],[121,33,121,43],[114,19,114,24],[114,28,114,38],[114,39,114,47],[116,25,116,38],[112,28,113,34],[112,35,112,38],[112,39,112,47],[131,20,131,21],[121,20,121,21],[122,20,122,21],[123,20,123,21],[124,20,124,21],[125,20,125,21],[128,20,128,21],[129,20,129,21],[130,20,130,21],[132,20,132,21],[136,1,136,3],[135,1,135,3],[133,12,133,17],[136,6,136,11],[136,12,136,14],[134,15,134,17],[134,1,134,3],[134,12,134,14],[136,15,136,17],[135,6,135,11],[135,12,135,17],[134,4,134,11],[133,20,133,21],[134,20,134,21],[135,20,135,21],[141,22,141,24],[120,1,120,21],[120,22,120,47],[122,46,122,47],[122,44,122,45],[122,42,122,43],[121,44,121,47],[122,25,122,26],[122,27,122,28],[122,29,122,30],[122,31,122,32],[121,22,122,24],[123,22,123,24],[124,22,124,24],[125,22,125,24],[126,22,126,24],[127,22,127,24],[128,22,128,24],[124,44,124,45],[124,46,124,47],[130,15,130,17],[132,15,132,17],[136,20,136,21],[123,44,123,45],[123,46,123,47],[123,37,123,39],[123,25,123,26],[123,27,123,28],[125,46,125,47],[126,46,126,47],[125,27,125,28],[125,29,125,30],[125,31,125,32],[125,33,125,34],[125,35,125,36],[125,37,125,39],[125,42,125,43],[125,44,125,45],[124,25,124,26],[124,27,124,28],[123,29,123,30],[124,29,124,30],[124,31,124,32],[124,33,124,34],[124,35,124,36],[124,37,124,39],[124,42,124,43],[123,31,123,32],[127,46,127,47],[128,25,128,26],[128,27,128,28],[139,22,139,24],[140,22,140,24],[135,22,135,24],[129,22,129,24],[130,22,130,24],[132,22,132,24],[133,22,133,24],[131,22,131,24],[134,22,134,24],[136,22,136,24],[139,44,139,45],[128,46,128,47],[129,46,129,47],[130,25,130,26],[130,27,130,28],[130,29,130,30],[130,31,130,32],[130,33,130,34],[130,35,130,36],[130,37,130,39],[130,42,130,43],[123,33,123,34],[123,35,123,36],[123,42,123,43],[126,25,126,26],[126,27,126,28],[126,29,126,30],[126,31,126,32],[126,33,126,34],[126,35,126,36],[126,37,126,39],[126,42,126,43],[126,44,126,45],[125,25,125,26],[128,29,128,30],[128,31,128,32],[128,33,128,34],[128,35,128,36],[128,37,128,39],[128,42,128,43],[128,44,128,45],[127,25,127,26],[127,27,127,28],[127,29,127,30],[127,31,127,32],[127,33,127,34],[127,35,127,36],[127,37,127,39],[127,42,127,43],[127,44,127,45],[130,44,130,45],[130,46,130,47],[129,25,129,26],[129,27,129,28],[129,29,129,30],[129,31,129,32],[129,33,129,34],[129,35,129,36],[129,37,129,39],[129,42,129,43],[129,44,129,45],[131,46,131,47],[132,25,132,26],[132,27,132,28],[132,29,132,30],[132,31,132,32],[132,33,132,34],[132,35,132,36],[132,37,132,39],[132,42,132,43],[132,44,132,45],[132,46,132,47],[131,25,131,26],[131,27,131,28],[131,29,131,30],[131,31,131,32],[131,33,131,34],[131,35,131,36],[131,37,131,39],[131,42,131,43],[131,44,131,45],[133,46,133,47],[134,25,134,26],[134,27,134,28],[134,29,134,30],[134,31,134,32],[134,33,134,34],[134,35,134,36],[134,37,134,39],[134,42,134,43],[134,44,134,45],[134,46,134,47],[133,25,133,26],[133,27,133,28],[133,29,133,30],[133,31,133,32],[133,33,133,34],[133,35,133,36],[133,37,133,39],[133,42,133,43],[133,44,133,45],[135,46,135,47],[136,25,136,26],[136,27,136,28],[136,29,136,30],[136,31,136,32],[136,33,136,34],[136,35,136,36],[136,37,136,39],[136,42,136,43],[136,44,136,45],[136,46,136,47],[135,25,135,26],[135,27,135,28],[135,29,135,30],[135,31,135,32],[135,33,135,34],[135,35,135,36],[135,37,135,39],[135,42,135,43],[135,44,135,45],[137,33,137,34],[137,35,137,36],[137,37,137,39],[137,42,137,43],[137,44,137,45],[139,46,139,47],[140,25,140,26],[140,27,140,28],[140,29,140,30],[140,31,140,32],[140,33,140,34],[140,35,140,36],[140,37,140,39],[140,42,140,43],[140,44,140,45],[140,46,140,47],[139,25,139,26],[139,27,139,28],[139,29,139,30],[139,31,139,32],[139,33,139,34],[139,35,139,36],[139,37,139,39],[139,42,139,43],[141,46,141,47],[142,25,142,26],[142,27,142,28],[142,29,142,30],[142,31,142,32],[142,33,142,34],[142,35,142,36],[142,37,142,39],[142,42,142,43],[142,44,142,45],[142,46,142,47],[141,25,141,26],[141,27,141,28],[141,29,141,30],[141,31,141,32],[141,33,141,34],[141,35,141,36],[141,37,141,39],[141,42,141,43],[141,44,141,45],[143,44,143,45],[143,46,143,47],[144,25,144,26],[144,27,144,28],[144,29,144,30],[144,31,144,32],[144,33,144,34],[144,35,144,36],[144,37,144,39],[144,42,144,43],[144,44,144,45],[144,46,144,47],[143,25,143,26],[143,27,143,28]]}
[]
[null,"■ 소득세법 시행규칙 [별지 제24호서식(1)] <2022. 03. 18. 개정>",null,null,null,null,null,null,null,null,null,null,null,null,null,null,null,null,null,null,null,null,null,null,null,null,null,null,null,null,null,null,null,null,null,null,null,null,null,null,null,null,null,null,null,null,null,"(제1쪽)"]
[]
[null,null,"관리\n번호",null,null,null,null,null,null,null,null,null,null,null,null,null,null,null,null,null,null,null,null,null,null,null,null,null,null,null,null,null,null,null,null,"거주구분",null,null,null,"거주자1",null,null,null,null,null,"비거주자2"]
[null,null,null,null,null,null,null,null,null,null,null,null,null,null,null,null,null,null,null,"근로소득 원천징수영수증",null,null,null,null,null,null,null,null,null,null,null,null,null,null,null,"거주지국",null,null,{"$f":"신고서!AK10","v":"한국"},null,null,null,"거주지국코드",null,null,null,{"$f":"신고서!AT10","v":"KR"}]
[null,null,null,null,null,null,null,null,null,null,null,null,null,null,null,null,null,null,null,"근 로 소 득 지 급 명 세 서",null,null,null,null,null,null,null,null,null,null,null,null,null,null,null,"내외국인",null,null,false,"내국인1",null,null,null,null,true,"외국인9"]
[null,null,null,null,null,null,null,null,null,null,null,null,null,null,null,null,null,null,null,null,null,null,null,null,null,null,null,null,null,null,null,null,null,null,null,"외국인단일세율적용",null,null,null,null,null,null,null,false,"여1",true,"부2"]
[null,null,null,null,null,null,null,null,null,null,null,null,null,null,"(",null," 소득자보관용",null,null,null,null,"발행자보관용",null,null,null,null,null,null,"발행자보고용)",null,null,null,null,null,null,"외국법인소속파견근로자여부",null,null,null,null,null,null,null,false,"여1",true,"부2"]
[null,null,null,null,null,null,null,null,null,null,null,null,null,null,null,null,null,null,null,null,null,null,null,null,null,null,null,null,null,null,null,null,null,null,null,"종교관련종사자 여부",null,null,null,null,null,null,null,false,"여1",true,"부2"]
[null,null,null,null,null,null,null,null,null,null,null,null,null,null,null,null,null,null,null,null,null,null,null,null,null,null,null,null,null,null,null,null,null,null,null,"국적",null,null,{"$f":"신고서!AK7","v":"한국"},null,null,null,"국적코드",null,null,null,{"$f":"신고서!AT7","v":"KR"}]
[null,null,null,null,null,null,null,null,null,null,null,null,null,null,null,null,null,null,null,null,null,null,null,null,null,null,null,null,null,null,null,null,null,null,null,"세대주여부",null,null,null,"세대주1",null,null,null,null,null,"  세대원2"]
[null,null,null,null,null,null,null,null,null,null,null,null,null,null,null,null,null,null,null,null,null,null,null,null,null,null,null,null,null,null,null,null,null,null,null,"연말정산구분",null,null,null,"계속근로1, 중도퇴사2"]
[]
[null,"징수\n의무자",null,null,null,null,null,null,"(1) 법 인 명 (상 호)",null,null,null,null,null,null,null,null,{"$f":"기본사항!$G$14","v":"(주)조세통람"},null,null,null,null,null,null,null,null,null,null,"(2) 대 표 자(성명)",null,null,null,null,null,null,null,{"$f":"기본사항!$G$15","v":"김철수"}]
[null,null,null,null,null,null,null,null,"(3) 사업자등록번호",null,null,null,null,null,null,null,null,{"$f":"기본사항!$G$16","v":"203-81-11111"},null,null,null,null,null,null,null,null,null,null,"(4) 주 민 등 록 번 호",null,null,null,null,null,null,null,{"$f":"기본사항!$G$17","v":"123456-1234567"}]
[null,null,null,null,null,null,null,null,"(3)-1 사업자단위과세자 여부",null,null,null,null,null,null,null,null,"여1   /      부1",null,null,null,null,null,false,null,null,null,null,"(3)-2 종사업장 일련번호"]
[null,null,null,null,null,null,null,null,"(5) 소 재 지 (주 소)",null,null,null,null,null,null,null,null,{"$f":"기본사항!$G$18","v":"서울 중구 동호로14길 5-6"},null,null,null,null,null,true]
[null,"소득자",null,null,null,null,null,null,"(6) 성      명",null,null,null,null,null,null,null,null,{"$f":"기본사항!$G$7","v":"이영화"},null,null,null,null,null,null,null,null,null,null,"(7) 주 민 등 록 번 호",null,null,null,null,null,null,null,{"$f":"기본사항!$G$8","v":"123456-1234567"}]
[null,null,null,null,null,null,null,null,"(8) 주      소",null,null,null,null,null,null,null,null,{"$f":"기본사항!$G$9","v":"서울 중구 다산로11길 25"}]
[]
[null,"Ⅰ 근무처별소득명세","구   분",null,null,null,null,null,null,null,null,null,null,null,null,null,null,"주(현)",null,null,null,null,"종(전)",null,null,null,null,null,"종(전)",null,null,null,null,null,"(16)-1납세조합",null,null,null,null,null,null,null,"합 계"]
[null,null,"(9) 근  무  처  명",null,null,null,null,null,null,null,null,null,null,null,null,null,null,{"$f":"R14","v":"(주)조세통람"},null,null,null,null,{"$f":"급여내역!M22","v":"㈜우인"},null,null,null,null,null,{"$f":"급여내역!M29","v":0},null,null,null,null,null,{"$f":"급여내역!M36","v":0}]
[null,null,"(10) 사업자등록번호",null,null,null,null,null,null,null,null,null,null,null,null,null,null,{"$f":"R15","v":"203-81-11111"},null,null,null,null,{"$f":"급여내역!AI22","v":"101-81-22222"},null,null,null,null,null,{"$f":"급여내역!AI29","v":0},null,null,null,null,null,{"$f":"급여내역!AI36","v":0}]
[null,null,"(11) 근무기간",null,null,null,null,null,null,null,null,null,null,null,null,null,null,{"$f":"TEXT(급여내역!BG4,\"yy/mm/dd\")&\"~\"&TEXT(급여내역!BO4,\"yy/mm/dd\")","v":"21/01/01~21/12/31"},null,null,null,null,{"$f":"IF(급여내역!BG22=\"\",\"\",TEXT(급여내역!BG22,\"yy/mm/dd\")&\"~\"&TEXT(급여내역!BO22,\"yy/mm/dd\"))","v":""},null,null,null,null,null,{"$f":"IF(급여내역!BG29=\"\",\"\",TEXT(급여내역!BG29,\"yy/mm/dd\")&\"~\"&TEXT(급여내역!BO29,\"yy/mm/dd\"))","v":""},null,null,null,null,null,{"$f":"IF(급여내역!BG36=\"\",\"\",TEXT(급여내역!BG36,\"yy/mm/dd\")&\"~\"&TEXT(급여내역!BO36,\"yy/mm/dd\"))","v":""},null,null,null,null,null,null,null,"~"]
[null,null,"(12) 감면기간",null,null,null,null,null,null,null,null,null,null,null,null,null,null,"~",null,null,null,null,"~",null,null,null,null,null,"~",null,null,null,null,null,"~",null,null,null,null,null,null,null,"~"]
[null,null,"(13) 급          여",null,null,null,null,null,null,null,null,null,null,null,null,null,null,{"$f":"급여내역!H20","v":25200000},null,null,null,null,{"$f":"급여내역!H26","v":0},null,null,null,null,null,{"$f":"급여내역!H33","v":0},null,null,null,null,null,{"$f":"급여내역!H40","v":0},null,null,null,null,null,null,null,{"$f":"SUM(R26:AN26)","v":25200000}]
[null,null,"(14) 상          여",null,null,null,null,null,null,null,null,null,null,null,null,null,null,{"$f":"급여내역!M20","v":0},null,null,null,null,{"$f":"급여내역!M26","v":0},null,null,null,null,null,{"$f":"급여내역!M33","v":0},null,null,null,null,null,{"$f":"급여내역!M40","v":0},null,null,null,null,null,null,null,0]
[null,null,"(15) 인  정  상  여",null,null,null,null,null,null,null,null,null,null,null,null,null,null,{"$f":"급여내역!Q20","v":0},null,null,null,null,{"$f":"급여내역!Q26","v":0},null,null,null,null,null,{"$f":"급여내역!Q33","v":0},null,null,null,null,null,{"$f":"급여내역!Q40","v":0},null,null,null,null,null,null,null,0]
[null,null,"(15)-1 주식매수선택권 행사이익",null,null,null,null,null,null,null,null,null,null,null,null,null,null,{"$f":"급여내역!U20","v":0},null,null,null,null,{"$f":"급여내역!U26","v":0},null,null,null,null,null,{"$f":"급여내역!U33","v":0},null,null,null,null,null,{"$f":"급여내역!U40","v":0},null,null,null,null,null,null,null,0]
[null,null,"(15)-2 우리사주조합인출금",null,null,null,null,null,null,null,null,null,null,null,null,null,null,{"$f":"급여내역!V20","v":0},null,null,null,null,{"$f":"급여내역!V26","v":0},null,null,null,null,null,{"$f":"급여내역!V33","v":0},null,null,null,null,null,{"$f":"급여내역!V40","v":0},null,null,null,null,null,null,null,0]
[null,null,"(15)-3 임원 퇴직소득금액 한도초과액",null,null,null,null,null,null,null,null,null,null,null,null,null,null,{"$f":"급여내역!W20","v":0},null,null,null,null,{"$f":"급여내역!W26","v":0},null,null,null,null,null,{"$f":"급여내역!W33","v":0},null,null,null,null,null,{"$f":"급여내역!W40","v":0},null,null,null,null,null,null,null,0]
[null,null,"(15)-4 직무발명보상금",null,null,null,null,null,null,null,null,null,null,null,null,null,null,{"$f":"급여내역!X20","v":0},null,null,null,null,{"$f":"급여내역!X26","v":0},null,null,null,null,null,{"$f":"급여내역!X33","v":0},null,null,null,null,null,{"$f":"급여내역!X40","v":0},null,null,null,null,null,null,null,0]
[null,null,"(16) 계",null,null,null,null,null,null,null,null,null,null,null,null,null,null,{"$f":"SUM(R26:V32)","v":25200000},null,null,null,null,{"$f":"SUM(W26:AB32)","v":0},null,null,null,null,null,{"$f":"SUM(AC26:AH32)","v":0},null,null,null,null,null,{"$f":"SUM(AI26:AN32)","v":0},null,null,null,null,null,null,null,{"$f":"SUM(AQ26:AV32)","v":25200000}]
[null,"Ⅱ 비과세및감면소득명세","(18) 국외근로",null,null,null,null,null,null,null,null,null,null,null,"M0X",null,null,{"$f":"급여내역!BB20","v":0},null,null,null,null,{"$f":"급여내역!BB26","v":0},null,null,null,null,null,{"$f":"급여내역!BB33","v":0},null,null,null,null,null,{"$f":"급여내역!BB40","v":0},null,null,null,null,null,null,null,{"$f":"SUM(R34:AN34)","v":0}]
[null,null,"(18)-1 야간근로수당",null,null,null,null,null,null,null,null,null,null,null,"O0X",null,null,{"$f":"급여내역!BK20","v":0},null,null,null,null,{"$f":"급여내역!BK26","v":0},null,null,null,null,null,{"$f":"급여내역!BK33","v":0},null,null,null,null,null,{"$f":"급여내역!BK40","v":0},null,null,null,null,null,null,null,{"$f":"SUM(R35:AN35)","v":0}]
[null,null,"(18)-2 출산.보육수당",null,null,null,null,null,null,null,null,null,null,null,"Q0X",null,null,{"$f":"급여내역!BO20","v":0},null,null,null,null,{"$f":"급여내역!BO26","v":0},null,null,null,null,null,{"$f":"급여내역!BO33","v":0},null,null,null,null,null,{"$f":"급여내역!BO40","v":0},null,null,null,null,null,null,null,{"$f":"SUM(R36:AN36)","v":0}]
[null,null,"(18)-4 연구보조비",null,null,null,null,null,null,null,null,null,null,null,"H0X",null,null,{"$f":"급여내역!BF20","v":0},null,null,null,null,{"$f":"급여내역!BF26","v":0},null,null,null,null,null,{"$f":"급여내역!BF33","v":0},null,null,null,null,null,{"$f":"급여내역!BF40","v":0},null,null,null,null,null,null,null,0]
[null,null,"(18)-5",null,null,null,null,null,null,null,null,null,null,null,null,null,null,null,null,null,null,null,null,null,null,null,null,null,null,null,null,null,null,null,null,null,null,null,null,null,null,null,0]
[null,null,"(18)-6 ",null,null,null,null,null,null,null,null,null,null,null,null,null,null,null,null,null,null,null,null,null,null,null,null,null,null,null,null,null,null,null,null,null,null,null,null,null,null,null,0]
[null,null," ~ ",null,null,null,null,null,null,null,null,null,null,null,null,null,null,null,null,null,null,null,null,null,null,null,null,null,null,null,null,null,null,null,null,null,null,null,null,null,null,null,0]
[null,null,"(18)-34",null,null,null,null,null,null,null,null,null,null,null,null,null,null,null,null,null,null,null,null,null,null,null,null,null,null,null,null,null,null,null,null,null,null,null,null,null,null,null,{"$f":"SUM(R41:AN41)","v":0}]
[null,null,"(19) 수련보조수당",null,null,null,null,null,null,null,null,null,null,null,"Y22",null,null,null,null,null,null,null,null,null,null,null,null,null,null,null,null,null,null,null,null,null,null,null,null,null,null,null,0]
[null,null,"(20) 비과세소득 계",null,null,null,null,null,null,null,null,null,null,null,null,null,null,{"$f":"SUM(R34:V42)","v":0},null,null,null,null,{"$f":"SUM(W34:AB42)","v":0},null,null,null,null,null,{"$f":"SUM(AC34:AH42)","v":0},null,null,null,null,null,{"$f":"SUM(AI34:AN42)","v":0},null,null,null,null,null,null,null,{"$f":"SUM(R43:AN43)","v":0}]
[null,null,"(20)-1 감면소득 계"]
[null,"Ⅲ 세액명세","구       분",null,null,null,null,null,null,null,null,null,null,null,null,null,null,null,null,null,null,"(78) 소 득 세",null,null,null,null,null,null,null,null,"(79) 지 방 소 득 세",null,null,null,null,null,null,"(80) 농 어 촌 특 별 세"]
[null,null,"(72)   결   정   세   액",null,null,null,null,null,null,null,null,null,null,null,null,null,null,null,null,null,null,{"$f":"AN116","v":98028},null,null,null,null,null,null,null,null,{"$f":"ROUNDDOWN(V46*0.1,0)","v":9802},null,null,null,null,null,null,{"$f":"ROUNDDOWN(AN111*0.2,0)","v":0}]
[null,null,"기납부세액",null,null,null,"(73)종(전)근무지(결정세액란의 세액기재)",null,null,null,"사업자등록번호",null,{"$f":"급여내역!AI22","v":"101-81-22222"},null,null,null,null,null,null,null,null,{"$f":"급여내역!AL26","v":0},null,null,null,null,null,null,null,null,{"$f":"급여내역!AP26","v":0},null,null,null,null,null,null,{"$f":"급여내역!AT26","v":0}]
[null,null,null,null,null,null,null,null,null,null,null,null,{"$f":"급여내역!AI29","v":0},null,null,null,null,null,null,null,null,{"$f":"급여내역!AL33","v":0},null,null,null,null,null,null,null,null,{"$f":"급여내역!AP33","v":0},null,null,null,null,null,null,{"$f":"급여내역!AT33","v":0}]
[null,null,null,null,null,null,null,null,null,null,null,null,{"$f":"급여내역!AI36","v":0},null,null,null,null,null,null,null,null,{"$f":"급여내역!AL40","v":0},null,null,null,null,null,null,null,null,{"$f":"급여내역!AP40","v":0},null,null,null,null,null,null,{"$f":"급여내역!AT40","v":0}]
[null,null,null,null,null,null,"(74)주(현)근무지",null,null,null,null,null,null,null,null,null,null,null,null,null,null,{"$f":"급여내역!AL20","v":272880},null,null,null,null,null,null,null,null,{"$f":"급여내역!AP20","v":24970},null,null,null,null,null,null,{"$f":"급여내역!AT20","v":0}]
[null,null,"(75) 납부특례세액"]
[null,null,"(76)차감징수세액((72)-(73)-(74)-(75))",null,null,null,null,null,null,null,null,null,null,null,null,null,null,null,null,null,null,{"$f":"IF(ROUNDDOWN(V46-V47-V48-V49-V50-V51,-1)<0,ROUNDDOWN(V46-V47-V48-V49-V50-V51,-1),IF(ROUNDDOWN(V46-V47-V48-V49-V50-V51,-1)>=1000,ROUNDDOWN(V46-V47-V48-V49-V50-V51,-1),0))","v":-174850},null,null,null,null,null,null,null,null,{"$f":"IF(ROUNDDOWN(AE46-AE47-AE48-AE49-AE50-AE51,-1)<0,ROUNDDOWN(AE46-AE47-AE48-AE49-AE50-AE51,-1),IF(ROUNDDOWN(AE46-AE47-AE48-AE49-AE50-AE51,-1)>=1000,ROUNDDOWN(AE46-AE47-AE48-AE49-AE50-AE51,-1),0))","v":-15160},null,null,null,null,null,null,{"$f":"IF(ROUNDDOWN(AL46-AL47-AL48-AL49-AL50-AL51,-1)<0,ROUNDDOWN(AL46-AL47-AL48-AL49-AL50-AL51,-1),IF(ROUNDDOWN(AL46-AL47-AL48-AL49-AL50-AL51,-1)>=1000,ROUNDDOWN(AL46-AL47-AL48-AL49-AL50-AL51,-1),0))","v":0}]
[null,null,null,null,null,null,null,null,null,null,null,null,"위의 원천징수액(근로소득)을 정히 영수(지급)합니다"]
[]
[null,null,null,null,null,null,null,null,null,null,null,null,null,null,{"$f":"기본사항!G19","v":"2023-03-02"}]
[null,null,null,null,null,null,null,null,null,null,null,null,null,null,null,null,null,null,null,null,null,null,null,null,null,"징수(보고)의무자",null,null,null,null,null,null,null,{"$f":"기본사항!G15","v":"김철수"},null,null,null,null,null,null,null,null,null,null,null,null,"(서명 또는 인)"]
[]
[null,null,null,null,null,null,{"$f":"기본사항!G20","v":"중부세무서장"},null,null,null,null,null,null,null,"귀하"]
[]
[]
[null,null,null,null,null,null,null,null,null,null,null,null,null,null,null,null,null,null,null,null,null,null,null,null,null,null,null,null,null,null,null,null,null,null,null,null,null,null,null,null,null,null,null,null,null,null,null,"210㎜×297㎜"]
[null,null,null,null,null,null,null,null,null,null,null,null,null,null,null,null,null,null,null,null,null,null,null,null,null,null,null,null,null,null,null,null,null,null,null,null,null,null,null,null,null,null,null,null,null,null,null,"(제2쪽)"]
[null,"Ⅳ    정      산       명       세","(21)  총 급 여 ((16), 다만 외국인단일세율 적용시에는 연간 근로소득)",null,null,null,null,null,null,null,null,null,null,null,null,null,null,null,null,{"$f":"AQ33","v":25200000},null,null,null,null,null,"(48) 종합소득과세표준",null,null,null,null,null,null,null,null,null,null,null,null,null,{"$f":"T102-T115+T116","v":3631200}]
[null,null,"(22)  근 로 소 득 공 제",null,null,null,null,null,null,null,null,null,null,null,null,null,null,null,null,{"$f":"ROUNDDOWN(IF(T63>100000000,(T63*0.02+12750000),IF(T63>45000000,(T63*0.05+9750000),IF(T63>15000000,(T63*0.15+5250000),IF(T63>5000000,(T63*0.4+1500000),IF(T63>0,(T63*0.7)))))),0)","v":9030000}]
[null,null,"(23)  근 로 소 득 금 액",null,null,null,null,null,null,null,null,null,null,null,null,null,null,null,null,{"$f":"T63-T64","v":16170000},null,null,null,null,null,"(49)  산     출     세     액",null,null,null,null,null,null,null,null,null,null,null,null,null,{"$f":"ROUNDDOWN(IF(AN63>1000000000,(AN63*0.45-65400000),IF(AN63>500000000,(AN63*0.42-35400000),IF(AN63>300000000,(AN63*0.4-25400000),IF(AN63>150000000,(AN63*0.38-19400000),IF(AN63>88000000,(AN63*0.35-14900000),IF(AN63>46000000,(AN63*0.24-5220000),IF(AN63>12000000,(AN63*0.15-1080000),IF(AN63>0,(AN63*0.06))))))))),0)","v":217872}]
[null,null,"종합소득공제","기   본   공   제",null,null,null,null,"(24) 본인",null,null,null,null,null,null,null,null,null,null,{"$f":"MIN(IF(인적공제!E7=\"\",\"\",1500000),T65)","v":1500000},null,null,null,null,null,"세   액   감   면",null,null,"(50) 소  득  세  법",null,null,null,null,null,null,null,null,null,null,0]
[null,null,null,null,null,null,null,null,"(25) 배우자",null,null,null,null,null,null,null,null,null,null,{"$f":"MIN(IF(인적공제!N8=0,0,1500000),MAX(T65-T66,0))","v":1500000},null,null,null,null,null,null,null,null,"(51) 조세특례제한법((52) 제외)",null,null,null,null,null,null,null,null,null,null,0]
[null,null,null,null,null,null,null,null,"(26) 부양가족     (",null,null,null,null,null,{"$f":"인적공제!G17-인적공제!G7-인적공제!N8","v":3},")","명",null,null,{"$f":"MIN((O68*1500000),MAX(T65-SUM(T66:Y67)))","v":4500000},null,null,null,null,null,null,null,null,"(52) 조세특례제한법 제30조",null,null,null,null,null,null,null,null,null,null,{"$f":"IF(감면!E10=\"\",0,MIN(감면!E10,MAX((AN65-SUM(AN66:AV67)),0)))","v":0}]
[null,null,null,"추   가   공   제",null,null,null,null,"(27) 경로우대     (",null,null,null,null,null,{"$f":"인적공제!M17","v":1},")","명",null,null,{"$f":"MIN(O69*1000000,MAX(T65-SUM(T66:Y68),0))","v":1000000},null,null,null,null,null,null,null,null,"(53)  조  세  조  약",null,null,null,null,null,null,null,null,null,null,0]
[null,null,null,null,null,null,null,null,"(28) 장애인     (",null,null,null,null,{"$f":"인적공제!K17","v":0},")","명",null,null,null,{"$f":"MIN(N70*2000000,MAX(T65-SUM(T66:Y69),0))","v":0},null,null,null,null,null,null,null,null,"(54)  세 액 감 면 계",null,null,null,null,null,null,null,null,null,null,{"$f":"SUM(AN66:AV69)","v":0}]
[null,null,null,null,null,null,null,null,"(29) 부녀자",null,null,null,null,null,null,null,null,null,null,{"$f":"IF(T65<=30000000,MIN(IF(인적공제!O8=1,500000,0),MAX(T65-SUM(T66:Y70),0)),0)","v":0},null,null,null,null,null,"세   액   공   제",null,null,"(55)  근로소득",null,null,null,null,null,null,null,null,{"$f":"ROUNDDOWN(IF(AN65>1300000,(AN65*0.3+325000),AN65*0.55),0)","v":119829},{"$f":"ROUNDDOWN(IF(T63>70000000,MAX(500000,(660000-(T63-70000000)*0.5)),IF(T63>33000000,MAX(660000,(740000-(T63-33000000)*0.008)),740000)),0)","v":740000},{"$f":"IF(AN68>0,감면!M10,MIN(MIN(AL71,AM71),MAX((AN65-AN70),0)))","v":119829}]
[null,null,null,null,null,null,null,null,"(30) 한 부 모 가 족",null,null,null,null,null,null,null,null,null,null,{"$f":"MIN(IF(인적공제!O9=1,1000000,0),MAX(T65-SUM(T66:Y71),0))","v":0},null,null,null,null,null,null,null,null,"(56)  자녀",null,"공제대상자녀",null,null,null,null,"(",{"$f":"인적공제!L17","v":0},")","명",{"$f":"MIN(IF(AK72=1,150000,IF(AK72=2,300000,IF(AK72>2,((AK72-2)*300000+300000),0))),MAX((AN65-AN70-AN71),0))","v":0}]
[null,null,null,"연\n금\n보\n험\n료\n공\n제",null,null,null,null,"(31) 국민연금보험료",null,null,null,null,null,null,null,null,null,"대상금액",{"$f":"T74","v":1134000}]
[null,null,null,null,null,null,null,null,null,null,null,null,null,null,null,null,null,null,"공제금액",{"$f":"MIN(신고서!AS78+신고서!AS79,MAX(T65-SUM(T66:Y72),0))","v":1134000}]
[null,null,null,null,null,null,null,null,"(32)\n공적\n연금\n보험료공제",null,"㉮공무원연금",null,null,null,null,null,null,null,"대상금액",{"$f":"T76","v":300000},null,null,null,null,null,null,null,null,null,null,"출산·입양자 ",null,null,null,null,"(",{"$f":"인적공제!I17","v":0},")","명",{"$f":"IF(AK75>=1,인적공제!J17*100000,0)","v":0}]
[null,null,null,null,null,null,null,null,null,null,null,null,null,null,null,null,null,null,"공제금액",{"$f":"MIN(신고서!AS80+신고서!AS81,MAX(T65-SUM(T66:Y73),0))","v":300000}]
[null,null,null,null,null,null,null,null,null,null,"㉯군인연금",null,null,null,null,null,null,null,"대상금액",{"$f":"T78","v":0},null,null,null,null,null,null,null,null,"연금\n계좌",null,"(57)「과학기술인공제회법」에 따른 퇴직연금",null,null,null,null,"공제대상금액",null,null,null,{"$f":"신고서!AM143","v":100}]
[null,null,null,null,null,null,null,null,null,null,null,null,null,null,null,null,null,null,"공제금액"]
[null,null,null,null,null,null,null,null,null,null,"㉰사립학교교직원연금",null,null,null,null,null,null,null,"대상금액",{"$f":"T80","v":0},null,null,null,null,null,null,null,null,null,null,null,null,null,null,null,"세액공제액",null,null,null,{"$f":"IF(T63<=55000000,ROUNDDOWN(AN77*0.15,0),ROUNDDOWN(AN77*0.12,0))","v":15}]
[null,null,null,null,null,null,null,null,null,null,null,null,null,null,null,null,null,null,"공제금액"]
[null,null,null,null,null,null,null,null,null,null,"㉱별정우체국연금",null,null,null,null,null,null,null,"대상금액",{"$f":"T82","v":0},null,null,null,null,null,null,null,null,null,null,"(58)「근로자퇴직급여 보장법」에 따른 퇴직연금",null,null,null,null,"공제대상금액",null,null,null,{"$f":"신고서!AM144","v":0}]
[null,null,null,null,null,null,null,null,null,null,null,null,null,null,null,null,null,null,"공제금액"]
[null,null,null,"특   별  소  득   공   제",null,null,null,null,"(33)\n보험료",null,"㉮건강보험료\n(노인장기요양보험료포함)",null,null,null,null,null,null,null,"대상금액",{"$f":"T84","v":883200},null,null,null,null,null,null,null,null,null,null,null,null,null,null,null,"세액공제액",null,null,null,{"$f":"IF(T63<=55000000,ROUNDDOWN(AN81*0.15,0),ROUNDDOWN(AN81*0.12,0))","v":0}]
[null,null,null,null,null,null,null,null,null,null,null,null,null,null,null,null,null,null,"공제금액",{"$f":"MIN(신고서!AS83+신고서!AS84,MAX(T65-SUM(T66:Y81),0))","v":883200}]
[null,null,null,null,null,null,null,null,null,null,"㉯고용보험료",null,null,null,null,null,null,null,"대상금액",{"$f":"T86","v":201600},null,null,null,null,null,null,null,null,null,null,"(59)연금저축",null,null,null,null,"공제대상금액",null,null,null,{"$f":"신고서!AM145","v":0}]
[null,null,null,null,null,null,null,null,null,null,null,null,null,null,null,null,null,null,"공제금액",{"$f":"MIN(신고서!AS85+신고서!AS86,MAX(T65-SUM(T66:Y83),0))","v":201600}]
[null,null,null,null,null,null,null,null,"(34)\n주택\n자금",null,"㉮주택임차차입금원리금상환액",null,null,null,"대출기관",null,null,null,null,{"$f":"MIN(신고서!AS88,MAX(T65-SUM(T66:Y85),0))","v":1520000},null,null,null,null,null,null,null,null,null,null,null,null,null,null,null,"세액공제액",null,null,null,{"$f":"IF(T63<=55000000,ROUNDDOWN(AN85*0.15,0),ROUNDDOWN(AN85*0.12,0))","v":0}]
[null,null,null,null,null,null,null,null,null,null,null,null,null,null,null,null,null,null,null,null,null,null,null,null,null,null,null,null,"특별세액공제",null,"(60)\n보험료",null,"보장성",null,null,"공제대상금액",null,null,null,{"$f":"신고서!AM148","v":0}]
[null,null,null,null,null,null,null,null,null,null,null,null,null,null,"거주자",null,null,null,null,{"$f":"MIN(신고서!AS89,MAX(T65-SUM(T66:Y87),0))","v":0},null,null,null,null,null,null,null,null,null,null,null,null,null,null,null,"세액공제액",null,null,null,{"$f":"신고서!BC148","v":0}]
[null,null,null,null,null,null,null,null,null,null,null,null,null,null,null,null,null,null,null,null,null,null,null,null,null,null,null,null,null,null,null,null,"장애인전용\n보장성",null,null,"공제대상금액",null,null,null,{"$f":"신고서!AM149","v":0}]
[null,null,null,null,null,null,null,null,null,null,"㉯\n장기\n주택\n저당\n차입금\n이자\n상환액",null,"2011년이전차입분",null,"15년미만",null,null,null,null,{"$f":"MIN(신고서!AS90,MAX(T65-SUM(T66:Y90),0))","v":0},null,null,null,null,null,null,null,null,null,null,null,null,null,null,null,"세액공제액",null,null,null,{"$f":"신고서!BC149","v":0}]
[null,null,null,null,null,null,null,null,null,null,null,null,null,null,"15년~29년",null,null,null,null,{"$f":"MIN(신고서!AS91,MAX(T65-SUM(T66:Y91),0))","v":0},null,null,null,null,null,null,null,null,null,null,"(61)의료비",null,null,null,null,"공제대상금액",null,null,null,{"$f":"신고서!AM155","v":0}]
[null,null,null,null,null,null,null,null,null,null,null,null,null,null,"30년이상",null,null,null,null,{"$f":"MIN(신고서!AS92,MAX(T65-SUM(T66:Y92),0))","v":0},null,null,null,null,null,null,null,null,null,null,null,null,null,null,null,"세액공제액",null,null,null,{"$f":"신고서!BC155","v":0}]
[null,null,null,null,null,null,null,null,null,null,null,null,"2012년이후차입분(15년이상)",null,"고정금리이거나 \n비거치상환대출",null,null,null,null,{"$f":"MIN(신고서!AS93,MAX(T65-SUM(T66:Y93),0))","v":0},null,null,null,null,null,null,null,null,null,null,"(62)교육비",null,null,null,null,"공제대상금액",null,null,null,{"$f":"신고서!AM162","v":0}]
[null,null,null,null,null,null,null,null,null,null,null,null,null,null,"그 밖의 대출",null,null,null,null,{"$f":"MIN(신고서!AS94,MAX(T65-SUM(T66:Y94),0))","v":0},null,null,null,null,null,null,null,null,null,null,null,null,null,null,null,"세액공제액",null,null,null,{"$f":"신고서!BC162","v":0}]
[null,null,null,null,null,null,null,null,null,null,null,null,"2015년\n이후\n차입분",null,"15년\n이상","고정금리이면서,\n비거치상환 대출",null,null,null,{"$f":"MIN(신고서!AS95,MAX(T65-SUM(T66:Y95),0))","v":0},null,null,null,null,null,null,null,null,null,null,"(63)기부금","㉮\n정치자금기부금",null,"10만원이하",null,"공제대상금액",null,null,null,{"$f":"신고서!AM163","v":0}]
[null,null,null,null,null,null,null,null,null,null,null,null,null,null,null,"고정금리이거나,\n비거치상환 대출",null,null,null,{"$f":"MIN(신고서!AS96,MAX(T65-SUM(T66:Y96),0))","v":0},null,null,null,null,null,null,null,null,null,null,null,null,null,null,null,"세액공제액",null,null,null,{"$f":"신고서!BC163","v":0}]
[null,null,null,null,null,null,null,null,null,null,null,null,null,null,null,"그 밖의 대출",null,null,null,{"$f":"MIN(신고서!AS97,MAX(T65-SUM(T66:Y97),0))","v":0},null,null,null,null,null,null,null,null,null,null,null,null,null,"10만원초과",null,"공제대상금액",null,null,null,{"$f":"신고서!AM164","v":0}]
[null,null,null,null,null,null,null,null,null,null,null,null,null,null,"10년~15년","고정금리이거나,\n비거치상환",null,null,null,{"$f":"MIN(신고서!AS98,MAX(T65-SUM(T66:Y98),0))","v":0},null,null,null,null,null,null,null,null,null,null,null,null,null,null,null,"세액공제액",null,null,null,{"$f":"신고서!BC164","v":0}]
[null,null,null,null,null,null,null,null,"(35) 기부금(이월분)",null,null,null,null,null,null,null,null,null,null,{"$f":"MIN(신고서!AS103,MAX(T65-SUM(T66:Y96),0))","v":0},null,null,null,null,null,null,null,null,null,null,null,"㉯ 「소득세법」 제34조 제2항 제1호에 따른 기부금",null,null,null,"공제대상금액",null,null,null,{"$f":"신고서!AM165","v":0}]
[null,null,null,null,null,null,null,null,"(36) 계",null,null,null,null,null,null,null,null,null,null,{"$f":"IF(T65=0,0,SUM(T84,T86,T87:Y100))","v":2604800},null,null,null,null,null,null,null,null,null,null,null,null,null,null,null,"세액공제액",null,null,null,{"$f":"신고서!BC165","v":0}]
[null,null,"(37) 차 감 소 득 금 액",null,null,null,null,null,null,null,null,null,null,null,null,null,null,null,null,{"$f":"MAX(0,T65-SUM(T66:Y72,T74,T76,T78,T80,T82)-T101)","v":3631200},null,null,null,null,null,null,null,null,null,null,null,"㉰ 우리사주\n조합기부금",null,null,null,"공제대상금액",null,null,null,{"$f":"신고서!AM166","v":0}]
[null,null,"그\n밖\n의\n소\n득\n공\n제",null,null,null,"(38) 개인연금저축",null,null,null,null,null,null,null,null,null,null,null,null,{"$f":"MIN(신고서!AS104,T102)","v":0},null,null,null,null,null,null,null,null,null,null,null,null,null,null,null,"세액공제액",null,null,null,{"$f":"신고서!BC166","v":0}]
[null,null,null,null,null,null,"(39)소기업·소상공인공제부금",null,null,null,null,null,null,null,null,null,null,null,null,{"$f":"MIN(신고서!AS105,MAX((T102-T103),0))","v":0},null,null,null,null,null,null,null,null,null,null,null,"㉱ 「소득세법」제34조 제3항 제1호의 기부금(종교단체 외)",null,null,null,"공제대상금액",null,null,null,{"$f":"신고서!AM167","v":0}]
[null,null,null,null,null,null,"(40)주택\n마련저축소득공제",null,null,null,"㉮청약저축",null,null,null,null,null,null,null,null,{"$f":"MIN(신고서!$AS$106,MAX((T102-SUM(T103:T104)),0))","v":0},null,null,null,null,null,null,null,null,null,null,null,null,null,null,null,"세액공제액",null,null,null,{"$f":"신고서!BC167","v":0}]
[null,null,null,null,null,null,null,null,null,null,null,null,null,null,null,null,null,null,null,null,null,null,null,null,null,null,null,null,null,null,null,"㉲ 소득세법」제34조 제3항 제1호의 기부금(종교단체)",null,null,null,"공제대상금액",null,null,null,{"$f":"신고서!AM168","v":0}]
[null,null,null,null,null,null,null,null,null,null,"㉯주택청약종합저축",null,null,null,null,null,null,null,null,{"$f":"MIN(신고서!$AS$108,MAX((T102-SUM(T103:T105)),0))","v":0},null,null,null,null,null,null,null,null,null,null,null,null,null,null,null,"세액공제액",null,null,null,{"$f":"신고서!BC168","v":0}]
[null,null,null,null,null,null,null,null,null,null,"㉰근로자주택마련저축",null,null,null,null,null,null,null,null,{"$f":"MIN(신고서!$AS$107,MAX((T102-SUM(T103:T107)),0))","v":0},null,null,null,null,null,null,null,null,null,null,"(64)계",null,null,null,null,null,null,null,null,{"$f":"AN89+AN91+AN93+AN95+AN97+AN99+AN101+AN103+AN105+AN107","v":0}]
[null,null,null,null,null,null,"(41)투자조합출자 등",null,null,null,null,null,null,null,null,null,null,null,null,{"$f":"MIN(신고서!AS119,MAX((T102-SUM(T103:T108)),0))","v":0},null,null,null,null,null,null,null,null,null,null,"(65)표준세액공제",null,null,null,null,null,null,null,{"$f":"(T84+T86+SUM(T87:Y90)+SUM(T91:Y100))*0.12+AN89+AN91+AN93+AN95+AN101+AN105+AN107+AN114","v":312576},{"$f":"IF(AM109>130000,\"\",130000)","v":""}]
[null,null,null,null,null,null,"(42)신용카드등 사용액",null,null,null,null,null,null,null,null,null,null,null,null,{"$f":"MIN(신고서!$AS$127,MAX((T102-SUM(T103:T109)),0))","v":0},null,null,null,null,null,null,null,null,"(66)  납 세 조 합 공 제",null,null,null,null,null,null,null,null,null,null,{"$f":"급여내역!P42","v":0}]
[null,null,null,null,null,null,"(43) 우리사주조합 출연금",null,null,null,null,null,null,null,null,null,null,null,null,{"$f":"MIN(신고서!$AS$128,MAX((T102-SUM(T103:T110)),0))","v":0},null,null,null,null,null,null,null,null,"(67)  주 택 차 입 금",null,null,null,null,null,null,null,null,null,null,{"$f":"신고서!AS176","v":0}]
[null,null,null,null,null,null,null,null,null,null,null,null,null,null,null,null,null,null,null,null,null,null,null,null,null,null,null,null,"(68)  외  국  납  부",null,null,null,null,null,null,null,null,null,null,{"$f":"IF(T65=0,0,MIN(신고서!AG172,(AN65*(신고서!AS170/영수증!T65))))","v":0}]
[null,null,null,null,null,null,"(44)고용유지 중소기업 근로자",null,null,null,null,null,null,null,null,null,null,null,null,{"$f":"MIN(신고서!$AS$129,MAX((T102-SUM(T103:T112)),0))","v":0},null,null,null,null,null,null,null,null,"(69)  월세액",null,null,null,null,null,null,"공제대상금액",null,null,null,{"$f":"신고서!AG177","v":0}]
[null,null,null,null,null,null,"(45)장기집합투자증권저축",null,null,null,null,null,null,null,null,null,null,null,null,{"$f":"MIN(신고서!AS130,MAX((T102-SUM(T103:T113)),0))","v":0},null,null,null,null,null,null,null,null,null,null,null,null,null,null,null,"세액공제액",null,null,null,{"$f":"신고서!AS177","v":0}]
[null,null,null,null,null,null,"(46)그밖의소득공제 계",null,null,null,null,null,null,null,null,null,null,null,null,{"$f":"SUM(T103:Y114)","v":0},null,null,null,null,null,null,null,null,"(70) 세액공제 계",null,null,null,null,null,null,null,null,null,null,{"$f":"MIN((AN71+AN72+AN75+AN79+AN83+AN87+MAX(AN108,AN109)+AN110+AN111+AN112+AN114),MAX(0,(AN65-AN70)))","v":119844}]
[null,null,"(47) 소득공제 종합한도 초과액",null,null,null,null,null,null,null,null,null,null,null,null,null,null,null,null,{"$f":"MAX((SUM(T87:Y100)+SUM(T104:Y111)-T109+T114)-25000000,0)","v":0},null,null,null,null,null,"(71) 결 정 세 액( (49)-(54)-(70) )",null,null,null,null,null,null,null,null,null,null,null,null,null,{"$f":"MAX(0,+AN65-AN70-AN115)","v":98028}]
[null,null,null,null,null,null,null,null,null,null,null,null,null,null,null,null,null,null,null,null,null,null,null,null,null,"(81) 실효세율(%)( (71)/(21) )x100",null,null,null,null,null,null,null,null,null,null,null,null,null,{"$f":"+AN116/T63*100","v":0.38899999999999996}]
[null,null,null,null,null,null,null,null,null,null,null,null,null,null,null,null,null,null,null,null,null,null,null,null,null,null,null,null,null,null,null,null,null,null,null,null,null,null,null,null,null,null,null,null,null,null,null,"210㎜×297㎜"]
[null,"(77) 소득·세액공제 명세[인적공제항목은 해당란에 \"○\"표시(장애인 해당 시 해당 코드 기재)를 하며, 각종 소득공제·세액공제 항목은 공제를 위하여 실제 지출한 금액을 적습니다.]"]
[]
[null,"인적공제항목",null,null,null,null,null,null,null,null,null,null,null,null,null,null,null,null,null,null,null,null,"각종 소득공제ㆍ세액공제 항목"]
[null,"관계코드",null,null,"성명",null,null,null,null,null,null,null,"기본공제",null,null,null,null,null,"경로우대",null,"출산입양",null,"자료\n구분",null,null,"보험료",null,null,null,null,null,null,null,"의료비",null,null,null,null,null,null,null,null,null,null,"교육비"]
[null,"내ㆍ외\n국인",null,null,"주민등록번호",null,null,null,null,null,null,null,"부녀자",null,null,"한부모",null,null,"장애인",null,"자녀",null,null,null,null,"건강",null,"고용",null,"보장성",null,"장애인\n전용\n보장성",null,"일반",null,"난임",null,"65세이상•장애인  \n건강보험산정\n특례자",null,null,null,null,"실손의료\n보험금",null,"일반",null,"장애인\n특수교육"]
[null,"인적공제 항목에 해당하는",null,null,null,null,null,null,null,null,null,null,{"$f":"신고서!O17","v":5},null,null,null,null,null,{"$f":"신고서!U17","v":1},null,{"$f":"신고서!X17","v":0},null,"국세청계",null,null,{"$f":"신고서!AE17","v":0},null,{"$f":"신고서!AG17","v":0},null,{"$f":"신고서!AI17","v":0},null,{"$f":"신고서!AK17","v":0},null,{"$f":"신고서!AM17","v":0},null,{"$f":"신고서!AO17","v":0},null,{"$f":"신고서!AQ17","v":0},null,null,null,null,{"$f":"신고서!AS17","v":0},null,{"$f":"신고서!BC17","v":0},null,{"$f":"신고서!BE17","v":0}]
[null,"인원수를 기재 (자녀:",null,null,null,null,null,null,null,null,{"$f":"신고서!L18","v":0},"명)",{"$f":"신고서!O18","v":""},null,null,{"$f":"신고서!R18","v":""},null,null,{"$f":"신고서!U18","v":0},null,{"$f":"신고서!X18","v":0},null,"기타계",null,null,{"$f":"신고서!AE18","v":883200},null,{"$f":"신고서!AG18","v":201600},null,{"$f":"신고서!AI18","v":0},null,{"$f":"신고서!AK18","v":0},null,{"$f":"신고서!AM18","v":0},null,{"$f":"신고서!AO18","v":0},null,{"$f":"신고서!AQ18","v":0},null,null,null,null,{"$f":"신고서!AS18","v":0},null,{"$f":"신고서!BC18","v":0},null,{"$f":"신고서!BE18","v":0}]
[null,{"$f":"신고서!C19","v":"0"},null,null,{"$f":"신고서!F19","v":"이영화"},null,null,null,null,null,null,null,{"$f":"신고서!O19","v":"○"},null,null,null,null,null,{"$f":"신고서!U19","v":0},null,{"$f":"신고서!X19","v":0},null,"국세청",null,null,{"$f":"신고서!AE19","v":0},null,{"$f":"신고서!AG19","v":0},null,{"$f":"신고서!AI19","v":0},null,{"$f":"신고서!AK19","v":0},null,{"$f":"신고서!AM19","v":0},null,{"$f":"신고서!AO19","v":0},null,{"$f":"신고서!AQ19","v":0},null,null,null,null,{"$f":"신고서!AS19","v":0},null,{"$f":"신고서!BC19","v":0},null,{"$f":"신고서!BE19","v":0}]
[null,{"$f":"신고서!C20","v":1},null,null,null,null,{"$f":"신고서!F20","v":"(근로자 본인)"},null,null,null,null,null,{"$f":"신고서!O20","v":0},null,null,{"$f":"신고서!R20","v":0},null,null,{"$f":"신고서!U20","v":0},null,{"$f":"신고서!X20","v":0},null,"기타",null,null,{"$f":"신고서!AE20","v":883200},null,{"$f":"신고서!AG20","v":201600},null,{"$f":"신고서!AI20","v":0},null,{"$f":"신고서!AK20","v":0},null,{"$f":"신고서!AM20","v":0},null,{"$f":"신고서!AO20","v":0},null,{"$f":"신고서!AQ20","v":0},null,null,null,null,{"$f":"신고서!AS20","v":0},null,{"$f":"신고서!BC20","v":0},null,{"$f":"신고서!BE20","v":0}]
[null,{"$f":"신고서!C21","v":3},null,null,{"$f":"신고서!F21","v":"조세희"},null,null,null,null,null,null,null,{"$f":"신고서!O21","v":"○"},null,null,null,null,null,{"$f":"신고서!U21","v":0},null,{"$f":"신고서!X21","v":0},null,"국세청",null,null,{"$f":"신고서!AE21","v":0},null,{"$f":"신고서!AG21","v":0},null,{"$f":"신고서!AI21","v":0},null,{"$f":"신고서!AK21","v":0},null,{"$f":"신고서!AM21","v":0},null,{"$f":"신고서!AO21","v":0},null,{"$f":"신고서!AQ21","v":0},null,null,null,null,{"$f":"신고서!AS21","v":0},null,{"$f":"신고서!BC21","v":0},null,{"$f":"신고서!BE21","v":0}]
[null,{"$f":"신고서!C22","v":1},null,null,null,null,{"$f":"신고서!F22","v":"710415-2031653"},null,null,null,null,null,{"$f":"신고서!O22","v":0},null,null,{"$f":"신고서!R22","v":0},null,null,{"$f":"신고서!U22","v":0},null,{"$f":"신고서!X22","v":0},null,"기타",null,null,{"$f":"신고서!AE22","v":0},null,{"$f":"신고서!AG22","v":0},null,{"$f":"신고서!AI22","v":0},null,{"$f":"신고서!AK22","v":0},null,{"$f":"신고서!AM22","v":0},null,{"$f":"신고서!AO22","v":0},null,{"$f":"신고서!AQ22","v":0},null,null,null,null,{"$f":"신고서!AS22","v":0},null,{"$f":"신고서!BC22","v":0},null,{"$f":"신고서!BE22","v":0}]
[null,{"$f":"신고서!C23","v":2},null,null,{"$f":"신고서!F23","v":"편람일"},null,null,null,null,null,null,null,{"$f":"신고서!O23","v":"○"},null,null,null,null,null,{"$f":"신고서!U23","v":"○"},null,{"$f":"신고서!X23","v":0},null,"국세청",null,null,{"$f":"신고서!AE23","v":0},null,{"$f":"신고서!AG23","v":0},null,{"$f":"신고서!AI23","v":0},null,{"$f":"신고서!AK23","v":0},null,{"$f":"신고서!AM23","v":0},null,{"$f":"신고서!AO23","v":0},null,{"$f":"신고서!AQ23","v":0},null,null,null,null,{"$f":"신고서!AS23","v":0},null,{"$f":"신고서!BC23","v":0},null,{"$f":"신고서!BE23","v":0}]
[null,{"$f":"신고서!C24","v":1},null,null,null,null,{"$f":"신고서!F24","v":"481103-2019015"},null,null,null,null,null,{"$f":"신고서!O24","v":0},null,null,{"$f":"신고서!R24","v":0},null,null,{"$f":"신고서!U24","v":0},null,{"$f":"신고서!X24","v":0},null,"기타",null,null,{"$f":"신고서!AE24","v":0},null,{"$f":"신고서!AG24","v":0},null,{"$f":"신고서!AI24","v":0},null,{"$f":"신고서!AK24","v":0},null,{"$f":"신고서!AM24","v":0},null,{"$f":"신고서!AO24","v":0},null,{"$f":"신고서!AQ24","v":0},null,null,null,null,{"$f":"신고서!AS24","v":0},null,{"$f":"신고서!BC24","v":0},null,{"$f":"신고서!BE24","v":0}]
[null,{"$f":"신고서!C25","v":4},null,null,{"$f":"신고서!F25","v":"이대한"},null,null,null,null,null,null,null,{"$f":"신고서!O25","v":"○"},null,null,null,null,null,{"$f":"신고서!U25","v":0},null,{"$f":"신고서!X25","v":0},null,"국세청",null,null,{"$f":"신고서!AE25","v":0},null,{"$f":"신고서!AG25","v":0},null,{"$f":"신고서!AI25","v":0},null,{"$f":"신고서!AK25","v":0},null,{"$f":"신고서!AM25","v":0},null,{"$f":"신고서!AO25","v":0},null,{"$f":"신고서!AQ25","v":0},null,null,null,null,{"$f":"신고서!AS25","v":0},null,{"$f":"신고서!BC25","v":0},null,{"$f":"신고서!BE25","v":0}]
[null,{"$f":"신고서!C26","v":1},null,null,{"$f":"신고서!F26","v":"091206-4059631"},null,null,null,null,null,null,null,{"$f":"신고서!O26","v":0},null,null,{"$f":"신고서!R26","v":0},null,null,{"$f":"신고서!U26","v":0},null,{"$f":"신고서!X26","v":0},null,"기타",null,null,{"$f":"신고서!AE26","v":0},null,{"$f":"신고서!AG26","v":0},null,{"$f":"신고서!AI26","v":0},null,{"$f":"신고서!AK26","v":0},null,{"$f":"신고서!AM26","v":0},null,{"$f":"신고서!AO26","v":0},null,{"$f":"신고서!AQ26","v":0},null,null,null,null,{"$f":"신고서!AS26","v":0},null,{"$f":"신고서!BC26","v":0},null,{"$f":"신고서!BE26","v":0}]
[null,{"$f":"신고서!C27","v":4},null,null,{"$f":"신고서!F27","v":"이민국"},null,null,null,null,null,null,null,{"$f":"신고서!O27","v":"○"},null,null,null,null,null,{"$f":"신고서!U27","v":0},null,{"$f":"신고서!X27","v":0},null,"국세청",null,null,{"$f":"신고서!AE27","v":0},null,{"$f":"신고서!AG27","v":0},null,{"$f":"신고서!AI27","v":0},null,{"$f":"신고서!AK27","v":0},null,{"$f":"신고서!AM27","v":0},null,{"$f":"신고서!AO27","v":0},null,{"$f":"신고서!AQ27","v":0},null,null,null,null,{"$f":"신고서!AS27","v":0},null,{"$f":"신고서!BC27","v":0},null,{"$f":"신고서!BE27","v":0}]
[null,{"$f":"신고서!C28","v":1},null,null,{"$f":"신고서!F28","v":"151230-3059632"},null,null,null,null,null,null,null,{"$f":"신고서!O28","v":0},null,null,{"$f":"신고서!R28","v":0},null,null,{"$f":"신고서!U28","v":0},null,{"$f":"신고서!X28","v":0},null,"기타",null,null,{"$f":"신고서!AE28","v":0},null,{"$f":"신고서!AG28","v":0},null,{"$f":"신고서!AI28","v":0},null,{"$f":"신고서!AK28","v":0},null,{"$f":"신고서!AM28","v":0},null,{"$f":"신고서!AO28","v":0},null,{"$f":"신고서!AQ28","v":0},null,null,null,null,{"$f":"신고서!AS28","v":0},null,{"$f":"신고서!BC28","v":0},null,{"$f":"신고서!BE28","v":0}]
[null,{"$f":"신고서!C29","v":0},null,null,null,null,{"$f":"신고서!H29","v":0},null,null,null,null,null,{"$f":"신고서!O29","v":0},null,null,null,null,null,{"$f":"신고서!U29","v":0},null,{"$f":"신고서!X29","v":0},null,"국세청",null,null,{"$f":"신고서!AE29","v":0},null,{"$f":"신고서!AG29","v":0},null,{"$f":"신고서!AI29","v":0},null,{"$f":"신고서!AK29","v":0},null,{"$f":"신고서!AM29","v":0},null,{"$f":"신고서!AO29","v":0},null,{"$f":"신고서!AQ29","v":0},null,null,null,null,{"$f":"신고서!AS29","v":0},null,{"$f":"신고서!BC29","v":0},null,{"$f":"신고서!BE29","v":0}]
[null,{"$f":"신고서!C30","v":0},null,null,null,null,{"$f":"신고서!H30","v":0},null,null,null,null,null,{"$f":"신고서!O30","v":0},null,null,{"$f":"신고서!R30","v":0},null,null,{"$f":"신고서!U30","v":0},null,{"$f":"신고서!X30","v":0},null,"기타",null,null,{"$f":"신고서!AE30","v":0},null,{"$f":"신고서!AG30","v":0},null,{"$f":"신고서!AI30","v":0},null,{"$f":"신고서!AK30","v":0},null,{"$f":"신고서!AM30","v":0},null,{"$f":"신고서!AO30","v":0},null,{"$f":"신고서!AQ30","v":0},null,null,null,null,{"$f":"신고서!AS30","v":0},null,{"$f":"신고서!BC30","v":0},null,{"$f":"신고서!BE30","v":0}]
[null,{"$f":"신고서!C31","v":0},null,null,null,null,{"$f":"신고서!H31","v":0},null,null,null,null,null,{"$f":"신고서!O31","v":0},null,null,null,null,null,{"$f":"신고서!U31","v":0},null,{"$f":"신고서!X31","v":0},null,"국세청",null,null,{"$f":"신고서!AE31","v":0},null,{"$f":"신고서!AG31","v":0},null,{"$f":"신고서!AI31","v":0},null,{"$f":"신고서!AK31","v":0},null,{"$f":"신고서!AM31","v":0},null,{"$f":"신고서!AO31","v":0},null,{"$f":"신고서!AQ31","v":0},null,null,null,null,{"$f":"신고서!AS31","v":0},null,{"$f":"신고서!BC31","v":0},null,{"$f":"신고서!BE31","v":0}]
[null,{"$f":"신고서!C32","v":0},null,null,null,null,{"$f":"신고서!H32","v":0},null,null,null,null,null,{"$f":"신고서!O32","v":0},null,null,{"$f":"신고서!R32","v":0},null,null,{"$f":"신고서!U32","v":0},null,{"$f":"신고서!X32","v":0},null,"기타",null,null,{"$f":"신고서!AE32","v":0},null,{"$f":"신고서!AG32","v":0},null,{"$f":"신고서!AI32","v":0},null,{"$f":"신고서!AK32","v":0},null,{"$f":"신고서!AM32","v":0},null,{"$f":"신고서!AO32","v":0},null,{"$f":"신고서!AQ32","v":0},null,null,null,null,{"$f":"신고서!AS32","v":0},null,{"$f":"신고서!BC32","v":0},null,{"$f":"신고서!BE32","v":0}]
[null,{"$f":"신고서!C33","v":0},null,null,null,null,{"$f":"신고서!H33","v":0},null,null,null,null,null,{"$f":"신고서!O33","v":0},null,null,null,null,null,{"$f":"신고서!U33","v":0},null,{"$f":"신고서!X33","v":0},null,"국세청",null,null,{"$f":"신고서!AE33","v":0},null,{"$f":"신고서!AG33","v":0},null,{"$f":"신고서!AI33","v":0},null,{"$f":"신고서!AK33","v":0},null,{"$f":"신고서!AM33","v":0},null,{"$f":"신고서!AO33","v":0},null,{"$f":"신고서!AQ33","v":0},null,null,null,null,{"$f":"신고서!AS33","v":0},null,{"$f":"신고서!BC33","v":0},null,{"$f":"신고서!BE33","v":0}]
[null,{"$f":"신고서!C34","v":0},null,null,null,null,{"$f":"신고서!H34","v":0},null,null,null,null,null,{"$f":"신고서!O34","v":0},null,null,{"$f":"신고서!R34","v":0},null,null,{"$f":"신고서!U34","v":0},null,{"$f":"신고서!X34","v":0},null,"기타",null,null,{"$f":"신고서!AE34","v":0},null,{"$f":"신고서!AG34","v":0},null,{"$f":"신고서!AI34","v":0},null,{"$f":"신고서!AK34","v":0},null,{"$f":"신고서!AM34","v":0},null,{"$f":"신고서!AO34","v":0},null,{"$f":"신고서!AQ34","v":0},null,null,null,null,{"$f":"신고서!AS34","v":0},null,{"$f":"신고서!BC34","v":0},null,{"$f":"신고서!BE34","v":0}]
[null,{"$f":"신고서!C35","v":0},null,null,null,null,{"$f":"신고서!H35","v":0},null,null,null,null,null,{"$f":"신고서!O35","v":0},null,null,null,null,null,{"$f":"신고서!U35","v":0},null,{"$f":"신고서!X35","v":0},null,"국세청",null,null,{"$f":"신고서!AE35","v":0},null,{"$f":"신고서!AG35","v":0},null,{"$f":"신고서!AI35","v":0},null,{"$f":"신고서!AK35","v":0},null,{"$f":"신고서!AM35","v":0},null,{"$f":"신고서!AO35","v":0},null,{"$f":"신고서!AQ35","v":0},null,null,null,null,{"$f":"신고서!AS35","v":0},null,{"$f":"신고서!BC35","v":0},null,{"$f":"신고서!BE35","v":0}]
[null,{"$f":"신고서!C36","v":0},null,null,null,null,{"$f":"신고서!H36","v":0},null,null,null,null,null,{"$f":"신고서!O36","v":0},null,null,{"$f":"신고서!R36","v":0},null,null,{"$f":"신고서!U36","v":0},null,{"$f":"신고서!X36","v":0},null,"기타",null,null,{"$f":"신고서!AE36","v":0},null,{"$f":"신고서!AG36","v":0},null,{"$f":"신고서!AI36","v":0},null,{"$f":"신고서!AK36","v":0},null,{"$f":"신고서!AM36","v":0},null,{"$f":"신고서!AO36","v":0},null,{"$f":"신고서!AQ36","v":0},null,null,null,null,{"$f":"신고서!AS36","v":0},null,{"$f":"신고서!BC36","v":0},null,{"$f":"신고서!BE36","v":0}]
[null,{"$f":"신고서!C37","v":0},null,null,null,null,{"$f":"신고서!H37","v":0},null,null,null,null,null,{"$f":"신고서!O37","v":0},null,null,null,null,null,{"$f":"신고서!U37","v":0},null,{"$f":"신고서!X37","v":0},null,"국세청",null,null,{"$f":"신고서!AE37","v":0},null,{"$f":"신고서!AG37","v":0},null,{"$f":"신고서!AI37","v":0},null,{"$f":"신고서!AK37","v":0},null,{"$f":"신고서!AM37","v":0},null,{"$f":"신고서!AO37","v":0},null,{"$f":"신고서!AQ37","v":0},null,null,null,null,{"$f":"신고서!AS37","v":0},null,{"$f":"신고서!BC37","v":0},null,{"$f":"신고서!BE37","v":0}]
[null,{"$f":"신고서!C38","v":0},null,null,null,null,{"$f":"신고서!H38","v":0},null,null,null,null,null,{"$f":"신고서!O38","v":0},null,null,{"$f":"신고서!R38","v":0},null,null,{"$f":"신고서!U38","v":0},null,{"$f":"신고서!X38","v":0},null,"기타",null,null,{"$f":"신고서!AE38","v":0},null,{"$f":"신고서!AG38","v":0},null,{"$f":"신고서!AI38","v":0},null,{"$f":"신고서!AK38","v":0},null,{"$f":"신고서!AM38","v":0},null,{"$f":"신고서!AO38","v":0},null,{"$f":"신고서!AQ38","v":0},null,null,null,null,{"$f":"신고서!AS38","v":0},null,{"$f":"신고서!BC38","v":0},null,{"$f":"신고서!BE38","v":0}]
[null,"각종 소득공제ㆍ세액공제 항목"]
[null,"자료\n구분",null,null,null,null,"신용카드등 사용액공제",null,null,null,null,null,null,null,null,null,null,null,null,null,null,null,null,null,null,null,null,null,null,null,null,null,null,null,null,null,null,null,null,null,null,null,null,null,"기부금"]
[null,null,null,null,null,null,"신용카드",null,null,null,null,null,"직불카드등",null,null,null,null,null,null,"현금영수증",null,null,null,null,"도서공연등사용분\n(총급여 7천만원\n이하자만 기재)",null,null,null,null,null,"전통시장사용분",null,null,null,null,null,"대중교통 \n이용분",null,null,null,"소비증가분"]
[null,null,null,null,null,null,null,null,null,null,null,null,null,null,null,null,null,null,null,null,null,null,null,null,null,null,null,null,null,null,null,null,null,null,null,null,null,null,null,null,"2020년 전체사용분",null,"2021년 전체사용분"]
[null,"국세청계",null,null,null,null,{"$f":"+신고서!H43","v":0},null,null,null,null,null,{"$f":"+신고서!O43","v":0},null,null,null,null,null,null,{"$f":"+신고서!U43","v":0},null,null,null,null,{"$f":"+신고서!AA43","v":0},null,null,null,null,null,{"$f":"+신고서!AG43","v":0},null,null,null,null,null,{"$f":"신고서!AN43","v":0},null,null,null,{"$f":"신고서!AU43","v":0},null,{"$f":"신고서!AY43","v":0},null,{"$f":"신고서!BC43","v":0}]
[null,"기타계",null,null,null,null,{"$f":"+신고서!H44","v":0},null,null,null,null,null,{"$f":"+신고서!O44","v":0},null,null,null,null,null,null,null,null,null,null,null,{"$f":"+신고서!AA44","v":0},null,null,null,null,null,{"$f":"+신고서!AG44","v":0},null,null,null,null,null,{"$f":"+신고서!AN44","v":0},null,null,null,{"$f":"신고서!AU44","v":0},null,{"$f":"신고서!AY44","v":0},null,{"$f":"+신고서!BC44","v":0}]
[null,"국세청",null,null,null,null,{"$f":"+신고서!H45","v":0},null,null,null,null,null,{"$f":"+신고서!O45","v":0},null,null,null,null,null,null,{"$f":"+신고서!U45","v":0},null,null,null,null,{"$f":"+신고서!AA45","v":0},null,null,null,null,null,{"$f":"+신고서!AG45","v":0},null,null,null,null,null,{"$f":"+신고서!AN45","v":0},null,null,null,{"$f":"신고서!AU45","v":0},null,{"$f":"신고서!AY45","v":0},null,{"$f":"신고서!BC45","v":0}]
[null,"기타",null,null,null,null,{"$f":"+신고서!H46","v":0},null,null,null,null,null,{"$f":"+신고서!O46","v":0},null,null,null,null,null,null,null,null,null,null,null,{"$f":"+신고서!AA46","v":0},null,null,null,null,null,{"$f":"+신고서!AG46","v":0},null,null,null,null,null,{"$f":"+신고서!AN46","v":0},null,null,null,{"$f":"신고서!AU46","v":0},null,{"$f":"신고서!AY46","v":0},null,{"$f":"+신고서!BC46","v":0}]
[null,"국세청",null,null,null,null,{"$f":"+신고서!H47","v":0},null,null,null,null,null,{"$f":"+신고서!O47","v":0},null,null,null,null,null,null,{"$f":"+신고서!U47","v":0},null,null,null,null,{"$f":"+신고서!AA47","v":0},null,null,null,null,null,{"$f":"+신고서!AG47","v":0},null,null,null,null,null,{"$f":"+신고서!AN47","v":0},null,null,null,{"$f":"신고서!AU47","v":0},null,{"$f":"신고서!AY47","v":0},null,{"$f":"신고서!BC47","v":0}]
[null,"기타",null,null,null,null,{"$f":"+신고서!H48","v":0},null,null,null,null,null,{"$f":"+신고서!O48","v":0},null,null,null,null,null,null,null,null,null,null,null,{"$f":"+신고서!AA48","v":0},null,null,null,null,null,{"$f":"+신고서!AG48","v":0},null,null,null,null,null,{"$f":"+신고서!AN48","v":0},null,null,null,{"$f":"신고서!AU48","v":0},null,{"$f":"신고서!AY48","v":0},null,{"$f":"+신고서!BC48","v":0}]
[null,null,null,null,null,null,null,null,null,null,null,null,null,null,null,null,null,null,null,null,null,null,null,null,null,null,null,null,null,null,null,null,null,null,null,null,null,null,null,null,null,null,null,null,null,null,null,"210㎜×297㎜"]

{"sheet":"징수부","index":9,"n_rows":73,"n_cols":17,"rows_kept":73,"cut":false,"hidden":false,"merged":[[70,13,70,16],[70,6,70,7],[70,8,70,9],[70,10,70,12],[66,13,66,14],[67,13,67,14],[68,13,68,14],[69,13,69,14],[59,13,59,14],[69,15,69,16],[66,15,66,16],[67,15,67,16],[68,15,68,16],[61,13,61,14],[62,13,62,14],[65,15,65,16],[63,13,63,14],[64,13,64,14],[60,13,60,14],[67,2,67,3],[68,2,68,3],[65,13,65,14],[57,15,57,16],[58,15,58,16],[59,15,59,16],[60,15,60,16],[61,15,61,16],[62,15,62,16],[63,15,63,16],[64,15,64,16],[58,13,58,14],[57,13,57,14],[55,1,56,1],[56,15,56,16],[37,7,38,7],[30,1,30,3],[40,2,40,3],[41,2,41,3],[56,13,56,14],[37,13,38,13],[37,14,38,14],[37,15,38,15],[51,10,51,12],[47,10,47,12],[48,10,48,12],[49,10,49,12],[50,10,50,12],[43,10,43,12],[44,10,44,12],[45,10,45,12],[46,10,46,12],[39,10,39,12],[40,10,40,12],[41,10,41,12],[42,10,42,12],[37,9,38,9],[7,1,7,3],[7,4,7,16],[8,11,9,13],[10,4,10,6],[10,7,10,8],[3,2,3,3],[5,1,6,3],[5,4,5,6],[6,4,6,6],[2,5,4,16],[5,7,5,16],[6,7,6,16],[8,15,8,16],[9,15,9,16],[8,9,9,10],[10,14,10,16],[11,4,11,10],[11,11,11,16],[10,11,10,13],[8,14,9,14],[8,4,9,6],[8,7,9,8],[14,1,14,16],[8,1,13,3],[12,4,12,10],[12,11,12,16],[13,4,13,6],[13,7,13,8],[13,9,13,10],[13,13,13,14],[13,11,13,12],[13,15,13,16],[46,2,46,3],[47,2,47,3],[48,2,48,3],[49,2,49,3],[42,2,42,3],[45,2,45,3],[43,2,43,3],[44,2,44,3],[10,9,10,10],[37,10,38,12],[24,2,24,3],[25,2,25,3],[29,2,29,3],[26,2,26,3],[27,2,27,3],[28,2,28,3],[16,7,17,7],[16,8,17,8],[22,2,22,3],[23,2,23,3],[21,2,21,3],[15,2,17,3],[18,2,18,3],[19,2,19,3],[16,11,17,11],[34,1,34,16],[39,2,39,3],[36,1,38,1],[36,2,36,12],[36,13,36,16],[37,8,38,8],[15,1,17,1],[16,4,17,4],[15,12,15,16],[16,12,16,13],[16,15,17,15],[16,16,17,16],[16,5,17,5],[16,6,17,6],[16,9,17,9],[16,10,17,10],[37,4,37,6],[20,2,20,3],[15,4,15,11],[71,1,71,16],[35,1,35,16],[69,2,69,3],[70,1,70,5],[63,2,63,3],[64,2,64,3],[65,2,65,3],[66,2,66,3],[59,2,59,3],[60,2,60,3],[61,2,61,3],[62,2,62,3],[54,1,54,16],[57,2,57,3],[58,2,58,3],[55,2,55,4],[56,2,56,3],[55,5,56,5],[55,6,55,9],[55,10,55,16],[50,2,50,3],[51,2,51,3],[37,16,38,16],[37,2,38,3]]}
[]
[null,"■ 소득세법 시행규칙 [별지 제25호서식(1)] <개정 2014.3.14>",null,null,null,null,null,null,null,null,null,null,null,null,null,null,"(3쪽 중 제1쪽)"]
[null," ",null,null,null,"소 득 자 별 근 로 소 득 원 천 징 수 부"]
[null," ","①귀속연도",null,{"$f":"기본사항!G10","v":2022}]
[]
[null,"징수의무자",null,null,"②법 인 명(상호)",null,null,{"$f":"기본사항!G14","v":"(주)조세통람"}]
[null,null,null,null,"③사업자등록번호",null,null,{"$f":"기본사항!G16","v":"203-81-11111"}]
[null,"④ 근무처"]
[null,"소   득  자",null,null," ⑤성          명",null,null,{"$f":"기본사항!G7","v":"이영화"},null,"⑥주민등록번호",null,{"$f":"기본사항!G8","v":"123456-1234567"},null,null,"⑦입사일\n  퇴사일"]
[]
[null,null,null,null,"⑧ 내외국인 구분",null,null,"내국인1/외국인9",null,"⑨ 국적",null,null,null,null,"(국적코드 :         )"]
[null,null,null,null,"⑩ 공제대상가족의 수(본인․배우자를 각각 1인으로 봄)",null,null,null,null,null,null,{"$f":"인적공제!G17","v":5}]
[null,null,null,null,"⑪ 20세 이하 자녀의 수",null,null,null,null,null,null,{"$f":"인적공제!O7","v":0}]
[null,null,null,null,"⑫ 감면 적용 여부",null,null,"여 1, 부 2",null,"⑬ 감면규정",null,null,null,"⑭ 감면기간",null,"~"]
[null,"Ⅰ. 근  로  소  득  지  급  명  세"]
[null,"월별","(15)지급연월",null,"1. 총       급       여 ",null,null,null,null,null,null,null,"2. 징수세액"]
[null,null,null,null,"(16)급여","(17)상여","(18)인정상여","(19)주식매수선택권행사이익","(20)우리사주조합인출금","(21)임원퇴직소득금액 한도초과액","(22)~(29)","(30)계","간이세액표 적용 대상",null,"그 외","(34)소득세계\n(32)+(33)","(35)지방\n소득세"]
[null,null,null,null,null,null,null,null,null,null,null,null,"(31)급여구간","(32)소득세","(33)소득세"]
[null,1,{"$f":"급여내역!E8","v":0},null,{"$f":"급여내역!H8","v":2100000},{"$f":"급여내역!M8","v":0},{"$f":"급여내역!Q8","v":0},{"$f":"급여내역!U8","v":0},{"$f":"급여내역!V8","v":0},{"$f":"급여내역!X8","v":0},null,{"$f":"SUM(E19:K19)","v":2100000},null,{"$f":"급여내역!AC8","v":22740},null,{"$f":"N19+O19","v":22740},{"$f":"P19*0.1","v":2274}]
[null,2,{"$f":"급여내역!E9","v":0},null,{"$f":"급여내역!H9","v":2100000},{"$f":"급여내역!M9","v":0},{"$f":"급여내역!Q9","v":0},{"$f":"급여내역!U9","v":0},{"$f":"급여내역!V9","v":0},{"$f":"급여내역!X9","v":0},null,{"$f":"SUM(E20:K20)","v":2100000},null,{"$f":"급여내역!AC9","v":22740},null,{"$f":"N20+O20","v":22740},{"$f":"P20*0.1","v":2274}]
[null,3,{"$f":"급여내역!E10","v":0},null,{"$f":"급여내역!H10","v":2100000},{"$f":"급여내역!M10","v":0},{"$f":"급여내역!Q10","v":0},{"$f":"급여내역!U10","v":0},{"$f":"급여내역!V10","v":0},{"$f":"급여내역!X10","v":0},null,2100000,null,{"$f":"급여내역!AC10","v":22740},null,22740,2274]
[null,4,{"$f":"급여내역!E11","v":0},null,{"$f":"급여내역!H11","v":2100000},{"$f":"급여내역!M11","v":0},{"$f":"급여내역!Q11","v":0},{"$f":"급여내역!U11","v":0},{"$f":"급여내역!V11","v":0},{"$f":"급여내역!X11","v":0},null,2100000,null,{"$f":"급여내역!AC11","v":22740},null,22740,2274]
[null,5,{"$f":"급여내역!E12","v":0},null,{"$f":"급여내역!H12","v":2100000},{"$f":"급여내역!M12","v":0},{"$f":"급여내역!Q12","v":0},{"$f":"급여내역!U12","v":0},{"$f":"급여내역!V12","v":0},{"$f":"급여내역!X12","v":0},null,2100000,null,{"$f":"급여내역!AC12","v":22740},null,22740,2274]
[null,6,{"$f":"급여내역!E13","v":0},null,{"$f":"급여내역!H13","v":2100000},{"$f":"급여내역!M13","v":0},{"$f":"급여내역!Q13","v":0},{"$f":"급여내역!U13","v":0},{"$f":"급여내역!V13","v":0},{"$f":"급여내역!X13","v":0},null,2100000,null,{"$f":"급여내역!AC13","v":22740},null,22740,2274]
[null,7,{"$f":"급여내역!E14","v":0},null,{"$f":"급여내역!H14","v":2100000},{"$f":"급여내역!M14","v":0},{"$f":"급여내역!Q14","v":0},{"$f":"급여내역!U14","v":0},{"$f":"급여내역!V14","v":0},{"$f":"급여내역!X14","v":0},null,2100000,null,{"$f":"급여내역!AC14","v":22740},null,22740,2274]
[null,8,{"$f":"급여내역!E15","v":0},null,{"$f":"급여내역!H15","v":2100000},{"$f":"급여내역!M15","v":0},{"$f":"급여내역!Q15","v":0},{"$f":"급여내역!U15","v":0},{"$f":"급여내역!V15","v":0},{"$f":"급여내역!X15","v":0},null,2100000,null,{"$f":"급여내역!AC15","v":22740},null,22740,2274]
[null,9,{"$f":"급여내역!E16","v":0},null,{"$f":"급여내역!H16","v":2100000},{"$f":"급여내역!M16","v":0},{"$f":"급여내역!Q16","v":0},{"$f":"급여내역!U16","v":0},{"$f":"급여내역!V16","v":0},{"$f":"급여내역!X16","v":0},null,2100000,null,{"$f":"급여내역!AC16","v":22740},null,22740,2274]
[null,10,{"$f":"급여내역!E17","v":0},null,{"$f":"급여내역!H17","v":2100000},{"$f":"급여내역!M17","v":0},{"$f":"급여내역!Q17","v":0},{"$f":"급여내역!U17","v":0},{"$f":"급여내역!V17","v":0},{"$f":"급여내역!X17","v":0},null,2100000,null,{"$f":"급여내역!AC17","v":22740},null,22740,2274]
[null,11,{"$f":"급여내역!E18","v":0},null,{"$f":"급여내역!H18","v":2100000},{"$f":"급여내역!M18","v":0},{"$f":"급여내역!Q18","v":0},{"$f":"급여내역!U18","v":0},{"$f":"급여내역!V18","v":0},{"$f":"급여내역!X18","v":0},null,2100000,null,{"$f":"급여내역!AC18","v":22740},null,22740,2274]
[null,12,{"$f":"급여내역!E19","v":0},null,{"$f":"급여내역!H19","v":2100000},{"$f":"급여내역!M19","v":0},{"$f":"급여내역!Q19","v":0},{"$f":"급여내역!U19","v":0},{"$f":"급여내역!V19","v":0},{"$f":"급여내역!X19","v":0},null,2100000,null,{"$f":"급여내역!AC19","v":22740},null,22740,2274]
[null,"계",null,null,{"$f":"SUM(E19:E30)","v":25200000},0,0,0,0,0,0,25200000,null,{"$f":"SUM(N19:N30)","v":272880},{"$f":"SUM(O19:O30)","v":0},{"$f":"SUM(P19:P30)","v":272880},{"$f":"SUM(Q19:Q30)","v":27288}]
[null,null,null,null,null,null,null,null,null,null,null,null,null,null,null,null,"297㎜×210㎜"]
[]
[null,null,null,null,null,null,null,null,null,null,null,null,null,null,null,null,"(3쪽 중 제2쪽)"]
[null,"Ⅱ. 비   과   세   소   득 "]
[null,"※소득세법 시행규칙 제24호 서식(1) 근로소득원천징수영수증(5쪽) 비과세 및 감면소득 코드 참조"]
[null,"월별","1. 지급명세서 작성 대상 비과세 소득",null,null,null,null,null,null,null,null,null,null,"2. 지급명세서 작성 제외대상 비과세 소득\n※해당 원천징수의무자가 지급한 \n소득을 적음"]
[null,null,"(15)지급연월",null,"국외근로소득\n(코드 :    )",null,null,"(39)야간근로\n수당 등\n(O01)","\n(40)출산˙\n보육수당\n(Q01)","(41)～(49)\n(코드 :  )"," (50)합계\n(38+～+49)",null,null," (51)일직료\n 등\n(H02)","(52)자가운전보조금\n(H03)","(53)～(59)","(60)합계\n(51+～+59)"]
[null,null,null,null," (36)외화","(37)환율","(38)원화"]
[null,1,{"$f":"급여내역!AX8","v":0},null,null,null,{"$f":"급여내역!BB8","v":0},{"$f":"급여내역!BK8","v":0},{"$f":"급여내역!BO8","v":0},{"$f":"급여내역!BP8","v":0},{"$f":"SUM(G40:J40)","v":0},null,null,null,null,null,{"$f":"SUM(N40:P40)","v":0}]
[null,2,{"$f":"급여내역!AX9","v":0},null,null,null,{"$f":"급여내역!BB9","v":0},{"$f":"급여내역!BK9","v":0},{"$f":"급여내역!BO9","v":0},{"$f":"급여내역!BP9","v":0},{"$f":"SUM(G41:J41)","v":0},null,null,null,null,null,{"$f":"SUM(N41:P41)","v":0}]
[null,3,{"$f":"급여내역!AX10","v":0},null,null,null,{"$f":"급여내역!BB10","v":0},{"$f":"급여내역!BK10","v":0},{"$f":"급여내역!BO10","v":0},{"$f":"급여내역!BP10","v":0},0,null,null,null,null,null,0]
[null,4,{"$f":"급여내역!AX11","v":0},null,null,null,{"$f":"급여내역!BB11","v":0},{"$f":"급여내역!BK11","v":0},{"$f":"급여내역!BO11","v":0},{"$f":"급여내역!BP11","v":0},0,null,null,null,null,null,0]
[null,5,{"$f":"급여내역!AX12","v":0},null,null,null,{"$f":"급여내역!BB12","v":0},{"$f":"급여내역!BK12","v":0},{"$f":"급여내역!BO12","v":0},{"$f":"급여내역!BP12","v":0},0,null,null,null,null,null,0]
[null,6,{"$f":"급여내역!AX13","v":0},null,null,null,{"$f":"급여내역!BB13","v":0},{"$f":"급여내역!BK13","v":0},{"$f":"급여내역!BO13","v":0},{"$f":"급여내역!BP13","v":0},0,null,null,null,null,null,0]
[null,7,{"$f":"급여내역!AX14","v":0},null,null,null,{"$f":"급여내역!BB14","v":0},{"$f":"급여내역!BK14","v":0},{"$f":"급여내역!BO14","v":0},{"$f":"급여내역!BP14","v":0},0,null,null,null,null,null,0]
[null,8,{"$f":"급여내역!AX15","v":0},null,null,null,{"$f":"급여내역!BB15","v":0},{"$f":"급여내역!BK15","v":0},{"$f":"급여내역!BO15","v":0},{"$f":"급여내역!BP15","v":0},0,null,null,null,null,null,0]
[null,9,{"$f":"급여내역!AX16","v":0},null,null,null,{"$f":"급여내역!BB16","v":0},{"$f":"급여내역!BK16","v":0},{"$f":"급여내역!BO16","v":0},{"$f":"급여내역!BP16","v":0},0,null,null,null,null,null,0]
[null,10,{"$f":"급여내역!AX17","v":0},null,null,null,{"$f":"급여내역!BB17","v":0},{"$f":"급여내역!BK17","v":0},{"$f":"급여내역!BO17","v":0},{"$f":"급여내역!BP17","v":0},0,null,null,null,null,null,0]
[null,11,{"$f":"급여내역!AX18","v":0},null,null,null,{"$f":"급여내역!BB18","v":0},{"$f":"급여내역!BK18","v":0},{"$f":"급여내역!BO18","v":0},{"$f":"급여내역!BP18","v":0},0,null,null,null,null,null,0]
[null,12,{"$f":"급여내역!AX19","v":0},null,null,null,{"$f":"급여내역!BB19","v":0},{"$f":"급여내역!BK19","v":0},{"$f":"급여내역!BO19","v":0},{"$f":"급여내역!BP19","v":0},0,null,null,null,null,null,0]
[null,"계",null,null,null,{"$f":"SUM(F40:F51)","v":0},{"$f":"SUM(G40:G51)","v":0},{"$f":"SUM(H40:H51)","v":0},0,0,0,null,null,0,0,{"$f":"SUM(P40:P51)","v":0},{"$f":"SUM(Q40:Q51)","v":0}]
[null,null,null,null,null,null,null,null,null,null,null,null,null,null,null,null,"297㎜×210㎜"]
[null,null,null,null,null,null,null,null,null,null,null,null,null,null,null,null,"(3쪽 중 제3쪽)"]
[null,"Ⅲ.  근    로   소   득   원   천   징   수   액   등"]
[null,"월별","1.감면세액",null,null,"(63)납세조합\n공제세액","2. 차  감  원  천  징  수  액",null,null,null,"3. 징수의무자 자체 증빙 지출액(소득공제)"]
[null,null,"(61)감면소득",null,"(62)감면세액",null,"(64)소득세","(65)지방소득세","(66)농어촌특별세","(67)외국납부세액","(68)연금보험","(69)건강보험","(70)고용보험","(71)기부금",null,"(72)비고"]
[null,1,null,null,{"$f":"급여내역!AI8","v":0},null,{"$f":"급여내역!AL8","v":22740},{"$f":"급여내역!AP8","v":2270},{"$f":"급여내역!AT8","v":0},null,{"$f":"급여내역!CA8","v":94500},{"$f":"급여내역!CB8+급여내역!CD8","v":73600},{"$f":"급여내역!CC8","v":16800}]
[null,2,null,null,{"$f":"급여내역!AI9","v":0},null,{"$f":"급여내역!AL9","v":22740},{"$f":"급여내역!AP9","v":2270},{"$f":"급여내역!AT9","v":0},null,{"$f":"급여내역!CA9","v":94500},{"$f":"급여내역!CB9+급여내역!CD9","v":73600},{"$f":"급여내역!CC9","v":16800}]
[null,3,null,null,{"$f":"급여내역!AI10","v":0},null,{"$f":"급여내역!AL10","v":22740},{"$f":"급여내역!AP10","v":2270},{"$f":"급여내역!AT10","v":0},null,{"$f":"급여내역!CA10","v":94500},{"$f":"급여내역!CB10+급여내역!CD10","v":73600},{"$f":"급여내역!CC10","v":16800}]
[null,4,null,null,{"$f":"급여내역!AI11","v":0},null,{"$f":"급여내역!AL11","v":22740},{"$f":"급여내역!AP11","v":2270},{"$f":"급여내역!AT11","v":0},null,{"$f":"급여내역!CA11","v":94500},{"$f":"급여내역!CB11+급여내역!CD11","v":73600},{"$f":"급여내역!CC11","v":16800}]
[null,5,null,null,{"$f":"급여내역!AI12","v":0},null,{"$f":"급여내역!AL12","v":22740},{"$f":"급여내역!AP12","v":2270},{"$f":"급여내역!AT12","v":0},null,{"$f":"급여내역!CA12","v":94500},{"$f":"급여내역!CB12+급여내역!CD12","v":73600},{"$f":"급여내역!CC12","v":16800}]
[null,6,null,null,{"$f":"급여내역!AI13","v":0},null,{"$f":"급여내역!AL13","v":22740},{"$f":"급여내역!AP13","v":2270},{"$f":"급여내역!AT13","v":0},null,{"$f":"급여내역!CA13","v":94500},{"$f":"급여내역!CB13+급여내역!CD13","v":73600},{"$f":"급여내역!CC13","v":16800}]
[null,7,null,null,{"$f":"급여내역!AI14","v":0},null,{"$f":"급여내역!AL14","v":22740},{"$f":"급여내역!AP14","v":2270},{"$f":"급여내역!AT14","v":0},null,{"$f":"급여내역!CA14","v":94500},{"$f":"급여내역!CB14+급여내역!CD14","v":73600},{"$f":"급여내역!CC14","v":16800}]
[null,8,null,null,{"$f":"급여내역!AI15","v":0},null,{"$f":"급여내역!AL15","v":22740},{"$f":"급여내역!AP15","v":2270},{"$f":"급여내역!AT15","v":0},null,{"$f":"급여내역!CA15","v":94500},{"$f":"급여내역!CB15+급여내역!CD15","v":73600},{"$f":"급여내역!CC15","v":16800}]
[null,9,null,null,{"$f":"급여내역!AI16","v":0},null,{"$f":"급여내역!AL16","v":22740},{"$f":"급여내역!AP16","v":0},{"$f":"급여내역!AT16","v":0},null,{"$f":"급여내역!CA16","v":94500},{"$f":"급여내역!CB16+급여내역!CD16","v":73600},{"$f":"급여내역!CC16","v":16800}]
[null,10,null,null,{"$f":"급여내역!AI17","v":0},null,{"$f":"급여내역!AL17","v":22740},{"$f":"급여내역!AP17","v":2270},{"$f":"급여내역!AT17","v":0},null,{"$f":"급여내역!CA17","v":94500},{"$f":"급여내역!CB17+급여내역!CD17","v":73600},{"$f":"급여내역!CC17","v":16800}]
[null,11,null,null,{"$f":"급여내역!AI18","v":0},null,{"$f":"급여내역!AL18","v":22740},{"$f":"급여내역!AP18","v":2270},{"$f":"급여내역!AT18","v":0},null,{"$f":"급여내역!CA18","v":94500},{"$f":"급여내역!CB18+급여내역!CD18","v":73600},{"$f":"급여내역!CC18","v":16800}]
[null,12,null,null,{"$f":"급여내역!AI19","v":0},null,{"$f":"급여내역!AL19","v":22740},{"$f":"급여내역!AP19","v":2270},{"$f":"급여내역!AT19","v":0},null,{"$f":"급여내역!CA19","v":94500},{"$f":"급여내역!CB19+급여내역!CD19","v":73600},{"$f":"급여내역!CC19","v":16800}]
[null,"계",{"$f":"SUM(C58:D69)","v":0},null,{"$f":"SUM(E58:E69)","v":0},0,272880,24970,0,0,1134000,883200,201600]
[null,"작성일자:",null,null,null,null,{"$f":"기본사항!G19","v":"2023-03-02"},null,"징수의무자:",null,{"$f":"기본사항!G15","v":"김철수"},null,null,"(서명 또는 인)"]
[null,"※  (72)비고란에는 (71)기부금에 해당하는 기부금유형 및 코드를 적습니다."]
[null,"                                                    ",null,null,null,null,null,null,null,null,null,null,null,null,null,null,"297㎜×210㎜"]

{"sheet":"사용가이드","index":10,"n_rows":0,"n_cols":0,"rows_kept":0,"cut":false,"hidden":false,"merged":[]}