{"text_format":"1","workbook":"xlsx","n_sheets":10,"sheets":["기본사항","신고서","급여내역","인적공제","신용카드","기부금","감면","영수증","징수부","사용가이드"],"not_rendered":{"charts":0,"images":0,"macros":1,"external_links":0,"defined_names":9,"comments":7,"pivot_tables":0},"unopened":[],"bounds":{"document_bytes":16777216,"sheet_cells":100000,"rows_first":2000,"rows_last":500,"rows_between":2000,"halvings":0,"cell_chars":16384,"cell_head_chars":4096},"cells_cut":0,"cells_raw":0,"read":"whole","date_system":"1900"}

{"sheet":"기본사항","index":0,"n_rows":23,"n_cols":16,"rows_kept":23,"cut":false,"hidden":false,"merged":[[2,15,2,19],[3,15,3,19],[8,2,8,5],[8,6,8,13],[13,6,13,13],[14,6,14,13],[4,2,5,13],[9,2,9,5],[6,6,6,13],[21,15,21,20],[16,2,16,5],[4,15,5,19],[16,6,16,13],[7,2,7,5],[6,2,6,5],[13,2,13,5],[7,6,7,13],[14,2,14,5],[9,6,9,13],[11,2,12,13],[22,15,22,20],[19,6,19,13],[20,15,20,20],[15,2,15,5],[15,6,15,13],[18,2,18,5],[17,6,17,13],[18,6,18,13],[17,2,17,5],[19,15,19,20],[19,2,19,5]]}
[]
[]
[null,null,null,null,null,null,null,null,null,null,null,null,null,null,null,"사용가이드"]
[]
[null,null,"소득자 인적사항"]
[]
[null,null,"성명",null,null,null,"이영화"]
[null,null,"주민등록번호",null,null,null,"123456-1234567"]
[null,null,"주소",null,null,null,"서울 중구 다산로11길 25"]
[null,null,"귀속연도",null,null,null,2019]
[]
[null,null,"원천징수의무자 인적사항"]
[]
[null,null,"상호",null,null,null,"(주)조세통람"]
[null,null,"대표자성명",null,null,null,"김철수"]
[null,null,"사업자등록번호",null,null,null,"203-81-11111"]
[null,null,"주민등록번호",null,null,null,"123456-1234567"]
[null,null,"사업장주소",null,null,null,"서울 중구 동호로14길 5-6"]
[null,null,"신고년월일",null,null,null,"2020-02-28"]
[null,null,"관할세무서",null,null,null,"중부세무서장"]
[]
[null,null,null,null,null,null,null,null,null,null,null,null,null,null,null,"최신세무·회계·법령서비스"]
[null,null,null,null,null,null,null,null,null,null,null,null,null,null,null,"http://www.taxnet.co.kr/"]

{"sheet":"신고서","index":1,"n_rows":275,"n_cols":54,"rows_kept":275,"cut":false,"hidden":false,"merged":[[36,43,36,44],[36,45,36,46],[37,27,37,28],[37,29,37,30],[37,31,37,32],[37,33,37,34],[37,35,37,36],[37,37,37,38],[37,39,37,40],[37,41,37,42],[37,43,37,44],[37,45,37,46],[33,39,33,40],[33,41,33,42],[33,43,33,44],[33,45,33,46],[34,27,34,28],[34,29,34,30],[34,31,34,32],[34,33,34,34],[34,35,34,36],[34,37,34,38],[34,39,34,40],[34,41,34,42],[34,43,34,44],[34,45,34,46],[35,27,35,28],[35,29,35,30],[35,31,35,32],[35,33,35,34],[35,43,35,44],[35,45,35,46],[30,39,30,40],[30,41,30,42],[30,43,30,44],[30,45,30,46],[31,27,31,28],[31,29,31,30],[31,31,31,32],[31,33,31,34],[31,35,31,36],[31,37,31,38],[31,39,31,40],[31,41,31,42],[31,43,31,44],[31,45,31,46],[32,27,32,28],[32,29,32,30],[32,31,32,32],[32,33,32,34],[32,35,32,36],[32,37,32,38],[32,39,32,40],[32,41,32,42],[32,43,32,44],[32,45,32,46],[230,9,230,16],[231,1,231,8],[231,9,231,16],[232,1,232,8],[232,9,232,16],[233,1,233,8],[233,9,233,16],[30,27,30,28],[30,29,30,30],[30,31,30,32],[30,33,30,34],[30,35,30,36],[30,37,30,38],[33,27,33,28],[33,29,33,30],[33,31,33,32],[33,33,33,34],[33,35,33,36],[33,37,33,38],[36,27,36,28],[36,29,36,30],[36,31,36,32],[36,33,36,34],[36,35,36,36],[36,37,36,38],[216,1,216,46],[217,1,217,46],[218,1,218,8],[35,35,35,36],[35,37,35,38],[35,39,35,40],[35,41,35,42],[29,27,29,28],[29,29,29,30],[29,31,29,32],[29,33,29,34],[29,35,29,36],[29,37,29,38],[29,39,29,40],[29,41,29,42],[29,43,29,44],[29,45,29,46],[28,29,28,30],[28,31,28,32],[28,33,28,34],[28,35,28,36],[28,37,28,38],[28,39,28,40],[28,41,28,42],[28,43,28,44],[28,45,28,46],[21,39,21,40],[21,41,21,42],[21,43,21,44],[21,45,21,46],[23,27,23,28],[23,29,23,30],[23,31,23,32],[23,33,23,34],[23,35,23,36],[23,37,23,38],[23,39,23,40],[23,41,23,42],[23,43,23,44],[23,45,23,46],[27,27,27,28],[27,29,27,30],[27,31,27,32],[27,33,27,34],[27,35,27,36],[27,37,27,38],[27,39,27,40],[27,41,27,42],[27,43,27,44],[27,45,27,46],[25,27,25,28],[25,29,25,30],[25,31,25,32],[24,29,24,30],[24,31,24,32],[24,33,24,34],[24,35,24,36],[24,37,24,38],[24,39,24,40],[24,41,24,42],[24,43,24,44],[24,45,24,46],[26,27,26,28],[26,29,26,30],[26,31,26,32],[26,33,26,34],[26,35,26,36],[26,37,26,38],[26,39,26,40],[26,41,26,42],[26,43,26,44],[26,45,26,46],[25,33,25,34],[25,35,25,36],[25,37,25,38],[25,39,25,40],[25,41,25,42],[25,43,25,44],[25,45,25,46],[24,27,24,28],[19,35,19,36],[19,37,19,38],[19,39,19,40],[19,41,19,42],[19,43,19,44],[19,45,19,46],[20,27,20,28],[20,29,20,30],[20,31,20,32],[20,33,20,34],[20,35,20,36],[20,37,20,38],[20,39,20,40],[20,41,20,42],[20,43,20,44],[20,45,20,46],[22,27,22,28],[22,29,22,30],[22,31,22,32],[22,33,22,34],[22,35,22,36],[22,37,22,38],[22,39,22,40],[22,41,22,42],[22,43,22,44],[22,45,22,46],[21,27,21,28],[21,29,21,30],[21,31,21,32],[21,33,21,34],[21,35,21,36],[21,37,21,38],[18,27,18,28],[18,29,18,30],[18,31,18,32],[18,33,18,34],[18,35,18,36],[18,37,18,38],[18,39,18,40],[18,41,18,42],[18,43,18,44],[18,45,18,46],[17,27,17,28],[17,29,17,30],[17,31,17,32],[17,33,17,34],[17,35,17,36],[17,37,17,38],[17,39,17,40],[17,41,17,42],[17,43,17,44],[17,45,17,46],[15,31,15,32],[15,33,15,34],[15,35,15,36],[15,37,15,38],[15,39,15,40],[15,41,15,42],[15,43,15,44],[15,45,15,46],[14,43,14,46],[14,35,14,42],[14,27,14,34],[16,27,16,28],[16,29,16,30],[16,31,16,32],[16,33,16,34],[16,35,16,36],[16,37,16,38],[16,39,16,40],[16,41,16,42],[16,43,16,44],[16,45,16,46],[267,34,267,37],[267,38,267,40],[267,41,267,46],[251,18,252,23],[254,43,254,46],[262,38,262,41],[248,17,248,31],[249,17,249,31],[260,33,260,37],[254,14,254,17],[257,1,257,46],[258,1,258,46],[259,1,260,8],[259,42,260,46],[253,18,253,23],[254,18,254,23],[256,1,256,46],[254,1,254,7],[254,8,254,13],[254,24,254,30],[254,35,254,37],[253,14,253,17],[251,38,252,42],[253,38,253,42],[254,38,254,42],[253,43,253,46],[251,43,252,46],[263,15,263,23],[263,24,263,28],[263,29,263,32],[263,33,263,37],[262,1,262,8],[218,17,218,27],[218,28,218,35],[218,36,218,46],[214,1,214,8],[214,9,214,16],[214,17,214,27],[214,28,214,35],[214,36,214,46],[215,1,215,8],[247,38,247,46],[248,8,248,16],[247,17,247,29],[247,30,247,37],[226,17,226,27],[226,28,226,35],[231,17,231,27],[248,32,248,37],[231,36,231,46],[232,17,232,27],[232,28,232,35],[230,17,230,27],[230,28,230,35],[230,36,230,46],[231,28,231,35],[227,28,227,35],[227,36,227,46],[228,1,228,46],[229,1,229,46],[223,1,223,46],[224,1,224,16],[224,17,224,27],[230,1,230,8],[107,6,107,20],[254,31,254,34],[250,1,250,46],[232,36,232,46],[249,8,249,16],[248,38,248,46],[107,21,107,28],[255,43,255,46],[249,38,249,46],[249,32,249,37],[234,1,234,46],[235,1,235,46],[236,1,242,46],[245,1,245,46],[246,1,249,7],[246,8,246,16],[246,30,246,37],[247,8,247,16],[246,38,246,46],[219,28,219,35],[219,36,219,46],[220,1,220,8],[220,9,220,16],[220,17,220,27],[220,28,220,35],[220,36,220,46],[246,17,246,29],[233,17,233,27],[233,28,233,35],[233,36,233,46],[226,1,226,16],[218,9,218,16],[224,28,224,35],[224,36,224,46],[225,1,225,16],[225,17,225,27],[226,36,226,46],[227,1,227,16],[227,17,227,27],[225,28,225,35],[225,36,225,46],[221,1,221,8],[221,9,221,16],[221,17,221,27],[221,28,221,35],[221,36,221,46],[222,1,222,46],[219,1,219,8],[219,9,219,16],[219,17,219,27],[207,1,207,46],[192,26,193,46],[107,29,107,34],[107,35,109,40],[107,41,107,46],[40,23,41,28],[40,29,41,35],[40,36,41,42],[39,43,41,46],[39,5,39,42],[16,24,16,26],[38,2,38,46],[44,11,44,16],[44,17,44,22],[44,23,44,28],[24,11,24,16],[204,1,204,7],[204,8,204,32],[204,33,204,38],[204,39,204,46],[205,1,205,46],[206,1,206,46],[108,21,108,28],[184,1,184,46],[187,1,187,34],[187,35,187,36],[187,37,187,38],[182,4,182,19],[202,1,202,7],[202,8,202,23],[202,24,202,32],[107,2,110,5],[13,24,13,46],[13,2,13,23],[6,33,6,35],[9,33,9,35],[6,36,6,41],[9,36,9,41],[12,1,12,7],[12,10,12,11],[12,19,12,20],[17,20,17,23],[18,24,18,26],[14,11,14,16],[17,11,17,13],[19,11,19,13],[18,17,18,19],[18,20,18,23],[18,11,18,16],[19,17,19,19],[17,17,17,19],[14,20,14,23],[16,11,16,16],[14,17,14,19],[15,17,15,19],[15,20,15,23],[16,17,16,19],[19,27,19,28],[19,29,19,30],[19,31,19,32],[19,33,19,34],[16,20,16,23],[15,27,15,28],[15,29,15,30],[262,9,262,14],[262,15,262,23],[262,24,262,28],[262,29,262,32],[262,33,262,37],[261,1,261,8],[261,9,261,14],[261,15,261,23],[260,38,260,41],[255,1,255,7],[255,8,255,13],[255,24,255,30],[255,31,255,34],[255,35,255,37],[255,14,255,17],[261,38,261,41],[259,24,260,28],[259,29,259,41],[255,18,255,23],[259,9,260,14],[259,15,260,23],[255,38,255,42],[274,1,274,46],[28,2,28,4],[28,5,28,10],[45,23,45,28],[45,29,45,35],[45,36,45,42],[268,41,268,46],[269,1,269,7],[269,8,269,13],[190,21,190,22],[269,38,269,40],[269,41,269,46],[266,34,266,37],[266,38,266,40],[268,1,268,7],[268,8,268,13],[268,14,268,19],[268,20,268,23],[268,24,268,33],[268,34,268,37],[268,38,268,40],[263,38,263,41],[263,42,263,46],[264,1,264,46],[265,1,266,7],[265,8,266,13],[265,14,266,19],[265,20,266,23],[265,24,266,33],[265,34,265,40],[263,1,263,8],[263,9,263,14],[273,2,273,45],[252,35,252,37],[253,1,253,7],[253,8,253,13],[253,24,253,30],[253,31,253,34],[253,35,253,37],[251,1,252,7],[251,8,252,13],[251,24,252,30],[262,42,262,46],[260,29,260,32],[265,41,266,46],[261,42,261,46],[251,14,252,17],[251,31,251,37],[252,31,252,34],[261,24,261,28],[261,29,261,32],[261,33,261,37],[267,1,267,7],[267,8,267,13],[267,14,267,19],[267,20,267,23],[267,24,267,33],[270,1,270,46],[271,1,271,46],[272,1,272,46],[269,14,269,19],[269,20,269,23],[269,24,269,33],[269,34,269,37],[215,9,215,16],[215,17,215,27],[215,28,215,35],[215,36,215,46],[212,1,212,46],[213,1,213,8],[213,9,213,16],[213,17,213,27],[213,28,213,35],[213,36,213,46],[210,1,210,8],[210,9,210,16],[210,17,210,27],[210,28,210,35],[210,36,210,46],[211,1,211,46],[208,1,208,8],[208,9,208,16],[208,17,208,27],[208,28,208,35],[208,36,208,46],[209,1,209,8],[209,9,209,16],[209,17,209,27],[209,28,209,35],[209,36,209,46],[202,33,202,46],[203,1,203,7],[203,8,203,32],[203,33,203,38],[203,39,203,46],[195,1,195,46],[199,1,199,46],[200,1,200,46],[201,1,201,7],[201,8,201,23],[201,24,201,32],[201,33,201,46],[196,2,196,45],[194,1,194,10],[194,21,194,22],[194,32,194,33],[168,6,174,7],[168,8,169,11],[168,12,168,19],[168,20,168,23],[168,24,168,29],[189,11,189,19],[189,20,189,27],[189,28,189,34],[190,26,191,46],[192,21,192,22],[192,23,192,24],[188,1,189,4],[192,1,193,19],[189,39,189,40],[185,29,185,30],[185,33,185,39],[185,40,185,45],[186,1,186,46],[190,1,191,19],[190,23,190,24],[187,39,187,40],[182,20,182,28],[182,29,182,34],[182,35,182,40],[189,5,189,10],[189,35,189,38],[188,5,188,10],[182,41,182,46],[188,11,188,19],[188,20,188,27],[188,35,188,46],[183,2,183,46],[180,20,180,28],[180,29,180,34],[180,35,180,40],[180,41,180,46],[181,4,181,19],[181,20,181,28],[181,29,181,34],[181,35,181,40],[181,41,181,46],[178,20,178,28],[178,29,178,34],[178,35,178,40],[178,41,178,46],[179,20,179,28],[179,29,179,34],[179,35,179,40],[179,41,179,46],[170,24,170,29],[172,8,172,19],[176,35,176,40],[176,41,176,46],[177,20,177,28],[177,29,177,34],[177,35,177,40],[177,41,177,46],[174,43,174,46],[172,20,172,23],[175,4,180,19],[175,20,175,28],[175,29,175,34],[175,35,175,40],[175,41,175,46],[176,20,176,28],[176,29,176,34],[174,8,174,19],[174,20,174,23],[174,24,174,29],[174,30,174,34],[174,35,174,39],[172,24,172,29],[172,35,172,39],[171,20,171,23],[171,24,171,29],[171,35,171,39],[171,43,171,46],[170,30,170,34],[170,35,170,39],[168,40,168,42],[168,43,168,46],[169,12,169,19],[169,20,169,23],[169,24,169,29],[169,35,169,39],[169,43,169,46],[169,40,174,42],[168,35,168,39],[170,8,170,19],[170,20,170,23],[162,20,162,23],[162,24,162,29],[162,30,162,34],[162,35,162,39],[162,43,162,46],[163,35,164,39],[163,43,164,46],[161,40,166,42],[163,20,164,23],[163,30,164,34],[172,43,172,46],[173,8,173,19],[173,20,173,23],[173,24,173,29],[173,35,173,39],[173,43,173,46],[170,43,170,46],[171,8,171,19],[167,20,167,23],[167,24,167,29],[167,30,167,34],[167,35,167,39],[167,43,167,46],[165,20,165,23],[165,30,165,34],[165,35,165,39],[165,43,165,46],[166,8,166,13],[166,16,166,18],[166,20,166,23],[166,24,166,29],[166,30,166,34],[161,6,167,7],[161,8,161,19],[161,20,161,23],[161,24,161,29],[161,30,161,34],[161,35,161,39],[161,43,161,46],[162,8,162,13],[162,16,162,18],[160,8,160,19],[160,20,160,23],[160,24,160,29],[160,30,160,34],[160,35,160,39],[160,40,160,42],[156,6,160,7],[166,35,166,39],[166,43,166,46],[165,8,165,14],[165,16,165,18],[167,8,167,19],[158,8,158,19],[158,20,158,23],[158,24,158,29],[158,35,158,39],[158,40,158,42],[158,43,158,46],[156,40,156,42],[156,43,156,46],[157,8,157,19],[157,20,157,23],[165,24,165,29],[155,43,155,46],[156,8,156,19],[156,20,156,23],[156,24,156,29],[156,30,158,34],[156,35,156,39],[155,30,155,34],[153,35,153,39],[153,40,153,42],[153,43,153,46],[154,8,154,19],[154,20,154,23],[154,24,154,29],[154,30,154,34],[154,35,154,39],[154,40,154,42],[160,43,160,46],[159,8,159,19],[159,20,159,23],[159,24,159,29],[153,4,174,5],[153,6,155,7],[153,8,153,19],[153,20,153,23],[153,24,153,29],[153,30,153,34],[155,8,155,19],[155,20,155,23],[155,24,155,29],[152,8,152,19],[152,20,152,23],[152,24,152,29],[152,30,152,34],[152,35,152,39],[152,43,152,46],[150,8,150,19],[150,20,150,23],[150,24,150,29],[150,35,150,39],[150,43,150,46],[151,8,151,19],[151,20,151,23],[151,24,151,29],[151,35,151,39],[151,43,151,46],[157,24,157,29],[157,35,157,39],[157,40,157,42],[157,43,157,46],[154,43,154,46],[155,35,155,39],[155,40,155,42],[148,35,148,39],[148,40,148,42],[148,43,148,46],[149,4,152,7],[149,8,149,19],[149,20,149,23],[149,24,149,29],[149,30,151,34],[149,35,149,39],[149,43,149,46],[146,35,146,40],[146,41,146,46],[147,4,147,19],[147,20,147,28],[147,29,147,34],[147,35,147,40],[147,41,147,46],[149,40,151,42],[144,35,144,46],[145,8,145,19],[145,20,145,28],[145,29,145,34],[145,35,145,40],[145,41,145,46],[143,1,181,1],[143,2,147,3],[143,4,146,7],[143,8,143,11],[144,8,144,19],[144,20,144,28],[146,8,146,19],[146,20,146,28],[148,2,181,3],[148,4,148,19],[139,35,139,40],[139,41,139,46],[142,1,142,3],[142,4,142,19],[142,20,142,46],[111,1,139,1],[111,29,111,34],[111,35,111,40],[112,21,112,28],[137,29,137,34],[137,35,137,40],[137,41,137,46],[138,2,138,19],[138,20,138,28],[138,29,138,34],[138,35,138,40],[129,35,129,40],[129,41,129,46],[130,6,130,19],[130,20,130,28],[130,29,130,34],[130,35,130,40],[130,41,130,46],[138,41,138,46],[137,21,137,28],[137,2,137,20],[135,29,135,34],[135,35,135,40],[135,41,135,46],[136,2,136,19],[136,20,136,28],[136,29,136,34],[136,35,136,40],[136,41,136,46],[135,2,135,20],[133,29,133,34],[133,35,133,40],[133,41,133,46],[134,6,134,19],[134,20,134,28],[134,29,134,34],[134,35,134,40],[134,41,134,46],[133,6,133,19],[133,20,133,28],[128,6,128,19],[128,20,128,28],[128,29,128,34],[128,35,128,40],[128,41,128,46],[123,29,123,34],[123,35,123,40],[123,41,123,46],[125,29,125,34],[125,35,125,40],[125,41,125,46],[126,29,126,34],[126,35,126,40],[120,41,120,46],[121,2,134,5],[121,29,121,34],[121,35,121,40],[121,41,121,46],[122,29,122,34],[122,35,122,40],[122,41,122,46],[131,29,131,34],[131,35,131,40],[131,41,131,46],[132,6,132,19],[132,20,132,28],[132,29,132,34],[132,35,132,40],[132,41,132,46],[131,6,131,19],[131,20,131,28],[129,29,129,34],[126,41,126,46],[127,29,127,34],[118,21,118,28],[119,21,119,28],[118,6,118,20],[119,6,119,20],[120,29,120,34],[120,35,120,40],[120,21,120,28],[116,41,116,46],[117,2,120,5],[117,29,117,34],[117,35,117,40],[117,41,117,46],[118,29,118,34],[118,35,118,40],[118,41,118,46],[119,29,119,34],[119,35,119,40],[127,35,127,40],[127,41,127,46],[124,35,124,40],[124,41,124,46],[113,2,116,5],[113,29,113,34],[113,35,113,40],[113,41,113,46],[114,29,114,34],[114,35,114,40],[115,29,115,34],[115,35,115,40],[115,41,115,46],[90,1,110,1],[124,29,124,34],[112,29,112,34],[112,35,112,40],[116,29,116,34],[109,29,109,34],[106,29,106,34],[106,35,106,40],[104,29,104,34],[116,35,116,40],[111,21,111,28],[111,2,111,20],[110,29,110,34],[110,35,110,40],[110,41,110,46],[111,41,111,46],[119,41,119,46],[109,41,109,46],[109,21,109,28],[109,6,109,20],[97,9,99,11],[97,29,97,34],[97,35,105,40],[100,9,101,11],[100,29,100,34],[104,14,104,20],[103,14,103,20],[98,29,98,34],[102,29,102,34],[108,6,108,20],[95,29,95,34],[114,41,114,46],[114,21,114,28],[115,21,115,28],[112,41,112,46],[112,2,112,20],[102,9,105,11],[102,12,104,13],[105,14,105,20],[106,6,106,20],[106,21,106,28],[90,35,90,40],[90,41,90,46],[91,29,91,34],[91,35,91,40],[91,41,91,46],[103,29,103,34],[97,41,97,46],[97,6,105,8],[106,41,106,46],[95,2,106,5],[95,6,96,11],[110,6,110,20],[110,21,110,28],[108,29,108,34],[108,41,108,46],[102,41,102,46],[103,41,103,46],[105,41,105,46],[104,41,104,46],[105,12,105,13],[105,29,105,34],[98,41,98,46],[99,29,99,34],[99,41,99,46],[100,41,100,46],[101,29,101,34],[101,41,101,46],[90,2,94,5],[90,6,91,11],[90,29,90,34],[92,6,93,11],[92,29,92,34],[95,35,96,40],[94,35,94,40],[96,29,96,34],[94,29,94,34],[89,29,89,34],[89,35,89,40],[89,41,89,46],[96,41,96,46],[95,41,95,46],[94,41,94,46],[92,35,92,40],[92,41,92,46],[93,29,93,34],[93,35,93,40],[93,41,93,46],[87,12,87,20],[87,35,87,40],[88,12,88,20],[85,41,85,46],[86,29,86,34],[86,35,86,40],[86,41,86,46],[85,12,85,20],[86,12,86,20],[85,35,85,40],[87,6,88,11],[85,1,89,1],[85,2,89,5],[85,6,86,11],[85,29,85,34],[87,29,87,34],[97,21,105,28],[97,12,97,20],[98,12,98,20],[99,12,99,20],[100,12,100,20],[101,12,101,20],[102,14,102,20]],"merged_total":1446,"flags":["merged_cut"]}
[]
[null,"■ 소득세법 시행규칙[별지 제37호서식(1)] <개정(안) 2019. 12. 31.>",null,null,null,null,null,null,null,null,null,null,null,null,null,null,null,null,null,null,null,null,null,null,null,null,null,null,null,null,null,null,null,null,null,null,null,null,null,null,null,null,null,null,null,null,"(8쪽 중 제1쪽)"]
[null,"소득ㆍ세액 공제신고서/근로소득자 소득ㆍ세액 공제신고서 ( 2019년 소득에 대한 연말정산용)"]
[null,"※ 근로소득자는 신고서에 소득ㆍ세액 공제 증명서류를 첨부하여 원천징수의무자(소속 회사 등)에게 제출하며, 원천징수의무자는 신고서 및 첨부서류를 확인하여 근로소득 세액계산을 하고 근로소득자에게 즉시 근로소득원천징수영수증을 발급해야 합니다. 연말정산 시 근로소득자에게 환급이 발생하는 경우 원천징수의무자는 근로소득자에게 환급세액을 지급해야 합니다."]
[null,"소득자 성명",null,null,null,null,null,null,{"$f":"기본사항!G7","v":"이영화"},null,null,null,null,null,null,null,null,null,null,null,null,null,null,null,"주민등록번호",null,null,null,null,null,null,null,null,{"$f":"기본사항!G8","v":"123456-1234567"}]
[null,"근무처 명칭",null,null,null,null,null,null,{"$f":"기본사항!G14","v":"(주)조세통람"},null,null,null,null,null,null,null,null,null,null,null,null,null,null,null,"사업자등록번호",null,null,null,null,null,null,null,null,{"$f":"기본사항!G16","v":"203-81-11111"}]
[null,"세대주여부",null,null,null,null,null,null,null,null,null,"세대주",null,null,",",null,null,null,"세대원",null,null,null,null,null,"국적",null,null,null,null,null,null,null,null,"한국",null,null,"( 국적 코드:",null,null,null,null,null,"KR",null,null,")"]
[null,null,null,null,null,null,null,null,true,null,null,null,null,null,null,null,null,null,null,null,null,null,null,false]
[null,"근무기간",null,null,null,null,null,null,20180101,null,null,null,null,null,"~",20181231,null,null,null,null,null,null,null,null,"감면기간",null,null,null,null,null,null,null,null,null,null,null,null,null,null,"~"]
[null,"거주구분",null,null,null,null,null,null,null,null,null,"거주자",null,null,",",null,null,null,"비거주자",null,null,null,null,null,"거주지국",null,null,null,null,null,null,null,null,"한국",null,null,"( 거주지국 코드:",null,null,null,null,null,"KR",null,null,")"]
[null,null,null,null,null,null,null,null,true,null,null,null,null,null,null,null,null,null,null,null,null,null,null,false]
[null,"인적공제 항목변동 여부",null,null,null,null,null,null,null,null,"   전년과동일",null,null,null,",",null,null,null,"변동",null,null,null,null,null,"분납신청 여부",null,null,null,null,null,null,null,null,null,null,null,null,"신청",null,null,",",null,null,null,"미신청"]
[null,"원천징수세액 선택",null,null,null,null,null,null,null,null,1.2,null,null,null,1,null,null,null,null,0.8,null,null,null,null,"※ 근로소득자 본인이 원하는 경우 매월 원천징수하는 세액을 법령상 세액의 120%, 100%, 80% 중 선택할 수 있습니다."]
[null,"Ⅰ.인적공제 및 소득공제명세","인적공제항목",null,null,null,null,null,null,null,null,null,null,null,null,null,null,null,null,null,null,null,null,null,"각종 소득ㆍ세액 공제 항목"]
[null,null,"관계코드",null,null,"성명",null,null,null,null,null,"기본공제",null,null,null,null,null,"경로우대",null,null,"출산입양",null,null,null,"자료\n구분",null,null,"보험료",null,null,null,null,null,null,null,"의료비",null,null,null,null,null,null,null,"교육비"]
[null,null,"내ㆍ외\n국인",null,null,"주민등록번호",null,null,null,null,null,"부녀자",null,null,"한부모",null,null,"장애인",null,null,"6세이하",null,null,null,null,null,null,"건강",null,"고용",null,"보장성",null,"장애인\n전용\n보장성",null,"일반",null,"난임",null,"65세이상\n장애인\n건강보험\n산정특례자",null,"실손의료\n보험금",null,"일반",null,"장애인"]
[null,null,"인적공제 항목에 해당하는",null,null,null,null,null,null,null,null,{"$f":"인적공제!G17","v":5},null,null,null,null,null,{"$f":"인적공제!M17","v":1},null,null,{"$f":"인적공제!I17","v":0},null,null,null,"국세청계",null,null,{"$f":"AB19+AB21+AB23+AB25+AB27+AB29+AB31+AB33+AB35+AB37","v":0},null,{"$f":"AD19+AD21+AD23+AD25+AD27+AD29+AD31+AD33+AD35+AD37","v":0},null,{"$f":"AF19+AF21+AF23+AF25+AF27+AF29+AF31+AF33+AF35+AF37","v":0},null,{"$f":"AH19+AH21+AH23+AH25+AH27+AH29+AH31+AH33+AH35+AH37","v":0},null,{"$f":"AJ19+AJ21+AJ23+AJ25+AJ27+AJ29+AJ31+AJ33+AJ35+AJ37","v":0},null,{"$f":"AL19+AL21+AL23+AL25+AL27+AL29+AL31+AL33+AL35+AL37","v":0},null,{"$f":"AN19+AN21+AN23+AN25+AN27+AN29+AN31+AN33+AN35+AN37","v":0},null,{"$f":"AP19+AP21+AP23+AP25+AP27+AP29+AP31+AP33+AP35+AP37","v":0},null,{"$f":"AR19+AR21+AR23+AR25+AR27+AR29+AR31+AR33+AR35+AR37","v":0},null,{"$f":"AT19+AT21+AT23+AT25+AT27+AT29+AT31+AT33+AT35+AT37","v":0}]
[null,null,"인원수를 기재 (자녀:",null,null,null,null,null,null,3,"명)",{"$f":"IF(O18=\"\",IF(L20=\"\",\"\",1),\"\")","v":""},null,null,{"$f":"IF(O20=\"\",\"\",1)","v":""},null,null,{"$f":"인적공제!K17","v":0},null,null,{"$f":"인적공제!L17","v":1},null,null,null,"기타계",null,null,{"$f":"AB20+AB22+AB24+AB26+AB28+AB30+AB32+AB34+AB36+AB38","v":883200},null,{"$f":"AD20+AD22+AD24+AD26+AD28+AD30+AD32+AD34+AD36+AD38","v":201600},null,{"$f":"AF20+AF22+AF24+AF26+AF28+AF30+AF32+AF34+AF36+AF38","v":0},null,{"$f":"AH20+AH22+AH24+AH26+AH28+AH30+AH32+AH34+AH36+AH38","v":0},null,{"$f":"AJ20+AJ22+AJ24+AJ26+AJ28+AJ30+AJ32+AJ34+AJ36+AJ38","v":0},null,{"$f":"AL20+AL22+AL24+AL26+AL28+AL30+AL32+AL34+AL36+AL38","v":0},null,{"$f":"AN20+AN22+AN24+AN26+AN28+AN30+AN32+AN34+AN36+AN38","v":0},null,{"$f":"AP20+AP22+AP24+AP26+AP28+AP30+AP32+AP34+AP36+AP38","v":0},null,{"$f":"AR20+AR22+AR24+AR26+AR28+AR30+AR32+AR34+AR36+AR38","v":0},null,{"$f":"AT20+AT22+AT24+AT26+AT28+AT30+AT32+AT34+AT36+AT38","v":0}]
[null,null,"0",null,null,{"$f":"I5","v":"이영화"},null,null,null,null,null,"○",null,null,null,null,null,null,null,null,null,null,null,null,"국세청"]
[null,null,1,null,null,"(근로자 본인)",null,null,null,null,null,null,null,null,null,null,null,null,null,null,null,null,null,null,"기타",null,null,{"$f":"급여내역!CB20+급여내역!CD20","v":883200},null,{"$f":"급여내역!CC20","v":201600}]
[null,null,3,null,null,"조세희",null,null,null,null,null,"○",null,null,null,null,null,null,null,null,null,null,null,null,"국세청"]
[null,null,1,null,null,"710415-2031653",null,null,null,null,null,null,null,null,null,null,null,null,null,null,null,null,null,null,"기타"]
[null,null,1,null,null,"편람일",null,null,null,null,null,"○",null,null,null,null,null,"○",null,null,null,null,null,null,"국세청"]
[null,null,1,null,null,"481103-2019015",null,null,null,null,null,null,null,null,null,null,null,null,null,null,null,null,null,null,"기타"]
[null,null,4,null,null,"이대한",null,null,null,null,null,"○",null,null,null,null,null,null,null,null,null,null,null,null,"국세청"]
[null,null,1,null,null,"091206-4059631",null,null,null,null,null,null,null,null,null,null,null,null,null,null,null,null,null,null,"기타"]
[null,null,4,null,null,"이민국",null,null,null,null,null,"○",null,null,null,null,null,null,null,null,null,null,null,null,"국세청"]
[null,null,1,null,null,"151230-3059632",null,null,null,null,null,null,null,null,null,null,null,null,null,null,"○",null,null,null,"기타"]
[null,null,null,null,null,null,null,null,null,null,null,null,null,null,null,null,null,null,null,null,null,null,null,null,"국세청"]
[null,null,null,null,null,null,null,null,null,null,null,null,null,null,null,null,null,null,null,null,null,null,null,null,"기타"]
[null,null,null,null,null,null,null,null,null,null,null,null,null,null,null,null,null,null,null,null,null,null,null,null,"국세청"]
[null,null,null,null,null,null,null,null,null,null,null,null,null,null,null,null,null,null,null,null,null,null,null,null,"기타"]
[null,null,null,null,null,null,null,null,null,null,null,null,null,null,null,null,null,null,null,null,null,null,null,null,"국세청"]
[null,null,null,null,null,null,null,null,null,null,null,null,null,null,null,null,null,null,null,null,null,null,null,null,"기타"]
[null,null,null,null,null,null,null,null,null,null,null,null,null,null,null,null,null,null,null,null,null,null,null,null,"국세청"]
[null,null,null,null,null,null,null,null,null,null,null,null,null,null,null,null,null,null,null,null,null,null,null,null,"기타"]
[null,null,null,null,null,null,null,null,null,null,null,null,null,null,null,null,null,null,null,null,null,null,null,null,"국세청"]
[null,null,null,null,null,null,null,null,null,null,null,null,null,null,null,null,null,null,null,null,null,null,null,null,"기타"]
[null,null,"각종 소득ㆍ세액 공제 항목"]
[null,null,"자료\n구분",null,null,"신용카드등 사용액",null,null,null,null,null,null,null,null,null,null,null,null,null,null,null,null,null,null,null,null,null,null,null,null,null,null,null,null,null,null,null,null,null,null,null,null,null,"기부금"]
[null,null,null,null,null,"신용카드",null,null,null,null,null,"직불카드등",null,null,null,null,null,"현금영수증",null,null,null,null,null,"도서공연등사용분\n(총급여 7천만원 이하자만 기재)",null,null,null,null,null,"전통시장사용분",null,null,null,null,null,null,"대중교통 이용분"]
[]
[null,null,"국세청계",null,null,{"$f":"F45+F47+F49+F51+F53+F55+F57+F59+F61+F63","v":12000000},null,null,null,null,null,{"$f":"L45+L47+L49+L51+L53+L55+L57+L59+L61+L63","v":0},null,null,null,null,null,{"$f":"R45+R47+R49+R51+R53+R55+R57+R59+R61+R63","v":4500000},null,null,null,null,null,{"$f":"X45+X47+X49+X51+X53+X55+X57+X59+X61+X63","v":0},null,null,null,null,null,{"$f":"AD45+AD47+AD49+AD51+AD53+AD55+AD57+AD59+AD61+AD63","v":0},null,null,null,null,null,null,{"$f":"AK45+AK47+AK49+AK51+AK53+AK55+AK57+AK59+AK61+AK63","v":1200000},null,null,null,null,null,null,{"$f":"AR45+AR47+AR49+AR51+AR53+AR55+AR57+AR59+AR61+AR63","v":0}]
[null,null,"기타계",null,null,{"$f":"F46+F48+F50+F52+F54+F56+F58+F60+F62+F64","v":0},null,null,null,null,null,{"$f":"L46+L48+L50+L52+L54+L56+L58+L60+L62+L64","v":0},null,null,null,null,null,null,null,null,null,null,null,{"$f":"X46+X48+X50+X52+X54+X56+X58+X60+X62+X64","v":0},null,null,null,null,null,{"$f":"AD46+AD48+AD50+AD52+AD54+AD56+AD58+AD60+AD62+AD64","v":0},null,null,null,null,null,null,{"$f":"AK46+AK48+AK50+AK52+AK54+AK56+AK58+AK60+AK62+AK64","v":0},null,null,null,null,null,null,{"$f":"AR46+AR48+AR50+AR52+AR54+AR56+AR58+AR60+AR62+AR64","v":0}]
[null,null,"국세청",null,null,12000000,null,null,null,null,null,null,null,null,null,null,null,4500000,null,null,null,null,null,null,null,null,null,null,null,null,null,null,null,null,null,null,1200000]
[null,null,"기타"]
[null,null,"국세청"]
[null,null,"기타"]
[null,null,"국세청"]
[null,null,"기타"]
[null,null,"국세청"]
[null,null,"기타"]
[null,null,"국세청"]
[null,null,"기타"]
[null,null,"국세청"]
[null,null,"기타"]
[null,null,"국세청",null,null,null,null,null,null,null,null,null,null,null,null,null,null,null,null,null,null,null,null,null,null,null,null,null,null,null,null,null,null,null,null,null,null,null,null,null,null,null,null,null,null,null,null,null,null,null,null,null,null,{"$f":"IF(O58=\"\",Z57+Z58,0)","v":0}]
[null,null,"기타"]
[null,null,"국세청",null,null,null,null,null,null,null,null,null,null,null,null,null,null,null,null,null,null,null,null,null,null,null,null,null,null,null,null,null,null,null,null,null,null,null,null,null,null,null,null,null,null,null,null,null,null,null,null,null,null,{"$f":"IF(O60=\"\",Z59+Z60,0)","v":0}]
[null,null,"기타"]
[null,null,"국세청",null,null,null,null,null,null,null,null,null,null,null,null,null,null,null,null,null,null,null,null,null,null,null,null,null,null,null,null,null,null,null,null,null,null,null,null,null,null,null,null,null,null,null,null,null,null,null,null,null,null,{"$f":"IF(O62=\"\",Z61+Z62,0)","v":0}]
[null,null,"기타"]
[null,null,"국세청",null,null,null,null,null,null,null,null,null,null,null,null,null,null,null,null,null,null,null,null,null,null,null,null,null,null,null,null,null,null,null,null,null,null,null,null,null,null,null,null,null,null,null,null,null,null,null,null,null,null,{"$f":"IF(O64=\"\",Z63+Z64,0)","v":0}]
[null,null,"기타"]
[]
[null,"유의사항"]
[null,null,"1. “인적공제 항목 변동 여부”란에는 해당 항목에 “√”표시합니다(인적공제 항목이 전년과 동일한 경우에는 주민등록표등본을 제출하지 않습니다)."]
[null,null,"2. 관계코드"]
[null,null,null,null,null,"구 분",null,null,null,null,null,null,null,"관계코드",null,null,null,"구  분",null,null,null,null,null,null,null,null,null,"관계코드",null,null,null,"구  분",null,null,null,null,null,null,null,null,null,"관계코드"]
[null,null,null,null,null,"소득자 본인\n(「소득세법」 §50①1)",null,null,null,null,null,null,null,"0",null,null,null,"소득자의 직계존속\n(「소득세법」 §50①3가)",null,null,null,null,null,null,null,null,null,1,null,null,null,"배우자의 직계존속\n(「소득세법」 §50①3가)",null,null,null,null,null,null,null,null,null,2]
[null,null,null,null,null,"배우자\n(「소득세법」 §50①2)",null,null,null,null,null,null,null,3,null,null,null,"직계비속(자녀ㆍ입양자)\n(「소득세법」 §50①3나)",null,null,null,null,null,null,null,null,null,4,null,null,null,"직계비속(코드 4 제외)\n(「소득세법」 §50①3나)",null,null,null,null,null,null,null,null,null,"5*"]
[null,null,null,null,null,"형제자매\n(「소득세법」 §50①3다)",null,null,null,null,null,null,null,6,null,null,null,"수급자(코드1~6제외)\n(「소득세법」 §50①3라)",null,null,null,null,null,null,null,null,null,7,null,null,null,"위탁아동\n(「소득세법」 §50①3마)",null,null,null,null,null,null,null,null,null,8]
[null,null,null,null,null,"* 관계코드 5: 해당 직계비속과 그 배우자가 장애인인 경우 그 배우자를 말하며, 관계코드 4~6은 소득자와 배우자의 각각의 관계를 포함합니다."]
[null,null,"3. 연령기준\n  - 경로우대: (    .   .   .)  이전 출생(만 70세 이상: 연 100만원 공제)"]
[null,null,"4. \"부녀자 공제\"란에는 소득자 본인이 여성인 경우로서 다음의 요건을 모두 충족하는 경우에 표시합니다.\n   가. 해당 과세기간의 종합소득과세표준을 계산할 때 합산하는 종합소득금액이 3천만원 이하일 것\n   나. 배우자가 없는 여성으로서 「소득세법」 제50조제1항제3호에 따른 부양가족이 있는 세대주이거나 배우자가 있는 여성일 것"]
[null,null,"5. \"장애인 공제\"란에는 다음의 해당 코드를 적습니다."]
[null,null,null,null,null,"구분",null,null,"「장애인복지법」에 따른 장애인",null,null,null,null,null,null,null,null,null,"「국가유공자 등 예우 및 지원에 관한 법률」에 따른 \n상이자 및 이와 유사한 자로서 근로능력이 없는 자",null,null,null,null,null,null,null,null,null,null,null,null,null,"그 밖에 항시 치료를 요하는 중증환자"]
[null,null,null,null,null,"해당코드",null,null,1,null,null,null,null,null,null,null,null,null,2,null,null,null,null,null,null,null,null,null,null,null,null,null,3]
[]
[null,null,"6. 내ㆍ외국인: 내국인=1, 외국인=9로 구분하여 적습니다. 종교관련종사자가 외국인에 해당하는 경우 국적을 적으며, 국적코드는 거주지국코드를 참조하여 적습니다."]
[null,null,"7. 내ㆍ외국인: 내국인=1, 외국인=9로 구분하여 적습니다. 근로소득자가 외국인에 해당하는 경우 국적을 적으며, 국적코드는 거주지국코드를 참조하여 적습니다."]
[]
[null,null,null,null,null,null,null,null,null,null,null,null,null,null,null,null,null,null,null,null,null,null,null,null,null,null,null,null,null,null,null,null,null,null,null,null,null,null,null,null,null,null,null,null,null,null,"210㎜×297㎜"]
[null,null,null,null,null,null,null,null,null,null,null,null,null,null,null,null,null,null,null,null,null,null,null,null,null,null,null,null,null,null,null,null,null,null,null,null,null,null,null,null,null,null,null,null,null,null,"(8쪽 중 제2쪽)"]
[null,"구분",null,null,null,null,"지출명세",null,null,null,null,null,null,null,null,null,null,null,null,null,null,"지출구분",null,null,null,null,null,null,null,"금액",null,null,null,null,null,"한도액",null,null,null,null,null,"공제액"]
[null,"Ⅱ.연금보험료공제","연금보험료(국민연금,\n공무원연금, 군인연금, 교직원연금 등)",null,null,null,"국민연금보험료",null,null,null,null,null,"종(전)근무지",null,null,null,null,null,null,null,null,"보험료",null,null,null,null,null,null,null,{"$f":"급여내역!CA26+급여내역!CA33+급여내역!CA40","v":0},null,null,null,null,null,"전액",null,null,null,null,null,{"$f":"AD86","v":0}]
[null,null,null,null,null,null,null,null,null,null,null,null,"주(현)근무지",null,null,null,null,null,null,null,null,"보험료",null,null,null,null,null,null,null,{"$f":"급여내역!CA20","v":1134000},null,null,null,null,null,"전액",null,null,null,null,null,{"$f":"AD87","v":1134000}]
[null,null,null,null,null,null,"국민연금보험료 외의 공적연금보험료",null,null,null,null,null,"종(전)근무지",null,null,null,null,null,null,null,null,"보험료",null,null,null,null,null,null,null,300000,null,null,null,null,null,"전액",null,null,null,null,null,{"$f":"AD88","v":300000}]
[null,null,null,null,null,null,null,null,null,null,null,null,"주(현)근무지",null,null,null,null,null,null,null,null,"보험료",null,null,null,null,null,null,null,null,null,null,null,null,null,"전액",null,null,null,null,null,{"$f":"AD89","v":0}]
[null,null,null,null,null,null,"연금보험료 계",null,null,null,null,null,null,null,null,null,null,null,null,null,null,null,null,null,null,null,null,null,null,{"$f":"SUM(AD86:AI89)","v":1434000},null,null,null,null,null,null,null,null,null,null,null,{"$f":"SUM(AP86:AU89)","v":1434000}]
[null,"Ⅲ.특별소득공제","보험료",null,null,null,"국민건강보험(노인장기요양보험포함)",null,null,null,null,null,"종(전)근무지",null,null,null,null,null,null,null,null,"보험료",null,null,null,null,null,null,null,50000,null,null,null,null,null,"전액",null,null,null,null,null,{"$f":"AD91","v":50000}]
[null,null,null,null,null,null,null,null,null,null,null,null,"주(현)근무지",null,null,null,null,null,null,null,null,"보험료",null,null,null,null,null,null,null,{"$f":"급여내역!CB20+급여내역!CD20","v":883200},null,null,null,null,null,"전액",null,null,null,null,null,{"$f":"AD92","v":883200}]
[null,null,null,null,null,null,"고용보험",null,null,null,null,null,"종(전)근무지",null,null,null,null,null,null,null,null,"보험료",null,null,null,null,null,null,null,{"$f":"급여내역!CC26+급여내역!CC33+급여내역!CC40","v":0},null,null,null,null,null,"전액",null,null,null,null,null,{"$f":"AD93","v":0}]
[null,null,null,null,null,null,null,null,null,null,null,null,"주(현)근무지",null,null,null,null,null,null,null,null,"보험료",null,null,null,null,null,null,null,{"$f":"급여내역!CC20","v":201600},null,null,null,null,null,"전액",null,null,null,null,null,{"$f":"AD94","v":201600}]
[null,null,null,null,null,null,"보험료 계",null,null,null,null,null,null,null,null,null,null,null,null,null,null,null,null,null,null,null,null,null,null,{"$f":"SUM(AD91:AI94)","v":1134800},null,null,null,null,null,null,null,null,null,null,null,{"$f":"SUM(AP91:AU94)","v":1134800}]
[null,null,"주택자금",null,null,null,"주택임차차입금",null,null,null,null,null,"대출기관차입",null,null,null,null,null,null,null,null,"원리금 상환액",null,null,null,null,null,null,null,3800000,null,null,null,null,null,"작성방법참조",null,null,null,null,null,{"$f":"ROUNDDOWN(MIN(3000000,AD96*0.4),0)","v":1520000}]
[null,null,null,null,null,null,null,null,null,null,null,null,"거주자 차입",null,null,null,null,null,null,null,null,null,null,null,null,null,null,null,null,null,null,null,null,null,null,null,null,null,null,null,null,{"$f":"ROUNDDOWN(MIN((3000000-AP96),AD97*0.4),0)","v":0}]
[null,null,null,null,null,null,"장기\n주택\n저당\n차입금",null,null,"2011년\n이전\n차입분",null,null,"15년 미만",null,null,null,null,null,null,null,null,"이자 상환액",null,null,null,null,null,null,null,null,null,null,null,null,null,"작성방법참조",null,null,null,null,null,{"$f":"IF(AD98=\"\",0,MIN(AD98,(6000000-AP96-AP97)))","v":0}]
[null,null,null,null,null,null,null,null,null,null,null,null,"15년~29년",null,null,null,null,null,null,null,null,null,null,null,null,null,null,null,null,null,null,null,null,null,null,null,null,null,null,null,null,{"$f":"IF(AD99=\"\",0,MIN(AD99,(10000000-AP96-AP97)))","v":0}]
[null,null,null,null,null,null,null,null,null,null,null,null,"30년 이상",null,null,null,null,null,null,null,null,null,null,null,null,null,null,null,null,null,null,null,null,null,null,null,null,null,null,null,null,{"$f":"IF(AD100=\"\",0,MIN(AD100,(15000000-AP96-AP97)))","v":0}]
[null,null,null,null,null,null,null,null,null,"2012년\n이후\n차입분\n(15년 이상)",null,null,"고정금리이거나,\n 비거치상환 대출",null,null,null,null,null,null,null,null,null,null,null,null,null,null,null,null,null,null,null,null,null,null,null,null,null,null,null,null,{"$f":"IF(AD101=\"\",0,MIN(AD101,(15000000-AP96-AP97)))","v":0}]
[null,null,null,null,null,null,null,null,null,null,null,null,"기타 대출",null,null,null,null,null,null,null,null,null,null,null,null,null,null,null,null,null,null,null,null,null,null,null,null,null,null,null,null,{"$f":"IF(AD102=\"\",0,MIN(AD102,(5000000-AP96-AP97)))","v":0}]
[null,null,null,null,null,null,null,null,null,"2015년\n이후\n차입분",null,null,"15년 이상",null,"고정금리이면서,\n비거치상환 대출",null,null,null,null,null,null,null,null,null,null,null,null,null,null,null,null,null,null,null,null,null,null,null,null,null,null,{"$f":"IF(AD103=\"\",0,MIN(AD103,(18000000-AP96-AP97)))","v":0}]
[null,null,null,null,null,null,null,null,null,null,null,null,null,null,"고정금리이거나,\n비거치상환 대출",null,null,null,null,null,null,null,null,null,null,null,null,null,null,null,null,null,null,null,null,null,null,null,null,null,null,{"$f":"IF(AD104=\"\",0,MIN(AD104,(15000000-AP96-AP97)))","v":0}]
[null,null,null,null,null,null,null,null,null,null,null,null,null,null,"기타 대출",null,null,null,null,null,null,null,null,null,null,null,null,null,null,null,null,null,null,null,null,null,null,null,null,null,null,{"$f":"IF(AD105=\"\",0,MIN(AD105,(5000000-AP96-AP97)))","v":0}]
[null,null,null,null,null,null,null,null,null,null,null,null,"10년~\n15년",null,"고정금리이거나,\n비거치상환 대출",null,null,null,null,null,null,null,null,null,null,null,null,null,null,null,null,null,null,null,null,null,null,null,null,null,null,{"$f":"IF(AD106=\"\",0,MIN(AD106,(3000000-AP96-AP97)))","v":0}]
[null,null,null,null,null,null,"주택자금 공제액 계",null,null,null,null,null,null,null,null,null,null,null,null,null,null,null,null,null,null,null,null,null,null,null,null,null,null,null,null,null,null,null,null,null,null,{"$f":"SUM(AP96:AU106)","v":1520000}]
[null,null,"기부금\n(이월분)",null,null,null,"법정기부금",null,null,null,null,null,null,null,null,null,null,null,null,null,null,"기부금이월액",null,null,null,null,null,null,null,null,null,null,null,null,null,"작성방법참조",null,null,null,null,null,{"$f":"IF(AD108=\"\",0,MIN(AX110,AD108))","v":0}]
[null,null,null,null,null,null,"지정기부금(종교단체 외)",null,null,null,null,null,null,null,null,null,null,null,null,null,null,"기부금이월액",null,null,null,null,null,null,null,null,null,null,null,null,null,null,null,null,null,null,null,{"$f":"IF(AD109=\"\",0,IF(AD110>0,MIN(AD109,(AX110*0.1)+MIN((AX110*0.2),AD109)),MIN(AD109,AX110*0.3)))","v":0},null,null,null,null,null,null,null,"근로소득금액"]
[null,null,null,null,null,null,"지정기부금(종교단체)",null,null,null,null,null,null,null,null,null,null,null,null,null,null,"기부금이월액",null,null,null,null,null,null,null,null,null,null,null,null,null,null,null,null,null,null,null,{"$f":"IF(AD110=\"\",0,MIN(AD110,(AX110*0.1)))","v":0},null,null,null,null,null,null,null,{"$f":"영수증!Q65","v":16170000}]
[null,null,null,null,null,null,"기부금이월분(합계)",null,null,null,null,null,null,null,null,null,null,null,null,null,null,null,null,null,null,null,null,null,null,{"$f":"SUM(AD109:AI110)","v":0},null,null,null,null,null,null,null,null,null,null,null,{"$f":"SUM(AP109:AU110)","v":0}]
[null,"Ⅳ.그밖의소득공제","개인연금저축(2000년 이전가입)",null,null,null,null,null,null,null,null,null,null,null,null,null,null,null,null,null,null,"납입금액",null,null,null,null,null,null,null,null,null,null,null,null,null,"납입액 40%와\n72만원",null,null,null,null,null,{"$f":"ROUNDDOWN(IF(AD112=\"\",0,MIN(AD112*0.4,720000)),0)","v":0},null,null,null,null,null,null,null,"총급여액"]
[null,null,"소기업ㆍ소상공인 공제부금",null,null,null,null,null,null,null,null,null,null,null,null,null,null,null,null,null,null,"납입금액",null,null,null,null,null,null,null,null,null,null,null,null,null,"작성방법참조",null,null,null,null,null,{"$f":"IF(AD113=\"\",0,IF(AX113>100000000,MIN(AD113,2000000),IF(AX113>40000000,MIN(AD113,3000000),MIN(AD113,5000000))))","v":0},null,null,null,null,null,null,null,{"$f":"영수증!Q63","v":25200000}]
[null,null,"주택마련저축 ",null,null,null,"청약저축",null,null,null,null,null,null,null,null,null,null,null,null,null,null,"납입금액",null,null,null,null,null,null,null,null,null,null,null,null,null,"작성방법참조",null,null,null,null,null,{"$f":"ROUNDDOWN(IF(AD114=\"\",0,MIN(MIN(AD114,2400000)*0.4,MAX((AX114-AP96-AP97-SUM(AP98:AU106)),0))),0)","v":0},null,null,null,null,null,null,null,{"$f":"IF(AP98>0,6000000,IF(AP99>0,10000000,IF(AP100>0,15000000,IF(AP101>0,15000000,IF(AP102>0,5000000,3000000)))))","v":3000000}]
[null,null,null,null,null,null,"근로자주택마련저축",null,null,null,null,null,null,null,null,null,null,null,null,null,null,"납입금액",null,null,null,null,null,null,null,null,null,null,null,null,null,"작성방법참조",null,null,null,null,null,{"$f":"ROUNDDOWN(IF(AD115=\"\",0,MIN(MIN(AD115,1800000)*0.4,MAX((AX114-AP96-AP97-AP114-SUM(AP98:AU106)),0))),0)","v":0}]
[null,null,null,null,null,null,"주택청약종합저축",null,null,null,null,null,null,null,null,null,null,null,null,null,null,"납입금액",null,null,null,null,null,null,null,null,null,null,null,null,null,"작성방법참조",null,null,null,null,null,{"$f":"ROUNDDOWN(IF(AD116=\"\",0,MIN(MIN(AD116,2400000)*0.4,MAX((AX114-AP96-AP97-AP114-AP115-SUM(AP98:AU106)),0))),0)","v":0}]
[null,null,null,null,null,null,"주택마련저축 소득공제 계",null,null,null,null,null,null,null,null,null,null,null,null,null,null,null,null,null,null,null,null,null,null,{"$f":"SUM(AD114:AI116)","v":0},null,null,null,null,null,null,null,null,null,null,null,{"$f":"SUM(AP114:AU116)","v":0}]
[null,null,"투자조합\n출자 등",null,null,null,"2017년 출자ㆍ투자분",null,null,null,null,null,null,null,null,null,null,null,null,null,null,"출자ㆍ투자금액",null,null,null,null,null,null,null,null,null,null,null,null,null,0.1,null,null,null,null,null,{"$f":"MIN(ROUNDDOWN(IF(AD118=\"\",0,AD118*AJ118),0),영수증!Q65*0.5)","v":0}]
[null,null,null,null,null,null,"2018년 출자ㆍ투자분",null,null,null,null,null,null,null,null,null,null,null,null,null,null,"출자ㆍ투자금액",null,null,null,null,null,null,null,null,null,null,null,null,null,0.1,null,null,null,null,null,{"$f":"MIN(ROUNDDOWN(IF(AD119=\"\",0,AD119*AJ119),0),영수증!Q65*0.5)","v":0}]
[null,null,null,null,null,null,"2019년 출자ㆍ투자분",null,null,null,null,null,null,null,null,null,null,null,null,null,null,"출자ㆍ투자금액",null,null,null,null,null,null,null,null,null,null,null,null,null,0.1,null,null,null,null,null,{"$f":"MIN(ROUNDDOWN(IF(AD120=\"\",0,AD120*AJ120),0),영수증!Q65*0.5)","v":0}]
[null,null,null,null,null,null,"투자조합 출자 등 소득공제 계",null,null,null,null,null,null,null,null,null,null,null,null,null,null,null,null,null,null,null,null,null,null,{"$f":"SUM(AD118:AI120)","v":0},null,null,null,null,null,null,null,null,null,null,null,{"$f":"SUM(AP118:AP120)","v":0}]
[null,null,"신용카드등사용액",null,null,null,"①신용카드",null,null,null,null,null,null,null,null,null,null,null,null,null,null,"사용금액",null,null,null,null,null,null,null,{"$f":"F43+F44","v":12000000}]
[null,null,null,null,null,null,"②직불·선불카드",null,null,null,null,null,null,null,null,null,null,null,null,null,null,"사용금액",null,null,null,null,null,null,null,{"$f":"L43","v":0}]
[null,null,null,null,null,null,"③현금영수증",null,null,null,null,null,null,null,null,null,null,null,null,null,null,"사용금액",null,null,null,null,null,null,null,{"$f":"R43+R44","v":4500000}]
[null,null,null,null,null,null,"④도서·공연사용분(총급여 7천만원 이하자)",null,null,null,null,null,null,null,null,null,null,null,null,null,null,"사용금액",null,null,null,null,null,null,null,{"$f":"X43+X44","v":0}]
[null,null,null,null,null,null,"⑤전통시장사용분",null,null,null,null,null,null,null,null,null,null,null,null,null,null,"사용금액",null,null,null,null,null,null,null,{"$f":"AD43+AD44","v":0}]
[null,null,null,null,null,null,"⑥대중교통이용분",null,null,null,null,null,null,null,null,null,null,null,null,null,null,"사용금액",null,null,null,null,null,null,null,{"$f":"AK43+AK44","v":1200000}]
[null,null,null,null,null,null,"계(①+②+③+④+⑤+⑥)",null,null,null,null,null,null,null,null,null,null,null,null,null,null,null,null,null,null,null,null,null,null,{"$f":"SUM(AD122:AI127)","v":17700000},null,null,null,null,null,null,null,null,null,null,null,{"$f":"신용카드!AP24","v":2685000}]
[null,null,null,null,null,null,"⑥ 본인 신용카드 등 사용액(2014년)",null,null,null,null,null,null,null,null,null,null,null,null,null,"사용금액"]
[null,null,null,null,null,null,"⑦ 본인 신용카드 등 사용액(2015년)",null,null,null,null,null,null,null,null,null,null,null,null,null,"사용금액"]
[null,null,null,null,null,null,"⑧ 본인 추가공제율 사용분(2014년)",null,null,null,null,null,null,null,null,null,null,null,null,null,"사용금액"]
[null,null,null,null,null,null,"⑨ 본인 추가공제율 사용분(2016년 상반기)",null,null,null,null,null,null,null,null,null,null,null,null,null,"사용금액"]
[null,null,null,null,null,null,"⑩ 본인 신용카드 등 사용액(2016년)",null,null,null,null,null,null,null,null,null,null,null,null,null,"사용금액"]
[null,null,null,null,null,null,"⑪ 본인 추가공제율 사용분(2015년)",null,null,null,null,null,null,null,null,null,null,null,null,null,"사용금액"]
[null,null,null,null,null,null,"⑫ 본인 추가공제율 사용분\n(2016년 하반기 또는 2017년 상반기)",null,null,null,null,null,null,null,null,null,null,null,null,null,"사용금액"]
[null,null,"우리사주조합 출연금",null,null,null,null,null,null,null,null,null,null,null,null,null,null,null,null,null,null,"출연금액",null,null,null,null,null,null,null,null,null,null,null,null,null,"작성방법참조",null,null,null,null,null,{"$f":"IF(AD136=\"\",0,MIN(AD136,4000000))","v":0}]
[null,null,"우리사주조합 기부금",null,null,null,null,null,null,null,null,null,null,null,null,null,null,null,null,null,"기부금액",null,null,null,null,null,null,null,null,null,null,null,null,null,null,"작성방법참조"]
[null,null,"고용유지중소기업 근로자",null,null,null,null,null,null,null,null,null,null,null,null,null,null,null,null,null,null,"임금삭감액",null,null,null,null,null,null,null,null,null,null,null,null,null,"작성방법참조",null,null,null,null,null,{"$f":"ROUNDDOWN(IF(AD138=\"\",0,MIN(AD138*0.5,10000000)),0)","v":0}]
[null,null,"목돈 안드는 전세이자 상환액",null,null,null,null,null,null,null,null,null,null,null,null,null,null,null,null,null,"이자상환액",null,null,null,null,null,null,null,null,null,null,null,null,null,null,"작성방법참조",null,null,null,null,null,{"$f":"ROUNDDOWN(IF(AD139=\"\",0,MIN(AD139*0.4,3000000)),0)","v":0}]
[null,null,"장기집합투자증권저축",null,null,null,null,null,null,null,null,null,null,null,null,null,null,null,null,null,null,"납입금액",null,null,null,null,null,null,null,null,null,null,null,null,null,"작성방법참조",null,null,null,null,null,{"$f":"ROUNDDOWN(IF(AD140=\"\",0,MIN(AD140*0.4,2400000)),0)","v":0}]
[null,null,null,null,null,null,null,null,null,null,null,null,null,null,null,null,null,null,null,null,null,null,null,null,null,null,null,null,null,null,null,null,null,null,null,null,null,null,null,null,null,null,null,null,null,null,"210㎜×297㎜"]
[null,null,null,null,null,null,null,null,null,null,null,null,null,null,null,null,null,null,null,null,null,null,null,null,null,null,null,null,null,null,null,null,null,null,null,null,null,null,null,null,null,null,null,null,null,null,"(8쪽 중 제3쪽)"]
[null,"구분",null,null,"세액감면․공제명세",null,null,null,null,null,null,null,null,null,null,null,null,null,null,null,"세액감면․공제 명세"]
[null,"Ⅴ.세액감면및공제","세액감면",null,"외국인\n근로자",null,null,null,"입국목적",null,null,null,null,null,null,"정부간 협약       기술도입계약       「조세특례제한법」상 감면             조세조약 상 감면"]
[null,null,null,null,null,null,null,null,"기술도입계약 또는 근로제공일",null,null,null,null,null,null,null,null,null,null,null,null,null,null,null,null,null,null,null,null,"감면기간만료일"]
[null,null,null,null,null,null,null,null,"외국인 근로소득에 대한 감면",null,null,null,null,null,null,null,null,null,null,null,"접수일",null,null,null,null,null,null,null,null,null,null,null,null,null,null,"제출일"]
[null,null,null,null,null,null,null,null,"근로소득에 대한 조세조약 상 면제",null,null,null,null,null,null,null,null,null,null,null,"접수일",null,null,null,null,null,null,null,null,null,null,null,null,null,null,"제출일"]
[null,null,null,null,"중소기업 취업자 감면",null,null,null,null,null,null,null,null,null,null,null,null,null,null,null,"취업일",null,null,null,null,null,null,null,null,null,null,null,null,null,null,"감면기간종료일"]
[null,null,"세액공제",null,"공제종류",null,null,null,null,null,null,null,null,null,null,null,null,null,null,null,"명세",null,null,null,null,null,null,null,null,null,"한도액",null,null,null,null,"공제대상금액",null,null,null,null,"공제율",null,null,"공제세액"]
[null,null,null,null,"연금계좌",null,null,null,"과학기술인공제",null,null,null,null,null,null,null,null,null,null,null,"납입금액",null,null,null,null,null,null,null,null,null,"작성방법참조",null,null,null,null,{"$f":"IF(Y150=\"\",0,MIN(Y150,7000000))","v":0},null,null,null,null,"12%\n또는\n15%",null,null,{"$f":"영수증!AL76","v":0}]
[null,null,null,null,null,null,null,null,"「근로자퇴직급여 보장법」에 따른\n퇴직연금",null,null,null,null,null,null,null,null,null,null,null,"납입금액",null,null,null,null,null,null,null,null,null,null,null,null,null,null,{"$f":"IF(Y151=\"\",0,MIN(Y151,7000000-AJ150))","v":0},null,null,null,null,null,null,null,{"$f":"영수증!AL78","v":0}]
[null,null,null,null,null,null,null,null,"연금저축",null,null,null,null,null,null,null,null,null,null,null,"납입금액",null,null,null,null,null,null,null,null,null,null,null,null,null,null,{"$f":"IF(Y152=\"\",0,MIN(MIN(IF((7000000-AJ150-AJ151)<0,0,(7000000-AJ150-AJ151)),Y152),IF(AX152>120000000,3000000,4000000)))","v":0},null,null,null,null,null,null,null,{"$f":"영수증!AL80","v":0},null,null,null,null,null,{"$f":"영수증!Q63","v":25200000}]
[null,null,null,null,null,null,null,null,"연금계좌 계",null,null,null,null,null,null,null,null,null,null,null,null,null,null,null,{"$f":"SUM(Y150:AD152)","v":0},null,null,null,null,null,null,null,null,null,null,{"$f":"SUM(AJ150:AN152)","v":0},null,null,null,null,null,null,null,{"$f":"SUM(AR150:AU152)","v":0}]
[null,null,null,null,"특별세액공제",null,"보\n험\n료",null,"보장성",null,null,null,null,null,null,null,null,null,null,null,"보험료",null,null,null,null,null,null,null,null,null,"100만원",null,null,null,null,{"$f":"IF(Y154=\"\",0,MIN(Y154,1000000))","v":0},null,null,null,null,0.12,null,null,{"$f":"ROUNDDOWN(AJ154*0.12,0)","v":0},null,null,null,null,null,"총급여3%",{"$f":"ROUNDDOWN(영수증!Q63*0.03,0)","v":756000}]
[null,null,null,null,null,null,null,null,"장애인전용보장성",null,null,null,null,null,null,null,null,null,null,null,"보험료",null,null,null,null,null,null,null,null,null,"100만원",null,null,null,null,{"$f":"IF(Y155=\"\",0,MIN(Y155,1000000))","v":0},null,null,null,null,0.15,null,null,{"$f":"ROUNDDOWN(AJ155*0.15,0)","v":0},null,null,null,null,null,"3%초과의료비",{"$f":"(AJ161-AY154)","v":-756000}]
[null,null,null,null,null,null,null,null,"보험료 계",null,null,null,null,null,null,null,null,null,null,null,null,null,null,null,{"$f":"SUM(Y154:AD155)","v":0},null,null,null,null,null,null,null,null,null,null,{"$f":"SUM(AJ154:AN155)","v":0},null,null,null,null,null,null,null,{"$f":"SUM(AR154:AU155)","v":0},null,null,null,null,null,"한도액",7000000]
[null,null,null,null,null,null,"의\n료\n비",null,"본인ㆍ65세이상자ㆍ장애인\nㆍ건강보험산정특례자 ",null,null,null,null,null,null,null,null,null,null,null,"지출액",null,null,null,0,null,null,null,null,null,"작성방법참조",null,null,null,null,{"$f":"MAX(IF(AX159<0,Y157+AX159,Y157),0)","v":0},null,null,null,null,0.15,null,null,{"$f":"AJ157*AO157","v":0}]
[null,null,null,null,null,null,null,null,"난임시술비",null,null,null,null,null,null,null,null,null,null,null,"지출액",null,null,null,0,null,null,null,null,null,null,null,null,null,null,{"$f":"MAX(IF(AX161<0,Y158+AX161,Y158),0)","v":0},null,null,null,null,0.2,null,null,{"$f":"AJ158*AO158","v":0}]
[null,null,null,null,null,null,null,null,"그 밖의 공제대상자",null,null,null,null,null,null,null,null,null,null,null,"지출액",null,null,null,0,null,null,null,null,null,null,null,null,null,null,{"$f":"IF(Y159=\"\",0,MIN(MAX(Y159-AY154,0),7000000))","v":0},null,null,null,null,0.15,null,null,{"$f":"AJ159*AO159","v":0},null,null,null,null,null,{"$f":"IF(Y159=\"\",0,MIN((Y159-ROUNDDOWN(영수증!Q63*0.03,0)),7000000))","v":-756000}]
[null,null,null,null,null,null,null,null,"실손의료보험금 계",null,null,null,null,null,null,null,null,null,null,null,"수령액"]
[null,null,null,null,null,null,null,null,"의료비계",null,null,null,null,null,null,null,null,null,null,null,null,null,null,null,{"$f":"SUM(Y157:AD160)","v":0},null,null,null,null,null,null,null,null,null,null,{"$f":"MAX(SUM(AJ157:AN159),0)","v":0},null,null,null,null,null,null,null,{"$f":"SUM(AR157:AU159)","v":0},null,null,null,null,null,{"$f":"IF(AX159<0,Y157+AX159,Y158)","v":-756000}]
[null,null,null,null,null,null,"교\n육\n비",null,"소득자 본인",null,null,null,null,null,null,null,null,null,null,null,"공납금\n(대학원 포함)",null,null,null,null,null,null,null,null,null,"전액",null,null,null,null,{"$f":"Y162","v":0},null,null,null,null,0.15,null,null,{"$f":"ROUNDDOWN(AJ162*0.15,0)","v":0}]
[null,null,null,null,null,null,null,null,"취학전 아동",null,null,null,null,null,null,"(",null,null,null,"명)","유치원,\n학원비 등",null,null,null,null,null,null,null,null,null,"1명당 300만원",null,null,null,null,{"$f":"IF(Y163=\"\",0,MIN(Y163,3000000*Q163))","v":0},null,null,null,null,null,null,null,{"$f":"ROUNDDOWN(IF(Y163=\"\",0,AJ163*0.15),0)","v":0}]
[null,null,null,null,null,null,null,null,"초ㆍ중ㆍ고등학교",null,null,null,null,null,null,"(",null,null,null,"명)","공납금",null,null,null,null,null,null,null,null,null,"1명당 300만원",null,null,null,null,{"$f":"IF(Y164=\"\",0,MIN(Y164,3000000*Q164))","v":0},null,null,null,null,null,null,null,{"$f":"ROUNDDOWN(IF(Y164=\"\",0,AJ164*0.15),0)","v":0}]
[]
[null,null,null,null,null,null,null,null,"대학생(대학원 불포함)",null,null,null,null,null,null,"(",null,null,null,"명)","공납금",null,null,null,null,null,null,null,null,null,"1명당 900만원",null,null,null,null,{"$f":"IF(Y166=\"\",0,MIN(Y166,9000000*Q166))","v":0},null,null,null,null,null,null,null,{"$f":"ROUNDDOWN(IF(Y166=\"\",0,AJ166*0.15),0)","v":0}]
[null,null,null,null,null,null,null,null,"장애인",null,null,null,null,null,null,"(",null,null,null,"명)","특수교육비",null,null,null,null,null,null,null,null,null,"전액",null,null,null,null,{"$f":"Y167","v":0},null,null,null,null,null,null,null,{"$f":"ROUNDDOWN(IF(Y167=\"\",0,AJ167*0.15),0)","v":0}]
[null,null,null,null,null,null,null,null,"교육비 계",null,null,null,null,null,null,null,null,null,null,null,null,null,null,null,{"$f":"SUM(Y162:AD167)","v":0},null,null,null,null,null,null,null,null,null,null,{"$f":"SUM(AJ162:AN167)","v":0},null,null,null,null,null,null,null,{"$f":"SUM(AR162:AU167)","v":0}]
[null,null,null,null,null,null,"기\n부\n금",null,"정치자금\n기부금",null,null,null,"10만원 이하",null,null,null,null,null,null,null,"기부금액",null,null,null,null,null,null,null,null,null,null,null,null,null,null,{"$f":"Y169","v":0},null,null,null,null,"100/110",null,null,{"$f":"ROUNDDOWN(IF(AJ169=\"\",0,(AJ169*100/110)),0)","v":0}]
[null,null,null,null,null,null,null,null,null,null,null,null,"10만원 초과",null,null,null,null,null,null,null,"기부금액",null,null,null,null,null,null,null,null,null,null,null,null,null,null,{"$f":"IF(Y170=\"\",0,MIN(Y170,영수증!Q65-AP111))","v":0},null,null,null,null,"15% 또는\n25% 또는\n30%",null,null,{"$f":"ROUNDDOWN(IF(AJ170<=29900000,(AJ170*0.15),(AJ170-29900000)*0.25+4485000),0)","v":0}]
[null,null,null,null,null,null,null,null,"법정기부금",null,null,null,null,null,null,null,null,null,null,null,"기부금액",null,null,null,null,null,null,null,null,null,"작성방법참조",null,null,null,null,{"$f":"IF(Y171=\"\",0,MIN(Y171,(영수증!Q65-AJ169-AJ170-AP108)))","v":0},null,null,null,null,null,null,null,{"$f":"ROUNDDOWN(IF(AJ171<=20000000,(AJ171*0.15),(AJ171-20000000)*0.3+3000000),0)","v":0}]
[null,null,null,null,null,null,null,null,"우리사주조합기부금",null,null,null,null,null,null,null,null,null,null,null,"기부금액",null,null,null,0,null,null,null,null,null,null,null,null,null,null,{"$f":"IF(Y172=\"\",0,MIN(Y172,(영수증!Q65-AJ169-AJ170-AJ171)*0.3))","v":0},null,null,null,null,null,null,null,{"$f":"ROUNDDOWN(IF(AJ172<=20000000,(AJ172*0.15),(AJ172-20000000)*0.3+3000000),0)","v":0}]
[null,null,null,null,null,null,null,null,"지정기부금(종교단체외)",null,null,null,null,null,null,null,null,null,null,null,"기부금액",null,null,null,0,null,null,null,null,null,null,null,null,null,{"$f":"(영수증!Q65-AJ169-AJ170-AJ171-AJ172-AP111)","v":16170000},{"$f":"IF(Y173=\"\",0,IF(Y174>0,MIN(Y173,(AI173*0.1)+MIN((AI173*0.2),Y173)),MIN(Y173,AI173*0.3)))","v":0},null,null,null,null,null,null,null,{"$f":"ROUNDDOWN(IF(AJ173<=20000000,(AJ173*0.15),(AJ173-20000000)*0.3+3000000),0)","v":0}]
[null,null,null,null,null,null,null,null,"지정기부금(종교단체)",null,null,null,null,null,null,null,null,null,null,null,"기부금액",null,null,null,null,null,null,null,null,null,null,null,null,null,null,{"$f":"IF(Y174=\"\",0,MIN(Y174,(AJ172*0.1)))","v":0},null,null,null,null,null,null,null,{"$f":"ROUNDDOWN(IF(AJ174<=20000000,(AJ174*0.15),(AJ174-20000000)*0.3+3000000),0)","v":0}]
[null,null,null,null,null,null,null,null,"기부금 계",null,null,null,null,null,null,null,null,null,null,null,null,null,null,null,{"$f":"SUM(Y169:AD174)","v":0},null,null,null,null,null,null,null,null,null,null,{"$f":"SUM(AJ169:AN174)","v":0},null,null,null,null,null,null,null,{"$f":"SUM(AR169:AU174)","v":0}]
[null,null,null,null,"외국납부세액",null,null,null,null,null,null,null,null,null,null,null,null,null,null,null,"국외원천소득",null,null,null,null,null,null,null,null,null,null,null,null,null,null,"국외근로소득금액",null,null,null,null,null,{"$f":"IF(AD176=0,0,ROUNDDOWN(AD176-(영수증!Q64*(AD176/영수증!Q63)),0))","v":0}]
[null,null,null,null,null,null,null,null,null,null,null,null,null,null,null,null,null,null,null,null,"납세액(외화)"]
[null,null,null,null,null,null,null,null,null,null,null,null,null,null,null,null,null,null,null,null,"납세액(원화)",null,null,null,null,null,null,null,null,null,null,null,null,null,null,"-"]
[null,null,null,null,null,null,null,null,null,null,null,null,null,null,null,null,null,null,null,null,"납세국명",null,null,null,null,null,null,null,null,null,null,null,null,null,null,"납부일"]
[null,null,null,null,null,null,null,null,null,null,null,null,null,null,null,null,null,null,null,null,"신청서제출일",null,null,null,null,null,null,null,null,null,null,null,null,null,null,"국외근무처"]
[null,null,null,null,null,null,null,null,null,null,null,null,null,null,null,null,null,null,null,null,"근무기간",null,null,null,null,null,null,null,null,null,null,null,null,null,null,"직책"]
[null,null,null,null,"주택자금차입금이자세액공제",null,null,null,null,null,null,null,null,null,null,null,null,null,null,null,"이자상환액",null,null,null,null,null,null,null,null,null,null,null,null,null,null,0.3,null,null,null,null,null,{"$f":"ROUNDDOWN(AD182*0.3,0)","v":0}]
[null,null,null,null,"월세액 세액공제",null,null,null,null,null,null,null,null,null,null,null,null,null,null,null,"지출액",null,null,null,null,null,null,null,null,0,null,null,null,null,null,"10% 또는 12%",null,null,null,null,null,{"$f":"ROUNDDOWN(MIN(AD183,7500000)*IF(영수증!Q63<=55000000,0.12,IF(영수증!Q63<=70000000,0.1,0)),0)","v":0}]
[null,null,"신고인은「소득세법」제140조에 따라 위의 내용을 신고하며, 위 내용을 충분히 검토하였고 신고인이 알고 있는 사실 그대로를 정확하게 적었음을 확인합니다."]
[null,"2020년        월         일"]
[null,null,null,null,null,null,null,null,null,null,null,null,null,null,null,null,null,null,null,null,null,null,null,null,null,null,null,null,null,"신고인",null,null,null,{"$f":"I5","v":"이영화"},null,null,null,null,null,null,"(서명 또는 인)"]
[null,"Ⅵ. 추가 제출 서류"]
[null,"1. 외국인근로자 단일세율적용신청서 제출여부(○ 또는 ×로 적습니다)",null,null,null,null,null,null,null,null,null,null,null,null,null,null,null,null,null,null,null,null,null,null,null,null,null,null,null,null,null,null,null,null,null,null,null,"제출(",null,null,null,")"]
[null,"2.종(전)\n근무지명세",null,null,null,"종(전)근무지명",null,null,null,null,null,null,null,null,null,null,null,null,null,null,"종(전)급여총액",null,null,null,null,null,null,null,null,null,null,null,null,null,null,"종(전)근무지 근로소득원천징수영수증"]
[null,null,null,null,null,"사업자등록번호",null,null,null,null,null,null,null,null,null,null,null,null,null,null,"종(전)결정세액",null,null,null,null,null,null,null,null,null,null,null,null,null,null,"       제출(",null,null,null,null,null,")"]
[null,"3. 연금.저축 등 소득․세액공제 명세서 제출여부\n   (○ 또는 ×로 적습니다)",null,null,null,null,null,null,null,null,null,null,null,null,null,null,null,null,null,null,null,"제출(",null,null,null,")","※ 연금계좌, 주택마련저축 등 소득·세액공제를 신청한 경우 해당 명세서를 제출하여야 합니다."]
[]
[null,"4. 월세액․거주자 간 주택임차차입금 원리금상환액\n   소득공제 명세서 제출여부 (○ 또는 ×로 적습니다)",null,null,null,null,null,null,null,null,null,null,null,null,null,null,null,null,null,null,null,"제출(",null,null,null,")","※ 월세액, 거주자 간 주택임차차입금 원리금상환액 소득·세액공제를 신청한 경우 해당 명세서를 제출해야 합니다."]
[]
[null,"5. 그 밖의 추가 제출 서류",null,null,null,null,null,null,null,null,null,null,null,null,"① 의료비지급명세서",null,null,null,null,null,"(",null,null,")",",","② 기부금명세서",null,null,null,null,null,"(",null,null,")",",","③ 소득.세액공제 증명서류"]
[null,"유 의 사 항"]
[null,null,"1. 근로소득자가 종(전)근무지 근로소득을 원천징수의무자에게 신고하지 않은 경우에는 근로소득자 본인이 종합소득세 신고를 해야 하며, 신고하지 않은 경우 가산세 부과 등 불이익이 따릅니다.\n2. 현 근무지의 연금보험료ㆍ국민건강보험료 및 고용보험료 등은 신고인이 기재하지 않아도 됩니다.\n3. \"공제금액\"란은 근로소득자가 원천징수의무자에게 제출하는 경우 적지 않을 수 있습니다."]
[null,null,null,null,null,null,null,null,null,null,null,null,null,null,null,null,null,null,null,null,null,null,null,null,null,null,null,null,null,null,null,null,null,null,null,null,null,null,null,null,null,null,null,null,null,null,"210㎜×297㎜"]
[null,null,null,null,null,null,null,null,null,null,null,null,null,null,null,null,null,null,null,null,null,null,null,null,null,null,null,null,null,null,null,null,null,null,null,null,null,null,null,null,null,null,null,null,null,null,"(8쪽 중 제7쪽)"]
[null,"연금․저축 등 소득․세액 공제명세서"]
[null,"1.인적사항"]
[null,"①상      호",null,null,null,null,null,null,{"$f":"기본사항!G14","v":"(주)조세통람"},null,null,null,null,null,null,null,null,null,null,null,null,null,null,null,"②사 업 자 등 록 번 호",null,null,null,null,null,null,null,null,{"$f":"기본사항!G16","v":"203-81-11111"}]
[null,"③성      명",null,null,null,null,null,null,{"$f":"기본사항!G7","v":"이영화"},null,null,null,null,null,null,null,null,null,null,null,null,null,null,null,"④주 민 등 록 번 호",null,null,null,null,null,null,null,null,{"$f":"기본사항!G8","v":"123456-1234567"}]
[null,"⑤주      소",null,null,null,null,null,null,{"$f":"기본사항!G9","v":"서울 중구 다산로11길 25"},null,null,null,null,null,null,null,null,null,null,null,null,null,null,null,null,null,null,null,null,null,null,null,null,"(전화번호:",null,null,null,null,null,")"]
[null,"⑥사업장소재지",null,null,null,null,null,null,{"$f":"기본사항!G18","v":"서울 중구 동호로14길 5-6"},null,null,null,null,null,null,null,null,null,null,null,null,null,null,null,null,null,null,null,null,null,null,null,null,"(전화번호:",null,null,null,null,null,")"]
[null,"2. 연금계좌 세액공제"]
[null," 1) 퇴직연금계좌"]
[null,"  * 퇴직연금계좌에 대한 명세를 작성합니다."]
[null,"퇴직연금 구분",null,null,null,null,null,null,null,"금융회사 등",null,null,null,null,null,null,null,"계좌번호(또는 증권번호)",null,null,null,null,null,null,null,null,null,null,"납입금액",null,null,null,null,null,null,null,"세액공제금액"]
[]
[]
[null,"  2) 연금저축계좌"]
[null,"  * 연금저축계좌에 대한 명세를 작성합니다."]
[null,"연금저축 구분",null,null,null,null,null,null,null,"금융회사 등",null,null,null,null,null,null,null,"계좌번호(또는 증권번호)",null,null,null,null,null,null,null,null,null,null,"납입금액",null,null,null,null,null,null,null,"소득·세액공제금액"]
[]
[]
[null,"3. 주택마련저축 소득공제"]
[null,"  * 주택마련저축 소득공제에 대한 명세를 작성합니다."]
[null,"저축 구분",null,null,null,null,null,null,null,"금융회사 등",null,null,null,null,null,null,null,"계좌번호(또는 증권번호)",null,null,null,null,null,null,null,null,null,null,"납입금액",null,null,null,null,null,null,null,"소득공제금액"]
[]
[]
[]
[null," 4. 장기집합투자증권저축 소득공제"]
[null,"  * 장기집합투자증권저축 소득공제에 대한 명세를 작성합니다."]
[null,"금융회사 등",null,null,null,null,null,null,null,null,null,null,null,null,null,null,null,"계좌번호(또는 증권번호)",null,null,null,null,null,null,null,null,null,null,"납입금액",null,null,null,null,null,null,null,"소득공제금액"]
[]
[]
[]
[null," 5. 중소기업창업투자조합 출자 등에 대한 소득공제"]
[null,"  * 중소기업창업투자조합 출자 등 소득공제에 대한 명세를 작성합니다."]
[null,"금융회사 등",null,null,null,null,null,null,null,"투자구분",null,null,null,null,null,null,null,"금융기관 등",null,null,null,null,null,null,null,null,null,null,"계좌번호(또는 증권번호)",null,null,null,null,null,null,null,"납입금액"]
[]
[]
[]
[]
[null,"작 성 방 법"]
[null,"1. 연금계좌 세액공제, 주택마련저축ㆍ장기집합투자증권저축ㆍ중소기업창업투자조합 출자 소득공제를 받는 소득자에 대해서는 해당 소득ㆍ세액 공제에 대한 명세를 작성해야 합니다. 해당 계좌별로 납입금액과 소득ㆍ세액 공제금액을 적고, 공제금액이 영(0)인 경우에는 적지 않습니다.\n 2. 퇴직연금계좌에서 \"퇴직연금 구분\"란은 퇴직연금［확정기여형(DC),개인형(IRP)］ㆍ과학기술인공제회로 구분하여 적습니다.\n 3. 연금저축계좌에서 \"연금저축 구분\"란은 개인연금저축과 연금저축으로 구분하여 적습니다.\n 4. 주택마련저축 공제의 \"저축 구분\"란은 청약저축, 주택청약종합저축(2014년 이전 가입), 주택청약종합저축(2015년 이후 가입) 및 근로자주택마련저축으로 구분하여 적습니다.\n 5. 중소기업창업투자조합 출자 등 소득공제의 \"투자 구분\"란은 벤처 등(「조세특례제한법」 제16조제1항제3호ㆍ제4호ㆍ제6호)과 조합 등(「조세특례제한법」 제16조제1항제1호ㆍ제2호ㆍ제5호)으로 구분하여 적습니다. \n 6. 공제금액란은 근로소득자가 적지 않을 수 있습니다."]
[]
[]
[]
[]
[]
[]
[null,null,null,null,null,null,null,null,null,null,null,null,null,null,null,null,null,null,null,null,null,null,null,null,null,null,null,null,null,null,null,null,null,null,null,null,null,null,null,null,null,null,null,null,null,null,"210㎜×297㎜"]
[null,null,null,null,null,null,null,null,null,null,null,null,null,null,null,null,null,null,null,null,null,null,null,null,null,null,null,null,null,null,null,null,null,null,null,null,null,null,null,null,null,null,null,null,null,null,"(8쪽 중 제8쪽)"]
[null,"[  ] 월세액ㆍ[  ] 거주자 간 주택임차차입금 원리금 상환액 소득ㆍ세액공제 명세서"]
[null," 1. 인적사항",null,null,null,null,null,null," ①상 호",null,null,null,null,null,null,null,null,{"$f":"기본사항!G14","v":"(주)조세통람"},null,null,null,null,null,null,null,null,null,null,null,null," ②사업자등록번호",null,null,null,null,null,null,null,{"$f":"기본사항!G16","v":"203-81-11111"}]
[null,null,null,null,null,null,null,null," ③성 명",null,null,null,null,null,null,null,null,{"$f":"기본사항!G7","v":"이영화"},null,null,null,null,null,null,null,null,null,null,null,null," ④주민등록번호",null,null,null,null,null,null,null,{"$f":"기본사항!G8","v":"123456-1234567"}]
[null,null,null,null,null,null,null,null," ⑤주 소  ",null,null,null,null,null,null,null,null,{"$f":"기본사항!G9","v":"서울 중구 다산로11길 25"},null,null,null,null,null,null,null,null,null,null,null,null,null,null,"(전화번호:",null,null,null,null,null,")"]
[null,null,null,null,null,null,null,null," ⑥사업장소재지",null,null,null,null,null,null,null,null,{"$f":"기본사항!G18","v":"서울 중구 동호로14길 5-6"},null,null,null,null,null,null,null,null,null,null,null,null,null,null,"(전화번호:",null,null,null,null,null,")"]
[null," 2. 월세액 세액공제 명세"]
[null,"⑦ 임대인 \n   성 명(상 호)",null,null,null,null,null,null,"⑧ 주민등록번호\n(사업자번호)",null,null,null,null,null,"⑨ 주택유형",null,null,null,"⑩계약면적(㎡)",null,null,null,null,null,"⑪ 임대차계약서 상\n주소지 ",null,null,null,null,null,null,"⑫ 계약서상\n임대차 계약기간",null,null,null,null,null,null,"⑬ 연간 \n월세액(원)",null,null,null,null,"⑭세액공제\n금액(원)"]
[null,null,null,null,null,null,null,null,null,null,null,null,null,null,null,null,null,null,null,null,null,null,null,null,null,null,null,null,null,null,null,"개시일",null,null,null,"종료일"]
[]
[]
[]
[null,"※⑨유형: 구분코드 - 단독주택:1, 다가구:2, 다세대주택:3, 연립주택:4, 아파트:5, 오피스텔:6, 고시원: 7, 기타:8\n※⑫계약서상 임대차계약기간 - 개시일과 종료일은 예시와 같이 기재 (예시) 2017.01.01."]
[null," 3. 거주자간 주택임차차입금 원리금 상환액 소득공제 명세"]
[null," 1) 금전소비대차 계약내용"]
[null,"⑮대주(貸主)",null,null,null,null,null,null,null,"⑯주민등록번호",null,null,null,null,null,"⑰금전소비대차\n계약기간",null,null,null,null,null,null,null,null,"⑱차입금\n이자율",null,null,null,null,"원리금 상환액",null,null,null,null,null,null,null,null,null,null,null,null,"㉒공제금액"]
[null,null,null,null,null,null,null,null,null,null,null,null,null,null,null,null,null,null,null,null,null,null,null,null,null,null,null,null,null,"⑲계",null,null,null,"⑳원리금",null,null,null,null,"㉑ 이자"]
[]
[]
[]
[null," 2) 임대차 계약내용"]
[null,"㉓ 임대인\n성 명(상 호)",null,null,null,null,null,null,"㉔ 주민등록번호\n(사업자번호)",null,null,null,null,null,"㉕주택 유형",null,null,null,null,null,"㉖계약\n면적(㎡)",null,null,null,"㉗ 임대차계약서상 \n주소지 ",null,null,null,null,null,null,null,null,null,"㉘ 계약서상\n임대차 계약기간",null,null,null,null,null,null,"㉙ 전세보증금\n(원)"]
[null,null,null,null,null,null,null,null,null,null,null,null,null,null,null,null,null,null,null,null,null,null,null,null,null,null,null,null,null,null,null,null,null,null,"개시일",null,null,null,"종료일"]
[]
[]
[]
[null,"※㉕유형: 구분코드 - 단독주택:1, 다가구:2, 다세대주택:3, 연립주택:4, 아파트:5, 오피스텔:6, 고시원: 7, 기타:8\n※㉘계약서상 임대차계약기간 - 개시일과 종료일은 예시와 같이 기재 (예시) 2017.01.01."]
[]
[null,"작 성 방 법"]
[null,null," 1. 월세액 세액공제나 거주자 간 주택임차자금 차입금 원리금 상환액 공제를 받는 근로소득자에 대해서는 해당 소득ㆍ세액공제에 대한 명세를 작성해야 합니다.\n 2. 해당 임대차 계약별로 연간 합계한 월세액ㆍ원리금상환액과 소득ㆍ세액공제금액을 적으며, 공제금액이 \"영(0)\"인 경우에는 적지 않습니다.\n 3. ⑨,㉕유형은 단독주택, 다가구주택, 다세대주택, 연립주택, 아파트, 오피스텔, 고시원, 기타 중에서 해당되는 유형의 구분코드를 적습니다.\n 4. ㉙전세보증금은 과세기간 종료일(12. 31.) 현재의 전세보증금을 적습니다."]
[null,"210mm×297mm"]

{"sheet":"급여내역","index":2,"n_rows":42,"n_cols":82,"rows_kept":42,"cut":false,"hidden":false,"merged":[[45,7,50,38],[5,22,6,22],[23,22,24,22],[30,22,31,22],[37,22,38,22],[35,58,35,63],[21,51,21,57],[21,58,21,63],[41,15,41,19],[18,37,18,40],[35,4,35,11],[35,12,35,19],[18,57,18,61],[16,37,16,40],[16,34,16,36],[18,62,18,65],[17,16,17,19],[17,24,17,27],[17,28,17,33],[13,45,13,48],[13,49,13,52],[13,57,13,61],[12,49,12,52],[12,53,12,56],[35,64,35,65],[35,66,35,67],[32,49,32,52],[23,23,24,23],[30,23,31,23],[23,24,24,27],[22,28,24,33],[23,41,24,44],[23,45,24,48],[22,34,24,36],[28,58,28,63],[28,64,28,65],[22,49,22,77],[25,62,25,65],[35,24,35,33],[25,68,25,71],[25,37,25,40],[25,41,25,44],[25,45,25,48],[25,49,25,52],[25,28,25,33],[25,34,25,36],[25,53,25,56],[25,57,25,61],[1,24,1,66],[3,4,3,11],[3,12,3,19],[3,24,3,33],[3,34,3,48],[3,51,3,57],[3,58,3,63],[3,64,3,65],[2,24,2,48],[3,66,3,67],[22,78,24,78],[22,79,24,79],[19,72,19,77],[36,34,38,36],[38,72,38,77],[37,57,38,61],[19,68,19,71],[19,41,19,44],[21,64,21,65],[28,51,28,57],[35,34,35,48],[19,49,19,52],[19,53,19,56],[19,57,19,61],[19,62,19,65],[19,45,19,48],[21,66,21,67],[23,62,24,65],[23,68,23,77],[24,49,24,52],[24,53,24,56],[24,68,24,71],[24,72,24,77],[23,49,23,56],[36,80,38,80],[37,37,38,40],[37,41,38,44],[36,37,36,48],[37,45,38,48],[37,49,37,56],[38,68,38,71],[36,78,38,78],[36,79,38,79],[38,49,38,52],[22,80,24,80],[29,78,31,78],[29,79,31,79],[29,80,31,80],[28,66,28,67],[35,51,35,57],[21,4,21,11],[21,12,21,19],[21,24,21,33],[21,34,21,48],[28,4,28,11],[28,12,28,19],[28,24,28,33],[28,34,28,48],[23,21,24,21],[23,16,24,19],[30,16,31,19],[30,24,31,27],[30,21,31,21],[30,41,31,44],[29,34,31,36],[29,37,29,48],[30,45,31,48],[31,72,31,77],[18,68,18,71],[18,72,18,77],[17,41,17,44],[17,45,17,48],[19,1,19,3],[19,4,19,6],[19,7,19,11],[19,12,19,15],[19,28,19,33],[19,37,19,40],[19,34,19,36],[18,16,18,19],[18,24,18,27],[18,28,18,33],[19,16,19,19],[19,24,19,27],[18,1,18,3],[18,4,18,6],[18,7,18,11],[18,12,18,15],[17,37,17,40],[18,45,18,48],[18,49,18,52],[18,53,18,56],[15,72,15,77],[15,53,15,56],[14,62,14,65],[14,68,14,71],[14,72,14,77],[16,68,16,71],[16,72,16,77],[17,57,17,61],[17,62,17,65],[17,53,17,56],[16,57,16,61],[16,62,16,65],[17,68,17,71],[17,72,17,77],[15,68,15,71],[15,49,15,52],[17,1,17,3],[17,4,17,6],[17,7,17,11],[17,12,17,15],[17,34,17,36],[16,4,16,6],[16,12,16,15],[16,16,16,19],[16,24,16,27],[16,28,16,33],[16,7,16,11],[15,7,15,11],[17,49,17,52],[13,62,13,65],[13,68,13,71],[13,37,13,40],[13,41,13,44],[13,28,13,33],[13,1,13,3],[13,4,13,6],[13,12,13,15],[22,1,24,3],[22,4,24,6],[22,7,22,27],[23,7,24,11],[23,12,24,15],[15,57,15,61],[15,62,15,65],[14,49,14,52],[14,53,14,56],[14,57,14,61],[16,41,16,44],[16,45,16,48],[16,49,16,52],[16,53,16,56],[15,4,15,6],[15,12,15,15],[11,12,11,15],[11,16,11,19],[11,24,11,27],[11,28,11,33],[12,41,12,44],[12,45,12,48],[14,1,14,3],[14,4,14,6],[14,12,14,15],[14,16,14,19],[14,24,14,27],[14,28,14,33],[14,34,14,36],[14,37,14,40],[13,34,13,36],[13,16,13,19],[13,24,13,27],[13,7,13,11],[14,7,14,11],[14,41,14,44],[14,45,14,48],[11,7,11,11],[10,57,10,61],[10,62,10,65],[10,68,10,71],[10,41,10,44],[10,45,10,48],[11,57,11,61],[11,62,11,65],[11,68,11,71],[12,1,12,3],[12,4,12,6],[12,12,12,15],[12,16,12,19],[12,24,12,27],[12,28,12,33],[12,34,12,36],[12,37,12,40],[11,53,11,56],[11,34,11,36],[11,37,11,40],[11,41,11,44],[11,45,11,48],[11,49,11,52],[11,1,11,3],[11,4,11,6],[10,1,10,3],[10,4,10,6],[10,12,10,15],[10,16,10,19],[10,24,10,27],[10,28,10,33],[10,34,10,36],[10,37,10,40],[9,53,9,56],[9,34,9,36],[9,37,9,40],[9,41,9,44],[9,45,9,48],[9,49,9,52],[9,1,9,3],[9,4,9,6],[9,12,9,15],[9,16,9,19],[9,24,9,27],[10,49,10,52],[10,53,10,56],[9,7,9,11],[10,7,10,11],[8,1,8,3],[8,4,8,6],[8,12,8,15],[8,16,8,19],[8,24,8,27],[8,28,8,33],[8,34,8,36],[8,37,8,40],[7,53,7,56],[7,37,7,40],[7,41,7,44],[7,45,7,48],[7,49,7,52],[7,1,7,3],[7,4,7,6],[7,7,7,11],[7,12,7,15],[7,16,7,19],[7,24,7,27],[8,7,8,11],[6,68,6,71],[6,72,6,77],[5,49,5,56],[5,57,6,61],[5,66,6,66],[5,67,6,67],[5,68,5,77],[4,1,6,3],[4,4,6,6],[4,7,4,27],[4,28,6,33],[5,16,6,19],[5,24,6,27],[5,21,6,21],[5,23,6,23],[5,7,6,11],[5,12,6,15],[5,37,6,40],[5,41,6,44],[4,34,6,36],[4,37,4,48],[5,45,6,48],[5,62,6,65],[6,49,6,52],[6,53,6,56],[8,41,8,44],[8,45,8,48],[8,49,8,52],[8,53,8,56],[8,57,8,61],[8,62,8,65],[7,57,7,61],[7,62,7,65],[12,57,12,61],[29,1,31,3],[29,4,31,6],[29,7,29,27],[29,28,31,33],[30,7,31,11],[30,12,31,15],[31,49,31,52],[31,53,31,56],[23,57,24,61],[25,1,25,3],[25,4,25,6],[25,7,25,11],[25,12,25,15],[25,16,25,19],[25,24,25,27],[12,7,12,11],[13,53,13,56],[15,16,15,19],[15,24,15,27],[15,28,15,33],[15,34,15,36],[16,1,16,3],[15,1,15,3],[31,68,31,71],[30,49,30,56],[30,57,31,61],[30,66,31,66],[30,67,31,67],[30,62,31,65],[32,16,32,19],[32,24,32,27],[32,28,32,33],[32,34,32,36],[32,1,32,3],[32,4,32,6],[32,7,32,11],[32,12,32,15],[36,1,38,3],[36,4,38,6],[36,7,36,27],[36,28,38,33],[37,7,38,11],[37,12,38,15],[37,16,38,19],[37,23,38,23],[37,21,38,21],[39,16,39,19],[39,24,39,27],[39,28,39,33],[39,34,39,36],[39,1,39,3],[39,4,39,6],[39,7,39,11],[39,12,39,15],[39,57,39,61],[39,62,39,65],[39,68,39,71],[39,37,39,40],[39,41,39,44],[39,45,39,48],[39,49,39,52],[38,53,38,56],[4,80,6,80],[39,72,39,77],[32,72,32,77],[36,49,36,77],[32,53,32,56],[32,57,32,61],[32,62,32,65],[32,68,32,71],[39,53,39,56],[32,41,32,44],[32,45,32,48],[4,78,6,78],[4,79,6,79],[37,62,38,65],[37,68,37,77],[25,72,25,77],[29,49,29,77],[5,20,6,20],[23,20,24,20],[30,20,31,20],[37,20,38,20],[37,24,38,27],[32,37,32,40],[30,37,31,40],[23,37,24,40],[7,28,7,33],[7,34,7,36],[9,28,9,33],[18,34,18,36],[22,37,22,48],[18,41,18,44],[15,37,15,40],[15,41,15,44],[15,45,15,48],[4,81,6,81],[22,81,24,81],[29,81,31,81],[36,81,38,81],[37,66,38,66],[37,67,38,67],[30,68,30,77],[23,67,24,67],[23,66,24,66],[4,49,4,77],[8,68,8,71],[8,72,8,77],[7,72,7,77],[7,68,7,71],[10,72,10,77],[9,72,9,77],[9,57,9,61],[9,62,9,65],[9,68,9,71],[12,62,12,65],[12,68,12,71],[12,72,12,77],[11,72,11,77],[13,72,13,77]]}
[]
[null,null,null,null,null,null,null,null,null,null,null,null,null,null,null,null,null,null,null,null,null,null,null,null,"2019년 급여지급내역"]
[]
[null,null,null,null,"[근무처명]  :",null,null,null,null,null,null,null,{"$f":"기본사항!G14","v":"(주)조세통람"},null,null,null,null,null,null,null,null,null,null,null,"[사업자등록번호] :",null,null,null,null,null,null,null,null,null,{"$f":"기본사항!G16","v":"203-81-11111"},null,null,null,null,null,null,null,null,null,null,null,null,null,null,null,null,"[근무기간]",null,null,null,null,null,null,"2018-01-01",null,null,null,null,null,"~",null,"2018-12-31",null,null,null,null,"[현근무지]"]
[null,"월별",null,null,"지급일자",null,null,"과 세 대 상 급 여",null,null,null,null,null,null,null,null,null,null,null,null,null,null,null,null,null,null,null,null,"간이세액표에의한소득세",null,null,null,null,null,"감면세액",null,null,"차감원천징수액",null,null,null,null,null,null,null,null,null,null,null,"비 과 세 소 득",null,null,null,null,null,null,null,null,null,null,null,null,null,null,null,null,null,null,null,null,null,null,null,null,null,null,null,null,"국민연금","건강보험","고용보험","노인장기\n요양보험"]
[null,null,null,null,null,null,null,"급여액",null,null,null,null,"상여액",null,null,null,"인정상여",null,null,null,"주식매수\n선택권","우리사주\n조합인출금","임원퇴직\n소득금액\n한도초과액","직무발명\n보상금","계",null,null,null,null,null,null,null,null,null,null,null,null,"소득세",null,null,null,"지방\n소득세",null,null,null,"농특세",null,null,null,"국 외 근 로 소 득",null,null,null,null,null,null,null,"연구\n활동비",null,null,null,null,"야간\n근로수당",null,null,null,"출산\n보육수당","외국인근로자","그밖의비과세"]
[null,null,null,null,null,null,null,null,null,null,null,null,null,null,null,null,null,null,null,null,null,null,null,null,null,null,null,null,null,null,null,null,null,null,null,null,null,null,null,null,null,null,null,null,null,null,null,null,null,"지급일자",null,null,null,"원화",null,null,null,null,null,null,null,null,null,null,null,null,null,null,"내용",null,null,null,"금액"]
[null,1,null,null,null,null,null,2100000,null,null,null,null,null,null,null,null,null,null,null,null,null,null,null,null,{"$f":"SUM(H8:X8)","v":2100000},null,null,null,22740,null,null,null,null,null,null,null,null,22740,null,null,null,2270,null,null,null,null,null,null,null,null,null,null,null,null,null,null,null,null,null,null,null,null,null,null,null,null,null,null,null,null,null,null,null,null,null,null,null,null,94500,67830,16800,5770]
[null,2,null,null,null,null,null,2100000,null,null,null,null,null,null,null,null,null,null,null,null,null,null,null,null,{"$f":"SUM(H9:X9)","v":2100000},null,null,null,22740,null,null,null,null,null,null,null,null,22740,null,null,null,2270,null,null,null,null,null,null,null,null,null,null,null,null,null,null,null,null,null,null,null,null,null,null,null,null,null,null,null,null,null,null,null,null,null,null,null,null,94500,67830,16800,5770]
[null,3,null,null,null,null,null,2100000,null,null,null,null,null,null,null,null,null,null,null,null,null,null,null,null,2100000,null,null,null,22740,null,null,null,null,null,null,null,null,22740,null,null,null,2270,null,null,null,null,null,null,null,null,null,null,null,null,null,null,null,null,null,null,null,null,null,null,null,null,null,null,null,null,null,null,null,null,null,null,null,null,94500,67830,16800,5770]
[null,4,null,null,null,null,null,2100000,null,null,null,null,null,null,null,null,null,null,null,null,null,null,null,null,2100000,null,null,null,22740,null,null,null,null,null,null,null,null,22740,null,null,null,2270,null,null,null,null,null,null,null,null,null,null,null,null,null,null,null,null,null,null,null,null,null,null,null,null,null,null,null,null,null,null,null,null,null,null,null,null,94500,67830,16800,5770]
[null,5,null,null,null,null,null,2100000,null,null,null,null,null,null,null,null,null,null,null,null,null,null,null,null,2100000,null,null,null,22740,null,null,null,null,null,null,null,null,22740,null,null,null,2270,null,null,null,null,null,null,null,null,null,null,null,null,null,null,null,null,null,null,null,null,null,null,null,null,null,null,null,null,null,null,null,null,null,null,null,null,94500,67830,16800,5770]
[null,6,null,null,null,null,null,2100000,null,null,null,null,null,null,null,null,null,null,null,null,null,null,null,null,2100000,null,null,null,22740,null,null,null,null,null,null,null,null,22740,null,null,null,2270,null,null,null,null,null,null,null,null,null,null,null,null,null,null,null,null,null,null,null,null,null,null,null,null,null,null,null,null,null,null,null,null,null,null,null,null,94500,67830,16800,5770]
[null,7,null,null,null,null,null,2100000,null,null,null,null,null,null,null,null,null,null,null,null,null,null,null,null,2100000,null,null,null,22740,null,null,null,null,null,null,null,null,22740,null,null,null,2270,null,null,null,null,null,null,null,null,null,null,null,null,null,null,null,null,null,null,null,null,null,null,null,null,null,null,null,null,null,null,null,null,null,null,null,null,94500,67830,16800,5770]
[null,8,null,null,null,null,null,2100000,null,null,null,null,null,null,null,null,null,null,null,null,null,null,null,null,2100000,null,null,null,22740,null,null,null,null,null,null,null,null,22740,null,null,null,2270,null,null,null,null,null,null,null,null,null,null,null,null,null,null,null,null,null,null,null,null,null,null,null,null,null,null,null,null,null,null,null,null,null,null,null,null,94500,67830,16800,5770]
[null,9,null,null,null,null,null,2100000,null,null,null,null,null,null,null,null,null,null,null,null,null,null,null,null,2100000,null,null,null,22740,null,null,null,null,null,null,null,null,22740,null,null,null,2270,null,null,null,null,null,null,null,null,null,null,null,null,null,null,null,null,null,null,null,null,null,null,null,null,null,null,null,null,null,null,null,null,null,null,null,null,94500,67830,16800,5770]
[null,10,null,null,null,null,null,2100000,null,null,null,null,null,null,null,null,null,null,null,null,null,null,null,null,2100000,null,null,null,22740,null,null,null,null,null,null,null,null,22740,null,null,null,2270,null,null,null,null,null,null,null,null,null,null,null,null,null,null,null,null,null,null,null,null,null,null,null,null,null,null,null,null,null,null,null,null,null,null,null,null,94500,67830,16800,5770]
[null,11,null,null,null,null,null,2100000,null,null,null,null,null,null,null,null,null,null,null,null,null,null,null,null,2100000,null,null,null,22740,null,null,null,null,null,null,null,null,22740,null,null,null,2270,null,null,null,null,null,null,null,null,null,null,null,null,null,null,null,null,null,null,null,null,null,null,null,null,null,null,null,null,null,null,null,null,null,null,null,null,94500,67830,16800,5770]
[null,12,null,null,null,null,null,2100000,null,null,null,null,null,null,null,null,null,null,null,null,null,null,null,null,2100000,null,null,null,22740,null,null,null,null,null,null,null,null,22740,null,null,null,2270,null,null,null,null,null,null,null,null,null,null,null,null,null,null,null,null,null,null,null,null,null,null,null,null,null,null,null,null,null,null,null,null,null,null,null,null,94500,67830,16800,5770]
[null,"계",null,null,null,null,null,{"$f":"SUM(H8:L19)","v":25200000},null,null,null,null,{"$f":"SUM(M8:P19)","v":0},null,null,null,{"$f":"SUM(Q8:T19)","v":0},null,null,null,{"$f":"SUM(U8:U19)","v":0},{"$f":"SUM(V8:V19)","v":0},{"$f":"SUM(W8:W19)","v":0},{"$f":"SUM(X8:X19)","v":0},{"$f":"SUM(Y8:AB19)","v":25200000},null,null,null,{"$f":"SUM(AC8:AH19)","v":272880},null,null,null,null,null,{"$f":"SUM(AI8:AK19)","v":0},null,null,{"$f":"SUM(AL8:AO19)","v":272880},null,null,null,{"$f":"SUM(AP8:AS19)","v":27240},null,null,null,{"$f":"SUM(AT8:AW19)","v":0},null,null,null,null,null,null,null,{"$f":"SUM(BB8:BE19)","v":0},null,null,null,{"$f":"SUM(BF8:BJ19)","v":0},null,null,null,null,{"$f":"MIN(SUM(BK8:BN19),2400000)","v":0},null,null,null,{"$f":"SUM(BO8:BO19)","v":0},{"$f":"SUM(BP8:BP19)","v":0},null,null,null,null,{"$f":"SUM(BU8:BZ19)","v":0},null,null,null,null,null,{"$f":"SUM(CA8:CA19)","v":1134000},{"$f":"SUM(CB8:CB19)","v":813960},{"$f":"SUM(CC8:CC19)","v":201600},{"$f":"SUM(CD8:CD19)","v":69240}]
[]
[null,null,null,null,"[근무처명]  :",null,null,null,null,null,null,null,"㈜우인",null,null,null,null,null,null,null,null,null,null,null,"[사업자등록번호] :",null,null,null,null,null,null,null,null,null,"101-81-22222",null,null,null,null,null,null,null,null,null,null,null,null,null,null,null,null,"[근무기간]",null,null,null,null,null,null,null,null,null,null,null,null,"~",null,null,null,null,"[종(전)근무지]"]
[null,"월별",null,null,"지급일자",null,null,"과 세 대 상 급 여",null,null,null,null,null,null,null,null,null,null,null,null,null,null,null,null,null,null,null,null,"간이세액표에의한소득세",null,null,null,null,null,"감면세액",null,null,"차감원천징수액",null,null,null,null,null,null,null,null,null,null,null,"비 과 세 소 득",null,null,null,null,null,null,null,null,null,null,null,null,null,null,null,null,null,null,null,null,null,null,null,null,null,null,null,null,"국민연금","건강보험","고용보험","노인장기\n요양보험"]
[null,null,null,null,null,null,null,"급여액",null,null,null,null,"상여액",null,null,null,"인정상여",null,null,null,{"$f":"U6","v":"주식매수\n선택권"},{"$f":"V6","v":"우리사주\n조합인출금"},{"$f":"W6","v":"임원퇴직\n소득금액\n한도초과액"},{"$f":"X6","v":"직무발명\n보상금"},"계",null,null,null,null,null,null,null,null,null,null,null,null,"소득세",null,null,null,{"$f":"AP6","v":"지방\n소득세"},null,null,null,"농특세",null,null,null,"국 외 근 로 소 득",null,null,null,null,null,null,null,{"$f":"BF6","v":"연구\n활동비"},null,null,null,null,{"$f":"BK6","v":"야간\n근로수당"},null,null,null,{"$f":"BO6","v":"출산\n보육수당"},{"$f":"BP6","v":"외국인근로자"},"그밖의비과세"]
[null,null,null,null,null,null,null,null,null,null,null,null,null,null,null,null,null,null,null,null,null,null,null,null,null,null,null,null,null,null,null,null,null,null,null,null,null,null,null,null,null,null,null,null,null,null,null,null,null,"지급일자",null,null,null,"원화",null,null,null,null,null,null,null,null,null,null,null,null,null,null,"내용",null,null,null,"금액"]
[null,"계",null,null,null,null,null,null,null,null,null,null,null,null,null,null,null,null,null,null,null,null,null,null,{"$f":"SUM(H26:X26)","v":0}]
[]
[]
[null,null,null,null,"[근무처명]  :",null,null,null,null,null,null,null,null,null,null,null,null,null,null,null,null,null,null,null,"[사업자등록번호] :",null,null,null,null,null,null,null,null,null,null,null,null,null,null,null,null,null,null,null,null,null,null,null,null,null,null,"[근무기간]",null,null,null,null,null,null,null,null,null,null,null,null,"~",null,null,null,null,"[종(전)근무지]"]
[null,"월별",null,null,"지급일자",null,null,"과 세 대 상 급 여",null,null,null,null,null,null,null,null,null,null,null,null,null,null,null,null,null,null,null,null,"간이세액표에의한소득세",null,null,null,null,null,"감면세액",null,null,"차감원천징수액",null,null,null,null,null,null,null,null,null,null,null,"비 과 세 소 득",null,null,null,null,null,null,null,null,null,null,null,null,null,null,null,null,null,null,null,null,null,null,null,null,null,null,null,null,"국민연금","건강보험","고용보험","노인장기\n요양보험"]
[null,null,null,null,null,null,null,"급여액",null,null,null,null,"상여액",null,null,null,"인정상여",null,null,null,{"$f":"U24","v":"주식매수\n선택권"},{"$f":"V24","v":"우리사주\n조합인출금"},{"$f":"W24","v":"임원퇴직\n소득금액\n한도초과액"},{"$f":"X24","v":"직무발명\n보상금"},"계",null,null,null,null,null,null,null,null,null,null,null,null,"소득세",null,null,null,{"$f":"AP24","v":"지방\n소득세"},null,null,null,"농특세",null,null,null,"국 외 근 로 소 득",null,null,null,null,null,null,null,{"$f":"BF24","v":"연구\n활동비"},null,null,null,null,{"$f":"BK24","v":"야간\n근로수당"},null,null,null,{"$f":"BO24","v":"출산\n보육수당"},{"$f":"BP24","v":"외국인근로자"},"그밖의비과세"]
[null,null,null,null,null,null,null,null,null,null,null,null,null,null,null,null,null,null,null,null,null,null,null,null,null,null,null,null,null,null,null,null,null,null,null,null,null,null,null,null,null,null,null,null,null,null,null,null,null,"지급일자",null,null,null,"원화",null,null,null,null,null,null,null,null,null,null,null,null,null,null,"내용",null,null,null,"금액"]
[null,"계",null,null,null,null,null,null,null,null,null,null,null,null,null,null,null,null,null,null,null,null,null,null,{"$f":"SUM(H33:X33)","v":0}]
[]
[]
[null,null,null,null,"[근무처명]  :",null,null,null,null,null,null,null,null,null,null,null,null,null,null,null,null,null,null,null,"[사업자등록번호] :",null,null,null,null,null,null,null,null,null,null,null,null,null,null,null,null,null,null,null,null,null,null,null,null,null,null,"[근무기간]",null,null,null,null,null,null,null,null,null,null,null,null,"~",null,null,null,null,null,null,"[납세조합]"]
[null,"월별",null,null,"지급일자",null,null,"과 세 대 상 급 여",null,null,null,null,null,null,null,null,null,null,null,null,null,null,null,null,null,null,null,null,"간이세액표에의한소득세",null,null,null,null,null,"감면세액",null,null,"차감원천징수액",null,null,null,null,null,null,null,null,null,null,null,"비 과 세 소 득",null,null,null,null,null,null,null,null,null,null,null,null,null,null,null,null,null,null,null,null,null,null,null,null,null,null,null,null,"국민연금","건강보험","고용보험","노인장기\n요양보험"]
[null,null,null,null,null,null,null,"급여액",null,null,null,null,"상여액",null,null,null,"인정상여",null,null,null,{"$f":"U31","v":"주식매수\n선택권"},{"$f":"V31","v":"우리사주\n조합인출금"},{"$f":"W31","v":"임원퇴직\n소득금액\n한도초과액"},{"$f":"X31","v":"직무발명\n보상금"},"계",null,null,null,null,null,null,null,null,null,null,null,null,"소득세",null,null,null,{"$f":"AP31","v":"지방\n소득세"},null,null,null,"농특세",null,null,null,"국 외 근 로 소 득",null,null,null,null,null,null,null,{"$f":"BF31","v":"연구\n활동비"},null,null,null,null,{"$f":"BK31","v":"야간\n근로수당"},null,null,null,{"$f":"BO31","v":"출산\n보육수당"},{"$f":"BP31","v":"외국인근로자"},"그밖의비과세"]
[null,null,null,null,null,null,null,null,null,null,null,null,null,null,null,null,null,null,null,null,null,null,null,null,null,null,null,null,null,null,null,null,null,null,null,null,null,null,null,null,null,null,null,null,null,null,null,null,null,"지급일자",null,null,null,"원화",null,null,null,null,null,null,null,null,null,null,null,null,null,null,"내용",null,null,null,"금액"]
[null,"계",null,null,null,null,null,null,null,null,null,null,null,null,null,null,null,null,null,null,null,null,null,null,{"$f":"SUM(H40:X40)","v":0}]
[]
[null,null,null,null,null,null,"ㅁ 납세조합공제액:",null,null,null,null,null,null,null,null,null,null,null,null,null,"원"]

{"sheet":"인적공제","index":3,"n_rows":17,"n_cols":15,"rows_kept":17,"cut":false,"hidden":false,"merged":[[5,2,16,2],[3,2,3,14]]}
[]
[]
[]
[null,null,"인적공제액계산"]
[]
[null,null,"인\n적\n공\n제","구분","성명","주민등록번호","기본공제","관계","출산입양1","출산입양2","장애인","6세이하","경로우대","세대주","자녀수"]
[null,null,null,"본인",{"$f":"신고서!F19","v":"이영화"},{"$f":"기본사항!$G$8","v":"123456-1234567"},{"$f":"IF(신고서!L19=\"○\",1,0)","v":1},{"$f":"신고서!C19","v":"0"},{"$f":"IF(신고서!U19=\"\",0,1)","v":0},{"$f":"IF(신고서!U19=\"○1\",3,(IF(신고서!U19=\"○2\",5,(IF(신고서!U19=\"○3\",7,0)))))","v":0},{"$f":"IF(신고서!R20=\"\",0,1)","v":0},{"$f":"IF(신고서!U20=\"○\",1,0)","v":0},{"$f":"IF(신고서!R19=\"○\",1,0)","v":0},{"$f":"IF(신고서!I8=TRUE,\"예\",\"아니오\")","v":"예"},{"$f":"신고서!J18","v":3}]
[null,null,null,"부양가족1",{"$f":"신고서!F21","v":"조세희"},{"$f":"신고서!F22","v":"710415-2031653"},{"$f":"IF(신고서!L21=\"○\",1,0)","v":1},{"$f":"신고서!C21","v":3},{"$f":"IF(신고서!U21=\"\",0,1)","v":0},{"$f":"IF(신고서!U21=\"○1\",3,(IF(신고서!U21=\"○2\",5,(IF(신고서!U21=\"○3\",7,0)))))","v":0},{"$f":"IF(신고서!R22=\"\",0,1)","v":0},{"$f":"IF(신고서!U22=\"○\",1,0)","v":0},{"$f":"IF(신고서!R21=\"○\",1,0)","v":0},{"$f":"IF(H8=3,IF(신고서!L21=\"\",0,1),0)","v":1},{"$f":"IF(신고서!L18=1,1,0)","v":0}]
[null,null,null,"부양가족2",{"$f":"신고서!F23","v":"편람일"},{"$f":"신고서!F24","v":"481103-2019015"},{"$f":"IF(신고서!L23=\"○\",1,0)","v":1},{"$f":"신고서!C23","v":1},{"$f":"IF(신고서!U23=\"\",0,1)","v":0},{"$f":"IF(신고서!U23=\"○1\",3,(IF(신고서!U23=\"○2\",5,(IF(신고서!U23=\"○3\",7,0)))))","v":0},{"$f":"IF(신고서!R24=\"\",0,1)","v":0},{"$f":"IF(신고서!U24=\"○\",1,0)","v":0},{"$f":"IF(신고서!R23=\"○\",1,0)","v":1},null,{"$f":"IF(신고서!O18=1,1,0)","v":0}]
[null,null,null,"부양가족3",{"$f":"신고서!F25","v":"이대한"},{"$f":"신고서!F26","v":"091206-4059631"},{"$f":"IF(신고서!L25=\"○\",1,0)","v":1},{"$f":"신고서!C25","v":4},{"$f":"IF(신고서!U25=\"\",0,1)","v":0},{"$f":"IF(신고서!U25=\"○1\",3,(IF(신고서!U25=\"○2\",5,(IF(신고서!U25=\"○3\",7,0)))))","v":0},{"$f":"IF(신고서!R26=\"\",0,1)","v":0},{"$f":"IF(신고서!U26=\"○\",1,0)","v":0},{"$f":"IF(신고서!R25=\"○\",1,0)","v":0}]
[null,null,null,"부양가족4",{"$f":"신고서!F27","v":"이민국"},{"$f":"신고서!F28","v":"151230-3059632"},{"$f":"IF(신고서!L27=\"○\",1,0)","v":1},{"$f":"신고서!C27","v":4},{"$f":"IF(신고서!U27=\"\",0,1)","v":0},{"$f":"IF(신고서!U27=\"○1\",3,(IF(신고서!U27=\"○2\",5,(IF(신고서!U27=\"○3\",7,0)))))","v":0},{"$f":"IF(신고서!R28=\"\",0,1)","v":0},{"$f":"IF(신고서!U28=\"○\",1,0)","v":1},{"$f":"IF(신고서!R27=\"○\",1,0)","v":0}]
[null,null,null,"부양가족5",{"$f":"신고서!F29","v":0},{"$f":"신고서!F30","v":0},{"$f":"IF(신고서!L29=\"○\",1,0)","v":0},{"$f":"신고서!C29","v":0},{"$f":"IF(신고서!U29=\"\",0,1)","v":0},{"$f":"IF(신고서!U29=\"○1\",3,(IF(신고서!U29=\"○2\",5,(IF(신고서!U29=\"○3\",7,0)))))","v":0},{"$f":"IF(신고서!R30=\"\",0,1)","v":0},{"$f":"IF(신고서!U30=\"○\",1,0)","v":0},{"$f":"IF(신고서!R29=\"○\",1,0)","v":0}]
[null,null,null,"부양가족6",{"$f":"신고서!F31","v":0},{"$f":"신고서!F32","v":0},{"$f":"IF(신고서!L31=\"○\",1,0)","v":0},{"$f":"신고서!C31","v":0},{"$f":"IF(신고서!U31=\"\",0,1)","v":0},{"$f":"IF(신고서!U31=\"○1\",3,(IF(신고서!U31=\"○2\",5,(IF(신고서!U31=\"○3\",7,0)))))","v":0},{"$f":"IF(신고서!R32=\"\",0,1)","v":0},{"$f":"IF(신고서!U32=\"○\",1,0)","v":0},{"$f":"IF(신고서!R31=\"○\",1,0)","v":0}]
[null,null,null,"부양가족7",{"$f":"신고서!F33","v":0},{"$f":"신고서!F34","v":0},{"$f":"IF(신고서!L33=\"○\",1,0)","v":0},{"$f":"신고서!C33","v":0},{"$f":"IF(신고서!U33=\"\",0,1)","v":0},{"$f":"IF(신고서!U33=\"○1\",3,(IF(신고서!U33=\"○2\",5,(IF(신고서!U33=\"○3\",7,0)))))","v":0},{"$f":"IF(신고서!R34=\"\",0,1)","v":0},{"$f":"IF(신고서!U34=\"○\",1,0)","v":0},{"$f":"IF(신고서!R33=\"○\",1,0)","v":0}]
[null,null,null,"부양가족8",{"$f":"신고서!F35","v":0},{"$f":"신고서!F36","v":0},{"$f":"IF(신고서!L35=\"○\",1,0)","v":0},{"$f":"신고서!C35","v":0},{"$f":"IF(신고서!U35=\"\",0,1)","v":0},{"$f":"IF(신고서!U35=\"○1\",3,(IF(신고서!U35=\"○2\",5,(IF(신고서!U35=\"○3\",7,0)))))","v":0},{"$f":"IF(신고서!R36=\"\",0,1)","v":0},{"$f":"IF(신고서!U36=\"○\",1,0)","v":0},{"$f":"IF(신고서!R35=\"○\",1,0)","v":0}]
[null,null,null,"부양가족9",{"$f":"신고서!F37","v":0},{"$f":"신고서!F38","v":0},{"$f":"IF(신고서!L37=\"○\",1,0)","v":0},{"$f":"신고서!C37","v":0},{"$f":"IF(신고서!U37=\"\",0,1)","v":0},{"$f":"IF(신고서!U37=\"○1\",3,(IF(신고서!U37=\"○2\",5,(IF(신고서!U37=\"○3\",7,0)))))","v":0},{"$f":"IF(신고서!R38=\"\",0,1)","v":0},{"$f":"IF(신고서!U38=\"○\",1,0)","v":0},{"$f":"IF(신고서!R37=\"○\",1,0)","v":0}]
[null,null,null,"합계",null,null,{"$f":"SUM(G7:G16)","v":5},null,0,0,0,1,1]

{"sheet":"신용카드","index":4,"n_rows":37,"n_cols":47,"rows_kept":37,"cut":false,"hidden":false,"merged":[[28,11,28,23],[29,11,29,46],[31,35,31,36],[34,14,35,42],[34,43,34,46],[35,43,35,46],[34,11,35,13],[28,41,28,46],[28,24,28,40],[4,36,4,46],[3,11,3,46],[6,11,6,46],[7,11,7,23],[8,41,8,43],[8,14,8,16],[8,11,8,13],[8,44,8,46],[8,37,8,40],[5,36,5,46],[8,17,8,20],[8,24,8,25],[8,26,8,28],[17,26,17,28],[17,29,17,31],[17,35,17,36],[17,44,17,46],[17,37,17,40],[17,41,17,43],[26,24,26,40],[24,11,24,46],[23,30,23,34],[20,34,20,38],[20,39,20,42],[20,43,20,46],[21,43,21,46],[22,11,22,14],[22,15,22,19],[22,20,22,24],[22,25,22,29],[22,30,22,34],[21,11,21,14],[21,15,21,18],[21,39,21,42],[19,15,20,18],[3,2,3,5],[4,11,4,21],[4,22,4,28],[4,29,4,35],[7,24,7,46],[5,2,25,2],[5,11,5,21],[5,22,5,28],[5,29,5,35],[8,9,24,9],[17,3,21,3],[8,29,8,31],[8,32,8,34],[8,35,8,36],[8,21,8,23],[19,11,20,14],[21,19,21,23],[21,24,21,28],[21,29,21,33],[21,34,21,38],[19,34,19,46],[19,24,20,28],[19,29,20,33],[17,32,17,34],[12,24,12,25],[9,11,10,13],[9,14,10,16],[9,17,10,20],[9,21,10,23],[27,41,27,46],[27,24,27,40],[27,11,27,23],[22,41,22,46],[22,35,22,40],[26,11,26,23],[25,11,25,23],[23,41,23,46],[23,35,23,40],[25,24,25,40],[25,41,25,46],[23,11,23,14],[23,15,23,19],[23,20,23,24],[23,25,23,29],[26,41,26,46],[19,19,20,23],[18,11,18,46],[17,11,17,25],[9,26,9,28],[10,26,10,28],[11,26,11,28],[12,26,12,28],[13,26,13,28],[15,11,16,13],[15,14,16,16],[15,17,16,20],[15,21,16,23],[15,24,15,25],[16,24,16,25],[13,11,14,13],[13,14,14,16],[13,17,14,20],[13,21,14,23],[13,24,13,25],[14,24,14,25],[9,24,9,25],[10,24,10,25],[11,11,12,13],[11,14,12,16],[11,17,12,20],[11,21,12,23],[11,24,11,25],[14,26,14,28],[15,26,15,28],[16,26,16,28],[16,29,16,31],[16,32,16,34],[16,35,16,36],[14,29,14,31],[14,32,14,34],[14,35,14,36],[15,29,15,31],[15,32,15,34],[15,35,15,36],[9,44,9,46],[10,44,10,46],[11,44,11,46],[12,44,12,46],[13,44,13,46],[14,44,14,46],[15,44,15,46],[16,44,16,46],[9,29,9,31],[9,32,9,34],[9,35,9,36],[10,29,10,31],[10,32,10,34],[10,35,10,36],[11,29,11,31],[11,32,11,34],[11,35,11,36],[12,29,12,31],[12,32,12,34],[12,35,12,36],[13,29,13,31],[13,32,13,34],[13,35,13,36]]}
[]
[]
[null,null,null,null,null,null,null,null,null,null,null,"■ 조세특례제한법 시행규칙[별지 제74호의6서식] <개정(안) 2019. 12. 31.>",null,null,null,null,null,null,null,null,null,null,null,null,null,null,null,null,null,null,null,null,null,null,null,null,null,null,null,null,null,null,null,null,null,null,"(앞  쪽)"]
[null,null,"그밖의 소득공제",null,null,null,null,null,null,null,null,"신용카드 등 소득공제 신청서"]
[null,null,null,null,null,null,null,null,null,null,null,"거 주 자 성 명",null,null,null,null,null,null,null,null,null,null,{"$f":"기본사항!G7","v":"이영화"},null,null,null,null,null,null,"생  년  월  일",null,null,null,null,null,null,{"$f":"LEFT(기본사항!G8,6)","v":"123456"}]
[null,null,"그\n밖\n의\n소\n득\n공\n제","개인연금소득공제","개인연금저축납입액",{"$f":"#REF!","v":{"$error":"#REF!"}},"원",null,null,null,null,"근 무 처 명 칭",null,null,null,null,null,null,null,null,null,null,{"$f":"기본사항!G14","v":"(주)조세통람"},null,null,null,null,null,null,"사업자등록번호",null,null,null,null,null,null,{"$f":"기본사항!G16","v":"203-81-11111"}]
[null,null,null,"연금저축소득공제","연금저축납입액",null,"원",null,null,null,null,"1. 공제대상자 및 신용카드등사용금액 명세"]
[null,null,null,"소기업소상공인부금","연간불입금액",{"$f":"#REF!","v":{"$error":"#REF!"}},"원",null,null,null,null,"공제대상자",null,null,null,null,null,null,null,null,null,null,null,null,"신용카드 등 사용금액"]
[null,null,null,"주택마련저축\n소득공제","청약저축",{"$f":"IF(#REF!=\"\",0,MIN(#REF!,1200000))","v":{"$error":"#REF!"}},"원",null,null,null,null,"①\n내·외국인\n구분",null,null,"②\n관계",null,null,"③\n성명",null,null,null,"④\n생년월일",null,null,"자료\n구분",null,"⑤소  계\n(⑥+⑦+⑧+⑨+⑩+⑪)",null,null,"⑥\n신용카드",null,null,"⑦\n직불·\n선불카드\n등",null,null,"⑧ 현금\n영수증",null,"⑨도서공연 등\n사용분\n(총급여\n7천만원\n이하자만\n기재)",null,null,null,"⑩\n전통시장\n사용분",null,null,"⑪\n대중교통\n이용분"]
[null,null,null,null,null,null,null,null,null,null,null,null,null,null,null,null,null,null,null,null,null,null,null,null,"국세청자료",null,null,null,null,12000000,null,null,4500000,null,null,null,null,null,null,null,null,null,null,null,1200000]
[null,null,null,null,null,null,null,null,null,null,null,null,null,null,null,null,null,null,null,null,null,null,null,null,"그 밖의 자료"]
[null,null,null,null,null,null,null,null,null,null,null,null,null,null,null,null,null,null,null,null,null,null,null,null,"국세청자료"]
[null,null,null,null,null,null,null,null,null,null,null,null,null,null,null,null,null,null,null,null,null,null,null,null,"그 밖의 자료"]
[null,null,null,null,null,null,null,null,null,null,null,null,null,null,null,null,null,null,null,null,null,null,null,null,"국세청자료"]
[null,null,null,null,null,null,null,null,null,null,null,null,null,null,null,null,null,null,null,null,null,null,null,null,"그 밖의 자료"]
[null,null,null,null,null,null,null,null,null,null,null,null,null,null,null,null,null,null,null,null,null,null,null,null,"국세청자료"]
[null,null,null,null,null,null,null,null,null,null,null,null,null,null,null,null,null,null,null,null,null,null,null,null,"그 밖의 자료"]
[null,null,null,null,"직불ㆍ선불카드(전통시장ㆍ대중교통사용분 제외)",{"$f":"#REF!","v":{"$error":"#REF!"}},"원",null,null,null,null,"⑤-1 합   계   액",null,null,null,null,null,null,null,null,null,null,null,null,null,null,{"$f":"신고서!AD128","v":17700000},null,null,{"$f":"신고서!AD122","v":12000000},null,null,{"$f":"신고서!AD124","v":4500000},null,null,{"$f":"신고서!AD123","v":0},null,{"$f":"신고서!AD125","v":0},null,null,null,{"$f":"신고서!AD126","v":0},null,null,{"$f":"신고서!AD127","v":1200000}]
[null,null,null,null,"현금영수증(전통시장ㆍ대중교통사용분 제외)",{"$f":"#REF!","v":{"$error":"#REF!"}},"원",null,null,null,null,"2. 신용카드등소득공제금액의 계산"]
[null,null,null,null,"전통시장사용분",{"$f":"#REF!","v":{"$error":"#REF!"}},"원",null,null,null,null,"⑫ 신용카드\n사용분 공제금액\n(⑥×15%)",null,null,null,"⑬직불카드등\n사용분 공제금액\n(⑦+⑧)×30%",null,null,null," ⑭도서공연\n사용분\n공제금액\n(⑨×30%)",null,null,null,null,"⑮전통시장\n사용분\n공제금액\n(⑩×40%)",null,null,null,null,"⑯대중교통\n이용분\n공제금액\n(⑪×40%)",null,null,null,null,"⑰공제제외금액 계산"]
[null,null,null,null,"대중교통사용분",{"$f":"#REF!","v":{"$error":"#REF!"}},"원",null,null,null,null,null,null,null,null,null,null,null,null,null,null,null,null,null,null,null,null,null,null,null,null,null,null,null,"⑰-1 \n총급여",null,null,null,null,"⑰-2 \n최저사용금액\n(⑰-1×25%) ",null,null,null,"⑰-3 \n공제제외금액"]
[null,null,null,null,"계",{"$f":"#REF!","v":{"$error":"#REF!"}},"원",null,null,null,null,{"$f":"ROUNDDOWN(AD18*0.15,0)","v":1800000},null,null,null,{"$f":"ROUNDDOWN((AG18+AJ18)*0.3,0)","v":1350000},null,null,null,{"$f":"ROUNDDOWN(AL18*0.3,0)","v":0},null,null,null,null,{"$f":"ROUNDDOWN(AP18*0.4,0)","v":0},null,null,null,null,{"$f":"ROUNDDOWN(AS18*0.4,0)","v":480000},null,null,null,null,{"$f":"영수증!Q63","v":25200000},null,null,null,null,{"$f":"ROUNDDOWN(AI22*0.25,0)","v":6300000},null,null,null,{"$f":"IF(AN22<=AD18,AP27,IF(AN22<=(AD18+AG18+AJ18+AL18),AP28,AP29))","v":945000}]
[null,null,null,"우리사주소득공제","우리사주출연금에 대한 소득공제",{"$f":"#REF!","v":{"$error":"#REF!"}},"원",null,null,null,null,"⑱공제가능금액\n[⑫+⑬+⑭+⑮+⑯\n-(⑰-3)]",null,null,null,"⑲공제한도액\n[총급여 수준별 200만원, 250만원, 300만원과 (⑰-1)×20% 중\n적은 금액]",null,null,null,null,"⑳일반 공제금액\n(⑱과 ⑲ 중 적은 금액)",null,null,null,null,"㉑전통시장\n추가 공제금액\n [⑱ > ⑲인 경우에 \n⑱-⑲과 ⑮(한도:100만원) 중 적은 금액]",null,null,null,null,"㉒대중교통 \n추가 공제금액 \n[⑱ > ⑲인 경우에 \n⑱-⑲-㉑과 ⑯\n(한도:100만원) 중 적은 금액] ",null,null,null,null,"㉓도서ㆍ공연 등\n 추가 공제금액\n [⑱ > ⑲인 경우에 \n⑱-⑲-㉑-㉒과 ⑭(한도:100만원) 중 적은 금액]",null,null,null,null,null,"㉔ 최종 공제금액\n(⑳+㉑+㉒+㉓)"]
[null,null,null,"장기주식저축소득공제","장기주식저축에 대한 소득공제",{"$f":"#REF!","v":{"$error":"#REF!"}},"원",null,null,null,null,{"$f":"L22+P22+T22+Y22+AD22-AR22","v":2685000},null,null,null,{"$f":"ROUNDDOWN(IF(AI22>120000000,2000000,IF(AI22>70000000,2500000,MIN(3000000,(AI22*0.2)))),0)","v":3000000},null,null,null,null,{"$f":"MIN(L24,P24)","v":2685000},null,null,null,null,{"$f":"IF(L24>P24,MIN(1000000,MIN(MAX(L24-P24,0),Y22)),0)","v":0},null,null,null,null,{"$f":"IF(L24>P24,MIN(1000000,MIN(MAX((L24-P24-Z24),0),AD22)),0)","v":0},null,null,null,null,{"$f":"IF(L24>P24,MIN(1000000,MIN(MAX((L24-P24-Z24-AE24),0),T22)),0)","v":0},null,null,null,null,null,{"$f":"MAX((U24+Z24+AE24+AJ24),0)","v":2685000}]
[null,null,null,"고용유지 중소기업근로자소득공제","전년대비 임금삭감액",{"$f":"#REF!","v":{"$error":"#REF!"}},"원",null,null,null,null,"⑰-3  계산"]
[null,null,null,"목돈안드는전세이자상환",null,{"$f":"#REF!","v":{"$error":"#REF!"}},"원",null,null,null,null,"구    분",null,null,null,null,null,null,null,null,null,null,null,null,"계산식",null,null,null,null,null,null,null,null,null,null,null,null,null,null,null,null,"⑰-3 "]
[null,null,null,null,null,null,null,null,null,null,null,"⑥ ≥ (⑰-2) ",null,null,null,null,null,null,null,null,null,null,null,null,"(⑰-2)×15%",null,null,null,null,null,null,null,null,null,null,null,null,null,null,null,null,{"$f":"ROUNDDOWN(AN22*0.15,0)","v":945000}]
[null,null,null,null,null,null,null,null,null,null,null," ⑥ + ⑦ + ⑧ + ⑨ ≥ (⑰-2) 〉⑥",null,null,null,null,null,null,null,null,null,null,null,null," ⑥×15% + {(⑰-2) - ⑥}×30%",null,null,null,null,null,null,null,null,null,null,null,null,null,null,null,null,{"$f":"ROUNDDOWN(L22+((AN22-AD18)*0.3),0)","v":90000}]
[null,null,null,null,null,null,null,null,null,null,null,"(⑰-2) > ⑥ + ⑦ + ⑧ + ⑨ ",null,null,null,null,null,null,null,null,null,null,null,null," ⑥×15% + (⑦+⑧+⑨)×30% + {(⑰-2)-⑥-⑦-⑧-⑨}×40%",null,null,null,null,null,null,null,null,null,null,null,null,null,null,null,null,{"$f":"ROUNDDOWN(L22+(AG18+AJ18+AL18)*0.3+(AN22-(AD18+AG18+AJ18+AL18))*0.4,0)","v":-930000}]
[null,null,null,null,null,null,null,null,null,null,null,"  「조세특례제한법 시행령」제121조의2 제8항에 따라 신용카드등사용금액에 대한 소득공제를 신청합니다."]
[null,null,null,null,null,null,null,null,null,null,null,null,null,null,null,null,null,null,null,null,null,null,null,null,null,null,null,null,null,null,null,null,null,null,null,null,null,null,null,"2020년",null,null,"월",null,null,"일"]
[null,null,null,null,null,null,null,null,null,null,null,null,null,null,null,null,null,null,null,null,null,null,null,null,null,null,null,null,null,null,null,"신청인 :",null,null,null,{"$f":"W5","v":"이영화"},null,null,"(서명 또는 인)"]
[null,null,null,null,null,null,null,null,null,null,null,null,null,null,null,null,null,null,null,null,null,null,null,"귀하"]
[]
[null,null,null,null,null,null,null,null,null,null,null,"첨부 서류 ",null,null," 다음 각 호의 어느 하나에 해당하는 서류\n  1. 신용카드등사용금액확인서(별지 제74호의5서식을 말합니다) 1부 및 승차권 등 대중교통이용분임을 증명할 수 있는 서류(대중교통이용분이 있는 경우로 한정합니다)\n  2. 소득공제명세를 일괄적으로 기재하여 국세청장이 발급하는 서류(국세청 연말정산간소화 서비스(www.hometax.go.kr→조회/발급→연말정산간소화)에서 제공하는 연말정산소득공제 명세를 말합니다)",null,null,null,null,null,null,null,null,null,null,null,null,null,null,null,null,null,null,null,null,null,null,null,null,null,null,null,null,"수수료"]
[null,null,null,null,null,null,null,null,null,null,null,null,null,null,null,null,null,null,null,null,null,null,null,null,null,null,null,null,null,null,null,null,null,null,null,null,null,null,null,null,null,null,null,"없음"]
[null,null,null,null,null,null,null,null,null,null,null,null,null,null,null,null,null,null,null,null,null,null,null,null,null,null,null,null,null,null,null,null,null,null,null,null,null,null,null,null,null,null,null,null,null,null,"210mm×297mm"]

{"sheet":"기부금","index":5,"n_rows":15,"n_cols":59,"rows_kept":15,"cut":false,"hidden":false,"merged":[[12,6,12,13],[12,14,12,21],[14,44,14,50],[14,51,14,57],[13,36,13,43],[13,44,13,50],[12,22,12,28],[12,29,12,35],[14,29,14,35],[14,36,14,43],[14,58,14,64],[1,1,1,64],[14,1,14,5],[14,6,14,13],[14,14,14,21],[14,22,14,28],[13,6,13,13],[13,14,13,21],[13,22,13,28],[13,29,13,35],[12,36,12,43],[12,44,12,50],[11,51,11,57],[11,58,11,64],[12,51,13,57],[12,58,13,64],[11,44,11,50],[9,51,9,57],[9,58,9,64],[10,6,10,13],[10,14,10,21],[10,22,10,28],[10,29,10,35],[10,36,10,43],[10,44,10,50],[10,51,10,57],[10,58,10,64],[11,6,11,13],[11,14,11,21],[11,22,11,28],[11,29,11,35],[11,36,11,43],[8,44,8,50],[8,51,8,57],[8,58,8,64],[9,1,13,5],[9,6,9,13],[9,14,9,21],[9,22,9,28],[9,29,9,35],[9,36,9,43],[9,44,9,50],[8,1,8,5],[8,6,8,13],[8,14,8,21],[8,22,8,28],[8,29,8,35],[8,36,8,43],[6,51,6,57],[6,58,6,64],[7,6,7,13],[7,14,7,21],[7,22,7,28],[7,29,7,35],[7,36,7,43],[7,44,7,50],[7,51,7,57],[7,58,7,64],[6,6,6,13],[6,14,6,21],[6,22,6,28],[6,29,6,35],[6,36,6,43],[6,44,6,50],[4,51,4,57],[4,58,4,64],[5,6,5,13],[5,14,5,21],[5,22,5,28],[5,29,5,35],[5,36,5,43],[5,44,5,50],[5,51,5,57],[5,58,5,64],[3,44,3,50],[3,51,3,57],[3,58,3,64],[4,1,7,5],[4,6,4,13],[4,14,4,21],[4,22,4,28],[4,29,4,35],[4,36,4,43],[4,44,4,50],[3,1,3,5],[3,6,3,13],[3,14,3,21],[3,22,3,28],[3,29,3,35],[3,36,3,43]]}
[]
[null,"기부금 공제 명세"]
[]
[null,"구분",null,null,null,null,"기부금의 구분",null,null,null,null,null,null,null,"2018년 소득공제대상\n이월기부금의 지출연도",null,null,null,null,null,null,null,"기부금액",null,null,null,null,null,null,null,null,null,null,null,null,null,null,null,null,null,null,null,null,null,"소득공제액"]
[null,"기부금\n소득공제\n(이월분)",null,null,null,null,"법정기부금\n(법정, 코드10)",null,null,null,null,null,null,null,"2013년",null,null,null,null,null,null,null,0,null,null,null,null,null,null,null,null,null,null,null,null,null,"법정기부금 한도계산을\n위한 소득금액",null,null,null,null,null,null,null,{"$f":"IF(W5=\"\",0,MIN(W5,AK11))","v":0}]
[null,null,null,null,null,null,"우리사주기부금\n(조특법88의4, 코드42)",null,null,null,null,null,null,null,null,null,null,null,null,null,null,null,0,null,null,null,null,null,null,null,null,null,null,null,null,null,{"$f":"MAX((AK10-AS10),0)","v":16170000}]
[null,null,null,null,null,null,"지정기부금\n(지정, 코드40)",null,null,null,null,null,null,null,"2013년",null,null,null,null,null,null,null,0,null,null,null,null,null,null,null,null,null,null,null,null,null,"지정기부금 한도계산을\n위한 소득금액",null,null,null,null,null,null,null,{"$f":"IF(W7=\"\",0,MIN(W7,AK13-AS5))","v":0}]
[null,null,null,null,null,null,"지정기부금\n(종교단체, 코드41)",null,null,null,null,null,null,null,"2013년",null,null,null,null,null,null,null,0,null,null,null,null,null,null,null,null,null,null,null,null,null,{"$f":"MAX((AK10-AS10-AS11-AS12),0)","v":16170000},null,null,null,null,null,null,null,{"$f":"IF(W8=\"\",0,MIN(W8,AK14-AS5-AS7))","v":0}]
[null,"구분",null,null,null,null,"기부금의 구분",null,null,null,null,null,null,null,"기부금의 지출연도",null,null,null,null,null,null,null,"기부금액",null,null,null,null,null,null,"기부금합계",null,null,null,null,null,null,"한도액",null,null,null,null,null,null,null,"소득공제대상\n(이월포함)",null,null,null,null,null,null,"세액공제대상\n(이월제외)",null,null,null,null,null,null,"세액공제액"]
[null,"기부금\n세액공제",null,null,null,null,"정치자금기부금\n(조특법76, 코드20)",null,null,null,null,null,null,null,"2018년",null,null,null,null,null,null,null,null,null,null,null,null,null,null,{"$f":"W10","v":0},null,null,null,null,null,null,{"$f":"영수증!Q65","v":16170000},null,null,null,null,null,null,null,{"$f":"MIN(AD10,AK10)","v":0},null,null,null,null,null,null,{"$f":"MIN(AK10,AS10)","v":0},null,null,null,null,null,null,{"$f":"ROUNDDOWN(IF(AZ10<=29900000,(AZ10*0.15),(AZ10-29900000)*0.25+4485000),0)","v":0}]
[null,null,null,null,null,null,"법정기부금\n(법정, 코드10)",null,null,null,null,null,null,null,"2014년~2018년",null,null,null,null,null,null,null,null,null,null,null,null,null,null,{"$f":"W11","v":0},null,null,null,null,null,null,{"$f":"MAX(AK10-AS10,0)","v":16170000},null,null,null,null,null,null,null,{"$f":"MIN(AD11,AK11)","v":0},null,null,null,null,null,null,{"$f":"MAX((AS11-AS5),0)","v":0},null,null,null,null,null,null,{"$f":"IF(BG15=0,0,ROUNDDOWN((AZ11/AZ15)*BG15,0))","v":0}]
[null,null,null,null,null,null,"우리사주기부금\n(조특법88의4, 코드42)",null,null,null,null,null,null,null,"2018년",null,null,null,null,null,null,null,0,null,null,null,null,null,null,{"$f":"W12","v":0},null,null,null,null,null,null,{"$f":"MAX((AK10-AS10-AS11)*0.3,0)","v":4851000},null,null,null,null,null,null,null,{"$f":"MIN(AD12,AK12)","v":0},null,null,null,null,null,null,{"$f":"MAX((AS12-AS6),0)","v":0},null,null,null,null,null,null,{"$f":"IF(BG15=0,0,ROUNDDOWN((AZ12/AZ15)*BG15,0))","v":0}]
[null,null,null,null,null,null,"지정기부금\n(지정, 코드40)",null,null,null,null,null,null,null,"2014년~2018년",null,null,null,null,null,null,null,0,null,null,null,null,null,null,{"$f":"W7+W13","v":0},null,null,null,null,null,null,{"$f":"IF(AD14>0,(AK8*0.1)+MIN((AK8*0.2),W13),AK8*0.3)","v":4851000},null,null,null,null,null,null,null,{"$f":"MIN(AD13,AK13)","v":0},null,null,null,null,null,null,{"$f":"MAX(((AS13-AS7)+(AS14-AS8)),0)","v":0},null,null,null,null,null,null,{"$f":"IF(BG15=0,0,ROUNDDOWN((AZ13/AZ15)*BG15,0))","v":0}]
[null,null,null,null,null,null,"지정기부금\n(종교단체, 코드41)",null,null,null,null,null,null,null,"2014년~2018년",null,null,null,null,null,null,null,0,null,null,null,null,null,null,{"$f":"W8+W14","v":0},null,null,null,null,null,null,{"$f":"AK13","v":4851000},null,null,null,null,null,null,null,{"$f":"MIN(AD14,AK14-AS13)","v":0}]
[null,null,null,null,null,null,0,null,null,null,null,null,null,null,null,null,null,null,null,null,null,null,0,null,null,null,null,null,null,null,null,null,null,null,null,null,null,null,null,null,null,null,null,null,{"$f":"SUM(AS10:AY14)","v":0},null,null,null,null,null,null,{"$f":"SUM(AZ11:BF14)","v":0},null,null,null,null,null,null,{"$f":"ROUNDDOWN(IF(AZ15<=20000000,(AZ15*0.15),(AZ15-20000000)*0.3+3000000),0)","v":0}]

{"sheet":"감면","index":6,"n_rows":20,"n_cols":13,"rows_kept":20,"cut":false,"hidden":false,"merged":[[19,3,19,4],[14,3,14,4],[15,3,15,4],[16,3,16,4],[17,3,17,4],[18,3,18,4],[3,2,3,4],[6,6,6,11],[6,2,6,4],[12,3,12,4],[13,3,13,4]]}
[]
[]
[]
[]
[]
[]
[null,null,"세액감면",null,null,null,"감면액 계산 테이블"]
[null,null,"구  분","감면세액 계산식","감면세액",null,null,"산출세액","감면대상금액\n(입력)","총급여액 또는\n종합소득금액","감면율","감면세액"]
[null,null,"해외조광권자 등이 외국인에게 지급하는 급여","종합소득산출세액×(감면대상근로소득금액÷종합소득금액)",null,null,"조광권자",{"$f":"#REF!","v":{"$error":"#REF!"}},null,1,null,{"$f":"(H9*I9/J9)*K9","v":{"$error":"#REF!"}}]
[null,null,"중소기업 취업자 세액감면\n(조세특례제한법 제30조)","산출세액\n×(감면대상총급여액\n÷총급여액)×(50%,70%,90%,100%)",{"$f":"L10","v":0},null,"중소기업\n취업자",{"$f":"영수증!AL65","v":53772},0,{"$f":"영수증!Q63","v":25200000},0.7,{"$f":"ROUNDDOWN((H10*I10/J10)*K10,0)","v":0},{"$f":"ROUNDDOWN(MAX(0, MIN(영수증!AJ71,영수증!AK71))*(1-(감면!I10*감면!K10)/영수증!Q63),0)","v":29574}]
[]
[]
[null,null,"감면대상자/취업일","감면율"]
[null,null,"청년 '12~'13년","100%(한도없음). 단 '18년 이후 90%(150만원 한도)"]
[null,null,"청년 '14~'15년","50%(한도없음). 단 '18년 이후 90%(150만원 한도)"]
[null,null,"청년 '16~'17년","70%(한도없음). 단 '18년 이후 90%(150만원 한도)"]
[null,null,"청년 '18~'21년","90%(150만원 한도)"]
[null,null,"60세이상자 장애인 '14~'15년","50%(한도없음)"]
[null,null,"60세이상자 장애인 '16~'21년","70%(150만원 한도)"]
[null,null,"경력단절여성 '17~'21년","70%(150만원 한도)"]

{"sheet":"영수증","index":7,"n_rows":164,"n_cols":44,"rows_kept":164,"cut":false,"hidden":false,"merged":[[135,31,135,32],[135,33,135,34],[135,35,135,37],[135,38,135,39],[135,40,135,41],[135,42,135,43],[136,23,136,24],[136,25,136,26],[136,27,136,28],[136,29,136,30],[136,31,136,32],[136,33,136,34],[136,35,136,37],[136,38,136,39],[136,40,136,41],[136,42,136,43],[135,23,135,24],[135,25,135,26],[133,42,133,43],[134,23,134,24],[134,25,134,26],[134,27,134,28],[134,29,134,30],[134,31,134,32],[134,33,134,34],[134,35,134,37],[134,38,134,39],[134,40,134,41],[134,42,134,43],[133,23,133,24],[133,25,133,26],[133,27,133,28],[133,29,133,30],[133,31,133,32],[133,33,133,34],[133,35,133,37],[133,38,133,39],[133,40,133,41],[131,42,131,43],[132,23,132,24],[132,25,132,26],[132,27,132,28],[132,29,132,30],[132,31,132,32],[132,33,132,34],[132,35,132,37],[132,38,132,39],[132,40,132,41],[132,42,132,43],[131,23,131,24],[131,25,131,26],[131,27,131,28],[131,29,131,30],[131,31,131,32],[131,33,131,34],[131,35,131,37],[131,38,131,39],[131,40,131,41],[129,42,129,43],[130,23,130,24],[130,25,130,26],[130,27,130,28],[130,29,130,30],[130,31,130,32],[130,33,130,34],[130,35,130,37],[130,38,130,39],[130,40,130,41],[130,42,130,43],[129,23,129,24],[129,25,129,26],[129,27,129,28],[129,29,129,30],[129,31,129,32],[129,33,129,34],[129,35,129,37],[129,38,129,39],[129,40,129,41],[127,42,127,43],[128,23,128,24],[128,25,128,26],[128,27,128,28],[128,29,128,30],[128,31,128,32],[128,33,128,34],[128,35,128,37],[128,38,128,39],[128,40,128,41],[128,42,128,43],[127,23,127,24],[127,25,127,26],[127,27,127,28],[127,29,127,30],[127,31,127,32],[127,33,127,34],[127,35,127,37],[127,38,127,39],[127,40,127,41],[125,42,125,43],[126,23,126,24],[126,25,126,26],[126,27,126,28],[126,29,126,30],[126,31,126,32],[126,33,126,34],[126,35,126,37],[126,38,126,39],[126,40,126,41],[126,42,126,43],[125,23,125,24],[125,25,125,26],[125,27,125,28],[125,29,125,30],[125,31,125,32],[125,33,125,34],[125,35,125,37],[125,38,125,39],[125,40,125,41],[123,42,123,43],[124,23,124,24],[124,25,124,26],[124,27,124,28],[124,29,124,30],[124,31,124,32],[124,33,124,34],[124,35,124,37],[124,38,124,39],[124,40,124,41],[124,42,124,43],[123,23,123,24],[123,25,123,26],[123,27,123,28],[123,29,123,30],[123,31,123,32],[123,33,123,34],[123,35,123,37],[123,38,123,39],[123,40,123,41],[121,42,121,43],[122,23,122,24],[122,25,122,26],[122,27,122,28],[122,29,122,30],[122,31,122,32],[122,33,122,34],[122,35,122,37],[122,38,122,39],[122,40,122,41],[122,42,122,43],[121,23,121,24],[121,25,121,26],[121,27,121,28],[121,29,121,30],[121,31,121,32],[121,33,121,34],[121,35,121,37],[121,38,121,39],[121,40,121,41],[119,42,119,43],[120,23,120,24],[120,25,120,26],[120,27,120,28],[120,29,120,30],[120,31,120,32],[120,33,120,34],[120,35,120,37],[120,38,120,39],[120,40,120,41],[120,42,120,43],[119,23,119,24],[119,25,119,26],[119,27,119,28],[119,29,119,30],[119,31,119,32],[119,33,119,34],[119,35,119,37],[119,38,119,39],[119,40,119,41],[115,25,115,26],[116,23,116,24],[116,25,116,26],[115,27,115,28],[116,27,116,28],[116,29,116,30],[116,31,116,32],[116,33,116,34],[116,35,116,37],[116,38,116,39],[117,42,117,43],[118,23,118,24],[118,25,118,26],[118,27,118,28],[118,29,118,30],[118,31,118,32],[118,33,118,34],[118,35,118,37],[118,38,118,39],[118,40,118,41],[118,42,118,43],[117,23,117,24],[117,25,117,26],[117,27,117,28],[117,29,117,30],[117,31,117,32],[117,33,117,34],[117,35,117,37],[117,38,117,39],[117,40,117,41],[112,1,112,19],[112,20,112,43],[114,42,114,43],[114,40,114,41],[114,38,114,39],[113,40,113,43],[114,23,114,24],[114,25,114,26],[114,27,114,28],[114,29,114,30],[113,20,114,22],[115,20,115,22],[116,20,116,22],[117,20,117,22],[118,20,118,22],[119,20,119,22],[120,20,120,22],[116,40,116,41],[116,42,116,43],[115,29,115,30],[115,31,115,32],[115,33,115,34],[115,38,115,39],[115,40,115,41],[115,42,115,43],[115,35,115,37],[114,31,114,32],[113,23,113,30],[114,33,114,34],[114,35,114,37],[113,31,113,39],[115,23,115,24],[113,16,113,17],[113,18,113,19],[114,16,114,17],[114,18,114,19],[115,16,115,17],[115,18,115,19],[116,16,116,17],[116,18,116,19],[117,16,117,17],[117,18,117,19],[159,1,159,3],[159,4,159,9],[159,10,159,15],[159,16,159,21],[147,4,147,9],[147,10,147,15],[147,16,147,21],[122,1,122,3],[122,4,122,9],[122,10,122,12],[122,13,122,15],[124,13,124,15],[122,18,122,19],[122,16,122,17],[123,16,123,17],[123,18,123,19],[124,16,124,17],[129,20,129,22],[130,20,130,22],[131,20,131,22],[132,20,132,22],[133,20,133,22],[159,22,159,27],[159,28,159,33],[159,34,159,39],[159,40,159,43],[162,34,162,39],[162,40,162,43],[162,1,162,3],[162,4,162,9],[162,10,162,15],[162,16,162,21],[162,22,162,27],[162,28,162,33],[160,34,160,39],[160,40,160,43],[161,1,161,3],[161,4,161,9],[161,10,161,15],[161,16,161,21],[161,22,161,27],[161,28,161,33],[161,34,161,39],[161,40,161,43],[160,1,160,3],[160,4,160,9],[160,10,160,15],[160,16,160,21],[160,22,160,27],[160,28,160,33],[148,34,148,39],[152,34,152,39],[157,40,157,43],[158,1,158,3],[158,4,158,9],[158,10,158,15],[158,16,158,21],[158,22,158,27],[158,28,158,33],[158,34,158,39],[147,28,147,33],[158,40,158,43],[157,1,157,3],[157,4,157,9],[157,10,157,15],[157,16,157,21],[157,22,157,27],[157,28,157,33],[153,34,153,39],[155,34,155,39],[155,40,155,43],[150,34,150,39],[151,34,151,39],[153,10,153,15],[156,40,156,43],[153,28,153,33],[148,28,148,33],[149,28,149,33],[116,13,116,15],[118,1,118,3],[118,4,118,9],[118,10,118,12],[118,13,118,15],[120,4,120,9],[120,10,120,12],[120,13,120,15],[121,1,121,3],[127,16,127,17],[127,18,127,19],[128,16,128,17],[128,18,128,19],[129,16,129,17],[129,18,129,19],[128,1,128,3],[127,1,127,3],[125,4,125,9],[125,10,125,15],[128,4,128,9],[128,10,128,12],[157,34,157,39],[81,16,82,22],[97,16,98,22],[103,16,104,22],[113,1,113,3],[113,4,113,9],[113,10,113,15],[105,4,105,15],[105,16,105,22],[102,4,102,15],[114,1,114,3],[114,4,114,9],[114,10,114,12],[114,13,114,15],[103,4,104,15],[110,1,110,43],[103,37,103,43],[95,2,107,3],[106,4,106,15],[104,26,104,36],[106,16,106,22],[100,8,100,15],[100,16,100,22],[137,1,137,43],[138,4,138,39],[115,1,115,9],[115,10,115,15],[117,1,117,3],[117,4,117,9],[117,10,117,15],[116,1,116,7],[116,10,116,12],[125,1,125,3],[123,1,123,3],[123,4,123,9],[123,10,123,15],[124,1,124,3],[124,4,124,9],[124,10,124,12],[124,20,124,22],[125,20,125,22],[139,28,140,33],[119,10,119,15],[120,1,120,3],[118,16,118,17],[118,18,118,19],[119,16,119,17],[119,18,119,19],[120,16,120,17],[120,18,120,19],[127,20,127,22],[128,20,128,22],[134,20,134,22],[135,20,135,22],[136,20,136,22],[121,20,121,22],[122,20,122,22],[130,16,130,17],[130,18,130,19],[131,16,131,17],[131,18,131,19],[132,16,132,17],[135,27,135,28],[135,29,135,30],[130,10,130,12],[130,13,130,15],[131,1,131,3],[131,4,131,9],[131,10,131,15],[132,13,132,15],[132,4,132,9],[132,10,132,12],[129,1,129,3],[100,28,100,36],[100,37,100,43],[104,37,104,43],[105,26,106,32],[105,33,105,36],[105,37,105,43],[106,37,106,43],[119,1,119,3],[119,4,119,9],[123,20,123,22],[121,4,121,9],[121,10,121,15],[121,16,121,17],[121,18,121,19],[125,16,125,17],[125,18,125,19],[126,16,126,17],[126,18,126,19],[126,1,126,3],[126,4,126,9],[126,10,126,12],[126,13,126,15],[126,20,126,22],[124,18,124,19],[132,18,132,19],[134,1,134,3],[134,4,134,9],[134,10,134,12],[134,13,134,15],[133,1,133,3],[133,4,133,9],[133,10,133,15],[135,1,135,3],[135,4,135,9],[135,10,135,15],[136,1,136,3],[136,4,136,9],[136,10,136,12],[136,13,136,15],[135,16,135,17],[135,18,135,19],[136,16,136,17],[136,18,136,19],[133,16,133,17],[133,18,133,19],[134,16,134,17],[134,18,134,19],[128,13,128,15],[127,4,127,9],[127,10,127,15],[129,4,129,9],[129,10,129,15],[132,1,132,3],[130,1,130,3],[130,4,130,9],[141,28,141,33],[142,28,142,33],[139,34,140,39],[138,40,140,43],[141,40,141,43],[142,40,142,43],[143,40,143,43],[144,40,144,43],[152,40,152,43],[145,40,145,43],[146,40,146,43],[148,40,148,43],[147,22,147,27],[147,40,147,43],[149,40,149,43],[151,40,151,43],[152,22,152,27],[150,40,150,43],[149,34,149,39],[150,22,150,27],[143,28,143,33],[144,28,144,33],[145,28,145,33],[146,28,146,33],[150,28,150,33],[151,28,151,33],[152,28,152,33],[143,34,143,39],[144,34,144,39],[145,34,145,39],[146,34,146,39],[147,34,147,39],[139,4,140,9],[139,10,140,15],[154,34,154,39],[155,1,155,3],[155,4,155,9],[155,10,155,15],[155,16,155,21],[155,22,155,27],[154,28,154,33],[139,16,140,21],[139,22,140,27],[141,1,141,3],[141,4,141,9],[141,10,141,15],[141,16,141,21],[141,22,141,27],[138,1,140,3],[142,1,142,3],[142,4,142,9],[142,10,142,15],[142,16,142,21],[142,22,142,27],[141,34,141,39],[142,34,142,39],[143,16,143,21],[143,22,143,27],[155,28,155,33],[145,1,145,3],[145,4,145,9],[145,10,145,15],[145,16,145,21],[147,1,147,3],[143,4,143,9],[143,10,143,15],[153,22,153,27],[146,1,146,3],[146,4,146,9],[146,10,146,15],[146,16,146,21],[146,22,146,27],[156,1,156,3],[156,4,156,9],[156,10,156,15],[156,16,156,21],[156,22,156,27],[148,1,148,3],[148,4,148,9],[148,10,148,15],[148,16,148,21],[148,22,148,27],[149,1,149,3],[149,4,149,9],[149,10,149,15],[149,16,149,21],[149,22,149,27],[152,10,152,15],[152,16,152,21],[145,22,145,27],[99,16,99,22],[99,33,99,36],[99,37,99,43],[150,1,150,3],[150,4,150,9],[150,10,150,15],[150,16,150,21],[153,16,153,21],[156,34,156,39],[151,1,151,3],[151,4,151,9],[151,10,151,15],[151,16,151,21],[151,22,151,27],[156,28,156,33],[152,1,152,3],[153,40,153,43],[154,1,154,3],[154,4,154,9],[154,10,154,15],[154,16,154,21],[154,22,154,27],[154,40,154,43],[153,1,153,3],[153,4,153,9],[152,4,152,9],[144,1,144,3],[144,4,144,9],[144,10,144,15],[144,16,144,21],[144,22,144,27],[143,1,143,3],[89,13,89,15],[89,16,89,22],[92,6,92,15],[107,4,107,15],[107,16,107,22],[107,26,107,36],[107,37,107,43],[108,2,108,15],[108,16,108,22],[108,23,108,36],[108,37,108,43],[91,37,91,43],[101,4,101,15],[101,16,101,22],[101,28,101,35],[101,37,101,43],[102,16,102,22],[102,26,102,36],[102,37,102,43],[103,26,103,36],[96,4,96,15],[96,16,96,22],[96,29,97,32],[96,33,96,36],[96,37,96,43],[97,4,100,7],[97,8,98,15],[97,33,97,36],[97,37,97,43],[98,29,99,32],[98,37,98,43],[99,8,99,15],[84,12,84,15],[84,16,84,22],[84,28,85,32],[88,10,91,11],[88,12,90,12],[88,13,88,15],[88,16,88,22],[93,37,93,43],[94,2,94,15],[94,16,94,22],[94,29,95,32],[94,33,94,36],[94,37,94,43],[95,4,95,15],[95,16,95,22],[95,33,95,36],[95,37,95,43],[88,28,99,28],[89,33,89,36],[88,29,91,30],[88,31,89,32],[88,33,88,36],[93,33,93,36],[79,6,91,7],[79,8,82,11],[79,12,80,15],[86,37,86,43],[87,12,87,15],[87,16,87,22],[87,33,87,36],[87,37,87,43],[88,37,88,43],[77,8,77,15],[77,16,77,22],[79,37,79,43],[92,16,92,22],[92,29,93,32],[92,33,92,36],[92,37,92,43],[93,6,93,15],[93,16,93,22],[89,37,89,43],[90,13,90,15],[90,16,90,22],[90,31,91,32],[90,33,90,36],[90,37,90,43],[91,13,91,15],[91,16,91,22],[91,33,91,36],[83,8,91,9],[81,37,81,43],[82,30,83,32],[82,33,82,36],[82,37,82,43],[83,12,83,15],[83,16,83,22],[83,33,83,36],[83,37,83,43],[80,26,101,27],[80,28,83,29],[80,30,81,32],[80,33,80,36],[80,37,80,43],[67,37,67,43],[68,37,68,43],[66,6,66,15],[69,16,69,22],[69,26,69,36],[69,37,69,43],[65,23,69,25],[65,26,65,36],[84,33,84,36],[84,37,84,43],[85,12,85,15],[85,16,85,22],[85,33,85,36],[85,37,85,43],[86,12,86,15],[86,16,86,22],[74,37,74,43],[75,8,75,15],[75,16,75,22],[75,33,75,36],[75,37,75,43],[77,37,77,43],[78,8,78,15],[78,16,78,22],[78,28,79,32],[78,33,78,36],[78,37,78,43],[76,8,76,15],[76,16,76,22],[76,28,77,32],[76,33,76,36],[76,37,76,43],[68,3,71,5],[68,6,68,11],[74,8,74,15],[74,16,74,22],[74,26,79,27],[74,28,75,32],[74,33,74,36],[77,3,93,5],[70,37,70,43],[70,16,70,22],[64,37,64,43],[71,6,71,15],[71,16,71,22],[71,26,73,27],[72,3,76,5],[72,6,72,15],[72,16,72,22],[73,6,76,7],[73,8,73,15],[73,37,73,43],[71,34,72,34],[70,23,107,25],[71,28,72,32],[71,33,72,33],[73,16,73,22],[98,33,98,36],[106,33,106,36],[79,16,80,22],[70,26,70,34],[73,28,73,32],[71,35,72,35],[71,36,72,36],[62,16,62,22],[62,37,63,43],[71,37,72,43],[65,2,93,2],[44,1,51,1],[48,35,48,43],[49,4,49,18],[49,19,49,27],[65,37,65,43],[66,37,66,43],[69,6,69,10],[69,13,69,14],[67,6,67,11],[67,16,67,22],[67,26,67,36],[68,16,68,22],[68,26,68,36],[83,10,85,11],[63,16,63,22],[64,2,64,15],[64,16,64,22],[66,16,66,22],[66,26,66,36],[65,16,65,22],[64,23,64,33],[62,23,63,33],[70,6,70,15],[77,33,77,36],[81,12,82,15],[81,33,81,36],[65,3,67,5],[65,6,65,15],[44,19,44,27],[44,28,44,34],[44,35,44,43],[45,2,45,18],[45,19,45,27],[45,28,45,34],[45,35,45,43],[46,2,49,3],[48,10,48,18],[48,19,48,27],[48,28,48,34],[77,6,78,7],[86,10,87,11],[86,28,87,32],[86,33,86,36],[79,33,79,36],[50,2,50,18],[50,19,50,27],[50,28,50,34],[50,35,50,43],[51,2,51,18],[51,19,51,27],[51,28,51,34],[51,35,51,43],[63,2,63,15],[54,12,54,34],[54,37,54,42],[55,31,55,36],[57,4,57,11],[59,1,59,43],[62,1,108,1],[62,2,62,15],[39,15,39,19],[39,20,39,25],[39,26,39,31],[39,32,39,37],[39,38,39,43],[38,2,38,11],[38,12,38,14],[38,15,38,19],[38,20,38,25],[38,26,38,31],[38,32,38,37],[49,28,49,34],[49,35,49,43],[46,4,48,7],[46,8,48,9],[46,10,46,18],[46,19,46,27],[46,28,46,34],[46,35,46,43],[47,10,47,18],[47,19,47,27],[47,28,47,34],[47,35,47,43],[43,32,43,37],[43,38,43,43],[42,2,42,14],[42,15,42,19],[42,20,42,25],[42,26,42,31],[42,32,42,37],[42,38,42,43],[44,2,44,18],[36,2,36,11],[36,12,36,14],[36,15,36,19],[36,20,36,25],[36,26,36,31],[36,32,36,37],[34,32,34,37],[34,38,34,43],[35,2,35,11],[35,12,35,14],[35,15,35,19],[35,20,35,25],[35,26,35,31],[35,32,35,37],[35,38,35,43],[40,38,40,43],[41,2,41,11],[41,12,41,14],[41,15,41,19],[41,20,41,25],[41,26,41,31],[41,32,41,37],[41,38,41,43],[40,2,40,11],[40,12,40,14],[40,15,40,19],[40,20,40,25],[40,26,40,31],[40,32,40,37],[38,38,38,43],[39,2,39,11],[39,12,39,14],[32,32,32,37],[32,38,32,43],[33,2,33,11],[33,12,33,14],[33,15,33,19],[33,20,33,25],[33,26,33,31],[33,32,33,37],[33,38,33,43],[32,1,43,1],[32,2,32,11],[32,12,32,14],[32,15,32,19],[32,20,32,25],[32,26,32,31],[34,2,34,11],[34,12,34,14],[34,15,34,19],[34,20,34,25],[34,26,34,31],[43,2,43,14],[43,15,43,19],[43,20,43,25],[43,26,43,31],[36,38,36,43],[37,2,37,11],[37,12,37,14],[37,15,37,19],[37,20,37,25],[37,26,37,31],[37,32,37,37],[37,38,37,43],[31,2,31,14],[31,15,31,19],[31,20,31,25],[31,26,31,31],[31,32,31,37],[31,38,31,43],[30,2,30,14],[30,15,30,19],[30,20,30,25],[30,26,30,31],[30,32,30,37],[30,38,30,43],[29,2,29,14],[29,15,29,19],[29,20,29,25],[29,26,29,31],[29,32,29,37],[29,38,29,43],[28,2,28,14],[28,15,28,19],[28,20,28,25],[28,26,28,31],[28,32,28,37],[28,38,28,43],[27,2,27,14],[27,15,27,19],[27,20,27,25],[27,26,27,31],[27,32,27,37],[27,38,27,43],[26,2,26,14],[26,15,26,19],[26,20,26,25],[26,26,26,31],[26,32,26,37],[26,38,26,43],[25,15,25,19],[25,20,25,25],[25,26,25,31],[25,32,25,37],[25,38,25,43],[24,2,24,14],[24,15,24,19],[24,20,24,25],[24,26,24,31],[24,32,24,37],[24,38,24,43],[20,15,20,19],[20,20,20,25],[20,26,20,31],[20,32,20,37],[20,38,20,43],[23,2,23,14],[23,15,23,19],[23,20,23,25],[23,26,23,31],[23,32,23,37],[23,38,23,43],[22,2,22,14],[22,15,22,19],[22,20,22,25],[22,26,22,31],[22,32,22,37],[22,38,22,43],[10,37,10,43],[12,6,12,14],[12,15,12,25],[12,26,12,33],[12,34,12,43],[13,6,13,14],[13,15,13,25],[18,32,18,35],[18,36,18,37],[18,38,18,41],[18,42,18,43],[19,1,31,1],[19,2,19,14],[19,15,19,19],[19,20,19,25],[19,26,19,31],[19,32,19,37]],"merged_total":1047,"flags":["merged_cut"]}
[]
[null,"■ 소득세법 시행규칙 [별지 제24호서식(1)] <개정(안) 2019. 12. 31.>",null,null,null,null,null,null,null,null,null,null,null,null,null,null,null,null,null,null,null,null,null,null,null,null,null,null,null,null,null,null,null,null,null,null,null,null,null,null,null,null,null,"(제1쪽)"]
[]
[null,null,"관리\n번호",null,null,null,null,null,null,null,null,null,null,null,null,null,null,null,null,null,null,null,null,null,null,null,null,null,null,null,null,null,null,"거주구분",null,null,null,"거주자1",null,null,null,"비거주자2"]
[null,null,null,null,null,null,null,null,null,null,null,null,null,null,null,null,null,"근로소득 원천징수영수증",null,null,null,null,null,null,null,null,null,null,null,null,null,null,null,"거주지국",null,null,{"$f":"신고서!AH10","v":"한국"},null,"거주지국코드",null,null,null,{"$f":"신고서!AQ10","v":"KR"}]
[null,null,null,null,null,null,null,null,null,null,null,null,null,null,null,null,null,"근 로 소 득 지 급 명 세 서",null,null,null,null,null,null,null,null,null,null,null,null,null,null,null,"내외국인",null,null,true,"내국인1",null,null,{"$f":"IF(#REF!=9,TRUE,FALSE)","v":{"$error":"#REF!"}},"외국인9"]
[null,null,null,null,null,null,null,null,null,null,null,null,null,null,null,null,null,null,null,null,null,null,null,null,null,null,null,null,null,null,null,null,null,"외국인단일세율적용",null,null,null,null,null,false,"여1",true,"부2"]
[null,null,null,null,null,null,null,null,null,null,null,null,null,"(",null," 소득자보관용",null,null,null,null,"발행자보관용",null,null,null,null,null,"발행자보고용)",null,null,null,null,null,null,"외국법인소속파견근로자여부",null,null,null,null,null,false,"여1",true,"부2"]
[null,null,null,null,null,null,null,null,null,null,null,null,null,null,null,null,null,null,null,null,null,null,null,null,null,null,null,null,null,null,null,null,null,"국적",null,null,{"$f":"신고서!AH7","v":"한국"},null,"국적코드",null,null,null,{"$f":"신고서!AQ7","v":"KR"}]
[null,null,null,null,null,null,null,null,null,null,null,null,null,null,null,null,null,null,null,null,null,null,null,null,null,null,null,null,null,null,null,null,null,"세대주여부",null,null,null,"세대주1",null,null,null,"  세대원2"]
[null,null,null,null,null,null,null,null,null,null,null,null,null,null,null,null,null,null,null,null,null,null,null,null,null,null,null,null,null,null,null,null,null,"연말정산구분",null,null,null,"계속근로1, 중도퇴사2"]
[]
[null,"징수\n의무자",null,null,null,null,"(1) 법 인 명 (상 호)",null,null,null,null,null,null,null,null,{"$f":"기본사항!$G$14","v":"(주)조세통람"},null,null,null,null,null,null,null,null,null,null,"(2) 대 표 자(성명)",null,null,null,null,null,null,null,{"$f":"기본사항!$G$15","v":"김철수"}]
[null,null,null,null,null,null,"(3) 사업자등록번호",null,null,null,null,null,null,null,null,{"$f":"기본사항!$G$16","v":"203-81-11111"},null,null,null,null,null,null,null,null,null,null,"(4) 주 민 등 록 번 호",null,null,null,null,null,null,null,{"$f":"기본사항!$G$17","v":"123456-1234567"}]
[null,null,null,null,null,null,"(3)-1 사업자단위과세자 여부",null,null,null,null,null,null,null,null,"여1   /      부1",null,null,null,null,null,false,null,null,null,null,"(3)-2 종사업장 일련번호"]
[null,null,null,null,null,null,"(5) 소 재 지 (주 소)",null,null,null,null,null,null,null,null,{"$f":"기본사항!$G$18","v":"서울 중구 동호로14길 5-6"},null,null,null,null,null,true]
[null,"소득자",null,null,null,null,"(6) 성      명",null,null,null,null,null,null,null,null,{"$f":"기본사항!$G$7","v":"이영화"},null,null,null,null,null,null,null,null,null,null,"(7) 주 민 등 록 번 호",null,null,null,null,null,null,null,{"$f":"기본사항!$G$8","v":"123456-1234567"}]
[null,null,null,null,null,null,"(8) 주      소",null,null,null,null,null,null,null,null,{"$f":"기본사항!$G$9","v":"서울 중구 다산로11길 25"}]
[]
[null,"Ⅰ 근무처별소득명세","구   분",null,null,null,null,null,null,null,null,null,null,null,null,"주(현)",null,null,null,null,"종(전)",null,null,null,null,null,"종(전)",null,null,null,null,null,"(16)-1납세조합",null,null,null,null,null,"합 계"]
[null,null,"(9) 근  무  처  명",null,null,null,null,null,null,null,null,null,null,null,null,{"$f":"P13","v":"(주)조세통람"},null,null,null,null,{"$f":"급여내역!M22","v":"㈜우인"},null,null,null,null,null,{"$f":"급여내역!M29","v":0},null,null,null,null,null,{"$f":"급여내역!M36","v":0}]
[null,null,"(10) 사업자등록번호",null,null,null,null,null,null,null,null,null,null,null,null,{"$f":"P14","v":"203-81-11111"},null,null,null,null,{"$f":"급여내역!AI22","v":"101-81-22222"},null,null,null,null,null,{"$f":"급여내역!AI29","v":0},null,null,null,null,null,{"$f":"급여내역!AI36","v":0}]
[null,null,"(11) 근무기간",null,null,null,null,null,null,null,null,null,null,null,null,{"$f":"TEXT(급여내역!BG4,\"yy/mm/dd\")&\"~\"&TEXT(급여내역!BO4,\"yy/mm/dd\")","v":"18/01/01~18/12/31"},null,null,null,null,{"$f":"IF(급여내역!BG22=\"\",\"\",TEXT(급여내역!BG22,\"yy/mm/dd\")&\"~\"&TEXT(급여내역!BO22,\"yy/mm/dd\"))","v":""},null,null,null,null,null,{"$f":"IF(급여내역!BG29=\"\",\"\",TEXT(급여내역!BG29,\"yy/mm/dd\")&\"~\"&TEXT(급여내역!BO29,\"yy/mm/dd\"))","v":""},null,null,null,null,null,{"$f":"IF(급여내역!BG36=\"\",\"\",TEXT(급여내역!BG36,\"yy/mm/dd\")&\"~\"&TEXT(급여내역!BO36,\"yy/mm/dd\"))","v":""},null,null,null,null,null,"~"]
[null,null,"(12) 감면기간",null,null,null,null,null,null,null,null,null,null,null,null,"~",null,null,null,null,"~",null,null,null,null,null,"~",null,null,null,null,null,"~",null,null,null,null,null,"~"]
[null,null,"(13) 급          여",null,null,null,null,null,null,null,null,null,null,null,null,{"$f":"급여내역!H20","v":25200000},null,null,null,null,{"$f":"급여내역!H26","v":0},null,null,null,null,null,{"$f":"급여내역!H33","v":0},null,null,null,null,null,{"$f":"급여내역!H40","v":0},null,null,null,null,null,{"$f":"SUM(P25:AL25)","v":25200000}]
[null,null,"(14) 상          여",null,null,null,null,null,null,null,null,null,null,null,null,{"$f":"급여내역!M20","v":0},null,null,null,null,{"$f":"급여내역!M26","v":0},null,null,null,null,null,{"$f":"급여내역!M33","v":0},null,null,null,null,null,{"$f":"급여내역!M40","v":0},null,null,null,null,null,0]
[null,null,"(15) 인  정  상  여",null,null,null,null,null,null,null,null,null,null,null,null,{"$f":"급여내역!Q20","v":0},null,null,null,null,{"$f":"급여내역!Q26","v":0},null,null,null,null,null,{"$f":"급여내역!Q33","v":0},null,null,null,null,null,{"$f":"급여내역!Q40","v":0},null,null,null,null,null,0]
[null,null,"(15)-1 주식매수선택권 행사이익",null,null,null,null,null,null,null,null,null,null,null,null,{"$f":"급여내역!U20","v":0},null,null,null,null,{"$f":"급여내역!U26","v":0},null,null,null,null,null,{"$f":"급여내역!U33","v":0},null,null,null,null,null,{"$f":"급여내역!U40","v":0},null,null,null,null,null,0]
[null,null,"(15)-2 우리사주조합인출금",null,null,null,null,null,null,null,null,null,null,null,null,{"$f":"급여내역!V20","v":0},null,null,null,null,{"$f":"급여내역!V26","v":0},null,null,null,null,null,{"$f":"급여내역!V33","v":0},null,null,null,null,null,{"$f":"급여내역!V40","v":0},null,null,null,null,null,0]
[null,null,"(15)-3 임원 퇴직소득금액 한도초과액",null,null,null,null,null,null,null,null,null,null,null,null,{"$f":"급여내역!W20","v":0},null,null,null,null,{"$f":"급여내역!W26","v":0},null,null,null,null,null,{"$f":"급여내역!W33","v":0},null,null,null,null,null,{"$f":"급여내역!W40","v":0},null,null,null,null,null,0]
[null,null,"(15)-4 직무발명보상금",null,null,null,null,null,null,null,null,null,null,null,null,{"$f":"급여내역!X20","v":0},null,null,null,null,{"$f":"급여내역!X26","v":0},null,null,null,null,null,{"$f":"급여내역!X33","v":0},null,null,null,null,null,{"$f":"급여내역!X40","v":0},null,null,null,null,null,0]
[null,null,"(16) 계",null,null,null,null,null,null,null,null,null,null,null,null,{"$f":"SUM(P25:T31)","v":25200000},null,null,null,null,{"$f":"SUM(U25:Z31)","v":0},null,null,null,null,null,{"$f":"SUM(AA25:AF31)","v":0},null,null,null,null,null,{"$f":"SUM(AG25:AL31)","v":0},null,null,null,null,null,{"$f":"SUM(AM25:AR31)","v":25200000}]
[null,"Ⅱ 비과세및감면소득명세","(18) 국외근로",null,null,null,null,null,null,null,null,null,"M0X",null,null,{"$f":"급여내역!BB20","v":0},null,null,null,null,{"$f":"급여내역!BB26","v":0},null,null,null,null,null,{"$f":"급여내역!BB33","v":0},null,null,null,null,null,{"$f":"급여내역!BB40","v":0},null,null,null,null,null,{"$f":"SUM(P33:AL33)","v":0}]
[null,null,"(18)-1 야간근로수당",null,null,null,null,null,null,null,null,null,"O0X",null,null,{"$f":"급여내역!BK20","v":0},null,null,null,null,{"$f":"급여내역!BK26","v":0},null,null,null,null,null,{"$f":"급여내역!BK33","v":0},null,null,null,null,null,{"$f":"급여내역!BK40","v":0},null,null,null,null,null,{"$f":"SUM(P34:AL34)","v":0}]
[null,null,"(18)-2 출산.보육수당",null,null,null,null,null,null,null,null,null,"Q0X",null,null,{"$f":"급여내역!BO20","v":0},null,null,null,null,{"$f":"급여내역!BO26","v":0},null,null,null,null,null,{"$f":"급여내역!BO33","v":0},null,null,null,null,null,{"$f":"급여내역!BO40","v":0},null,null,null,null,null,{"$f":"SUM(P35:AL35)","v":0}]
[null,null,"(18)-4 연구보조비",null,null,null,null,null,null,null,null,null,"H0X",null,null,{"$f":"급여내역!BF20","v":0},null,null,null,null,{"$f":"급여내역!BF26","v":0},null,null,null,null,null,{"$f":"급여내역!BF33","v":0},null,null,null,null,null,{"$f":"급여내역!BF40","v":0},null,null,null,null,null,0]
[null,null,"(18)-5",null,null,null,null,null,null,null,null,null,null,null,null,null,null,null,null,null,null,null,null,null,null,null,null,null,null,null,null,null,null,null,null,null,null,null,0]
[null,null,"(18)-6 ",null,null,null,null,null,null,null,null,null,null,null,null,null,null,null,null,null,null,null,null,null,null,null,null,null,null,null,null,null,null,null,null,null,null,null,0]
[null,null," ~ ",null,null,null,null,null,null,null,null,null,null,null,null,null,null,null,null,null,null,null,null,null,null,null,null,null,null,null,null,null,null,null,null,null,null,null,0]
[null,null,"(18)-33",null,null,null,null,null,null,null,null,null,null,null,null,null,null,null,null,null,null,null,null,null,null,null,null,null,null,null,null,null,null,null,null,null,null,null,0]
[null,null,"(18)-34",null,null,null,null,null,null,null,null,null,null,null,null,null,null,null,null,null,null,null,null,null,null,null,null,null,null,null,null,null,null,null,null,null,null,null,{"$f":"SUM(P41:AL41)","v":0}]
[null,null,"(19) 수련보조수당",null,null,null,null,null,null,null,null,null,"Y22",null,null,null,null,null,null,null,null,null,null,null,null,null,null,null,null,null,null,null,null,null,null,null,null,null,0]
[null,null,"(20) 비과세소득 계",null,null,null,null,null,null,null,null,null,null,null,null,{"$f":"SUM(P33:T42)","v":0},null,null,null,null,{"$f":"SUM(U33:Z42)","v":0},null,null,null,null,null,{"$f":"SUM(AA33:AF42)","v":0},null,null,null,null,null,{"$f":"SUM(AG33:AL42)","v":0},null,null,null,null,null,{"$f":"SUM(P43:AL43)","v":0}]
[null,null,"(20)-1 감면소득 계"]
[null,"Ⅲ 세액명세","구       분",null,null,null,null,null,null,null,null,null,null,null,null,null,null,null,null,"(78) 소 득 세",null,null,null,null,null,null,null,null,"(79) 지 방 소 득 세",null,null,null,null,null,null,"(80) 농 어 촌 특 별 세"]
[null,null,"(72)   결   정   세   액",null,null,null,null,null,null,null,null,null,null,null,null,null,null,null,null,{"$f":"AL109","v":0},null,null,null,null,null,null,null,null,{"$f":"ROUNDDOWN(T46*0.1,0)","v":0},null,null,null,null,null,null,{"$f":"ROUNDDOWN(AL104*0.2,0)","v":0}]
[null,null,"기납부세액",null,"(73)종(전)근무지(결정세액란의 세액기재)",null,null,null,"사업자등록번호",null,{"$f":"급여내역!AI22","v":"101-81-22222"},null,null,null,null,null,null,null,null,{"$f":"급여내역!AL26","v":0},null,null,null,null,null,null,null,null,{"$f":"급여내역!AP26","v":0},null,null,null,null,null,null,{"$f":"급여내역!AT26","v":0}]
[null,null,null,null,null,null,null,null,null,null,{"$f":"급여내역!AI29","v":0},null,null,null,null,null,null,null,null,{"$f":"급여내역!AL33","v":0},null,null,null,null,null,null,null,null,{"$f":"급여내역!AP33","v":0},null,null,null,null,null,null,{"$f":"급여내역!AT33","v":0}]
[null,null,null,null,null,null,null,null,null,null,{"$f":"급여내역!AI36","v":0},null,null,null,null,null,null,null,null,{"$f":"급여내역!AL40","v":0},null,null,null,null,null,null,null,null,{"$f":"급여내역!AP40","v":0},null,null,null,null,null,null,{"$f":"급여내역!AT40","v":0}]
[null,null,null,null,"(74)주(현)근무지",null,null,null,null,null,null,null,null,null,null,null,null,null,null,{"$f":"급여내역!AL20","v":272880},null,null,null,null,null,null,null,null,{"$f":"급여내역!AP20","v":27240},null,null,null,null,null,null,{"$f":"급여내역!AT20","v":0}]
[null,null,"(75) 납부특례세액"]
[null,null,"(76)차감징수세액((72)-(73)-(74)-(75))",null,null,null,null,null,null,null,null,null,null,null,null,null,null,null,null,{"$f":"IF(ROUNDDOWN(T46-T47-T48-T49-T50-T51,-1)<0,ROUNDDOWN(T46-T47-T48-T49-T50-T51,-1),IF(ROUNDDOWN(T46-T47-T48-T49-T50-T51,-1)>=1000,ROUNDDOWN(T46-T47-T48-T49-T50-T51,-1),0))","v":-272880},null,null,null,null,null,null,null,null,{"$f":"IF(ROUNDDOWN(AC46-AC47-AC48-AC49-AC50-AC51,-1)<0,ROUNDDOWN(AC46-AC47-AC48-AC49-AC50-AC51,-1),IF(ROUNDDOWN(AC46-AC47-AC48-AC49-AC50-AC51,-1)>=1000,ROUNDDOWN(AC46-AC47-AC48-AC49-AC50-AC51,-1),0))","v":-27240},null,null,null,null,null,null,{"$f":"IF(ROUNDDOWN(AJ46-AJ47-AJ48-AJ49-AJ50-AJ51,-1)<0,ROUNDDOWN(AJ46-AJ47-AJ48-AJ49-AJ50-AJ51,-1),IF(ROUNDDOWN(AJ46-AJ47-AJ48-AJ49-AJ50-AJ51,-1)>=1000,ROUNDDOWN(AJ46-AJ47-AJ48-AJ49-AJ50-AJ51,-1),0))","v":0}]
[null,null,null,null,null,null,null,null,null,null,"위의 원천징수액(근로소득)을 정히 영수(지급)합니다"]
[]
[null,null,null,null,null,null,null,null,null,null,null,null,{"$f":"기본사항!G19","v":"2020-02-28"}]
[null,null,null,null,null,null,null,null,null,null,null,null,null,null,null,null,null,null,null,null,null,null,null,"징수(보고)의무자",null,null,null,null,null,null,null,{"$f":"기본사항!G15","v":"김철수"},null,null,null,null,null,null,null,null,null,null,"(서명 또는 인)"]
[]
[null,null,null,null,{"$f":"기본사항!G20","v":"중부세무서장"},null,null,null,null,null,null,null,"귀하"]
[]
[]
[null,null,null,null,null,null,null,null,null,null,null,null,null,null,null,null,null,null,null,null,null,null,null,null,null,null,null,null,null,null,null,null,null,null,null,null,null,null,null,null,null,null,null,"210㎜×297㎜"]
[null,null,null,null,null,null,null,null,null,null,null,null,null,null,null,null,null,null,null,null,null,null,null,null,null,null,null,null,null,null,null,null,null,null,null,null,null,null,null,null,null,null,null,"(제2쪽)"]
[null,"Ⅳ    정      산       명       세","(21)  총 급 여 ((16), 다만 외국인단일세율 적용시에는 연간 근로소득)",null,null,null,null,null,null,null,null,null,null,null,null,null,{"$f":"AM32","v":25200000},null,null,null,null,null,null,"(48) 종합소득과세표준",null,null,null,null,null,null,null,null,null,null,null,null,null,{"$f":"Q95-Q108+Q109","v":896200}]
[null,null,"(22)  근 로 소 득 공 제",null,null,null,null,null,null,null,null,null,null,null,null,null,{"$f":"ROUNDDOWN(IF(Q63>100000000,(Q63*0.02+12750000),IF(Q63>45000000,(Q63*0.05+9750000),IF(Q63>15000000,(Q63*0.15+5250000),IF(Q63>5000000,(Q63*0.4+1500000),IF(Q63>0,(Q63*0.7)))))),0)","v":9030000}]
[null,null,"(23)  근 로 소 득 금 액",null,null,null,null,null,null,null,null,null,null,null,null,null,{"$f":"Q63-Q64","v":16170000},null,null,null,null,null,null,"(49)  산     출     세     액",null,null,null,null,null,null,null,null,null,null,null,null,null,{"$f":"ROUNDDOWN(IF(AL63>500000000,(AL63*0.42-35400000),IF(AL63>300000000,(AL63*0.4-25400000),IF(AL63>150000000,(AL63*0.38-19400000),IF(AL63>88000000,(AL63*0.35-14900000),IF(AL63>46000000,(AL63*0.24-5220000),IF(AL63>12000000,(AL63*0.15-1080000),IF(AL63>0,(AL63*0.06)))))))),0)","v":53772}]
[null,null,"종합소득공제","기   본   공   제",null,null,"(24) 본인",null,null,null,null,null,null,null,null,null,{"$f":"MIN(IF(인적공제!E7=\"\",\"\",1500000),Q65)","v":1500000},null,null,null,null,null,null,"세   액   감   면",null,null,"(50) 소  득  세  법",null,null,null,null,null,null,null,null,null,null,0]
[null,null,null,null,null,null,"(25) 배우자",null,null,null,null,null,null,null,null,null,{"$f":"MIN(IF(인적공제!N8=0,0,1500000),MAX(Q65-Q66,0))","v":1500000},null,null,null,null,null,null,null,null,null,"(51) 조세특례제한법((52) 제외)",null,null,null,null,null,null,null,null,null,null,0]
[null,null,null,null,null,null,"(26) 부양가족     (",null,null,null,null,null,{"$f":"인적공제!G17-인적공제!G7-인적공제!N8","v":3},")","명",null,{"$f":"MIN((M68*1500000),MAX(Q65-SUM(Q66:W67)))","v":4500000},null,null,null,null,null,null,null,null,null,"(52) 조세특례제한법 제30조",null,null,null,null,null,null,null,null,null,null,{"$f":"IF(감면!E10=\"\",0,MIN(감면!E10,MAX((AL65-SUM(AL66:AR67)),0)))","v":0}]
[null,null,null,"추   가   공   제",null,null,"(27) 경로우대     (",null,null,null,null,null,{"$f":"인적공제!M17","v":1},")","명",null,{"$f":"MIN(M69*1000000,MAX(Q65-SUM(Q66:W68),0))","v":1000000},null,null,null,null,null,null,null,null,null,"(53)  조  세  조  약",null,null,null,null,null,null,null,null,null,null,0]
[null,null,null,null,null,null,"(28) 장애인     (",null,null,null,null,{"$f":"인적공제!K17","v":0},")","명",null,null,{"$f":"MIN(L70*2000000,MAX(Q65-SUM(Q66:W69),0))","v":0},null,null,null,null,null,null,null,null,null,"(54)  세 액 감 면 계",null,null,null,null,null,null,null,null,null,null,{"$f":"SUM(AL66:AR69)","v":0}]
[null,null,null,null,null,null,"(29) 부녀자",null,null,null,null,null,null,null,null,null,{"$f":"IF(Q65<=30000000,MIN(IF(인적공제!O8=1,500000,0),MAX(Q65-SUM(Q66:W70),0)),0)","v":0},null,null,null,null,null,null,"세   액   공   제",null,null,"(55)  근로소득",null,null,null,null,null,null,null,null,{"$f":"ROUNDDOWN(IF(AL65>1300000,(AL65*0.3+325000),AL65*0.55),0)","v":29574},{"$f":"ROUNDDOWN(IF(Q63>70000000,MAX(500000,(660000-(Q63-70000000)*0.5)),IF(Q63>33000000,MAX(660000,(740000-(Q63-33000000)*0.008)),740000)),0)","v":740000},{"$f":"IF(AL68>0,감면!M10,MIN(MIN(AJ71,AK71),MAX((AL65-AL70),0)))","v":29574}]
[null,null,null,null,null,null,"(30) 한 부 모 가 족",null,null,null,null,null,null,null,null,null,{"$f":"MIN(IF(인적공제!O9=1,1000000,0),MAX(Q65-SUM(Q66:W71),0))","v":0},null,null,null,null,null,null,null,null,null,"(56)  자녀",null,"공제대상자녀",null,null,null,null,"(",{"$f":"인적공제!O7","v":3},")","명",{"$f":"MIN(IF(AI72=1,150000,IF(AI72=2,300000,IF(AI72>2,((AI72-2)*300000+300000),0))),MAX((AL65-AL70-AL71),0))","v":24198}]
[null,null,null,"연\n금\n보\n험\n료\n공\n제",null,null,"(31) 국민연금보험료",null,null,null,null,null,null,null,null,null,{"$f":"MIN(신고서!AP86+신고서!AP87,MAX(Q65-SUM(Q66:W72),0))","v":1134000}]
[null,null,null,null,null,null,"(32)\n공적\n연금\n보험료공제",null,"㉮공무원연금",null,null,null,null,null,null,null,{"$f":"MIN(신고서!AP88+신고서!AP89,MAX(Q65-SUM(Q66:W73),0))","v":300000},null,null,null,null,null,null,null,null,null,null,null,"출산·입양자 ",null,null,null,null,"(",{"$f":"인적공제!I17","v":0},")","명",{"$f":"IF(AI74>=1,인적공제!J17*100000,0)","v":0}]
[null,null,null,null,null,null,null,null,"㉯군인연금",null,null,null,null,null,null,null,null,null,null,null,null,null,null,null,null,null,"연금\n계좌",null,"(57)과학기술인\n공제",null,null,null,null,"공제대상금액",null,null,null,{"$f":"신고서!AJ150","v":0}]
[null,null,null,null,null,null,null,null,"㉰사립학교교직원연금",null,null,null,null,null,null,null,null,null,null,null,null,null,null,null,null,null,null,null,null,null,null,null,null,"세액공제액",null,null,null,{"$f":"IF(Q63<=55000000,ROUNDDOWN(AL75*0.15,0),ROUNDDOWN(AL75*0.12,0))","v":0}]
[null,null,null,null,null,null,null,null,"㉱별정우체국연금",null,null,null,null,null,null,null,null,null,null,null,null,null,null,null,null,null,null,null,"(58)「근로자퇴직급여 보장법」에 따른 퇴직연금",null,null,null,null,"공제대상금액",null,null,null,{"$f":"신고서!AJ151","v":0}]
[null,null,null,"특   별  소  득   공   제",null,null,"(33)\n보험료",null,"㉮건강보험료\n(노인장기요양보험료포함)",null,null,null,null,null,null,null,{"$f":"MIN(신고서!AP91+신고서!AP92,MAX(Q65-SUM(Q66:W77),0))","v":933200},null,null,null,null,null,null,null,null,null,null,null,null,null,null,null,null,"세액공제액",null,null,null,{"$f":"IF(Q63<=55000000,ROUNDDOWN(AL77*0.15,0),ROUNDDOWN(AL77*0.12,0))","v":0}]
[null,null,null,null,null,null,null,null,"㉯고용보험료",null,null,null,null,null,null,null,{"$f":"MIN(신고서!AP93+신고서!AP94,MAX(Q65-SUM(Q66:W78),0))","v":201600},null,null,null,null,null,null,null,null,null,null,null,"(59)연금저축",null,null,null,null,"공제대상금액",null,null,null,{"$f":"신고서!AJ152","v":0}]
[null,null,null,null,null,null,"(34)\n주택\n자금",null,"㉮주택임차차입금원리금상환액",null,null,null,"대출기관",null,null,null,{"$f":"MIN(신고서!AP96,MAX(Q65-SUM(Q66:W79),0))","v":1520000},null,null,null,null,null,null,null,null,null,null,null,null,null,null,null,null,"세액공제액",null,null,null,{"$f":"IF(Q63<=55000000,ROUNDDOWN(AL79*0.15,0),ROUNDDOWN(AL79*0.12,0))","v":0}]
[null,null,null,null,null,null,null,null,null,null,null,null,null,null,null,null,null,null,null,null,null,null,null,null,null,null,"특별세액공제",null,"(60)\n보험료",null,"보장성",null,null,"공제대상금액",null,null,null,{"$f":"신고서!AJ154","v":0}]
[null,null,null,null,null,null,null,null,null,null,null,null,"거주자",null,null,null,{"$f":"MIN(신고서!AP97,MAX(Q65-SUM(Q66:W80),0))","v":0},null,null,null,null,null,null,null,null,null,null,null,null,null,null,null,null,"세액공제액",null,null,null,{"$f":"신고서!AR154","v":0}]
[null,null,null,null,null,null,null,null,null,null,null,null,null,null,null,null,null,null,null,null,null,null,null,null,null,null,null,null,null,null,"장애인\n전용\n보장성",null,null,"공제대상금액",null,null,null,{"$f":"신고서!AJ155","v":0}]
[null,null,null,null,null,null,null,null,"㉯\n장기\n주택\n저당\n차입금\n이자\n상환액",null,"2011년이전차입분",null,"15년미만",null,null,null,{"$f":"MIN(신고서!AP98,MAX(Q65-SUM(Q66:W83),0))","v":0},null,null,null,null,null,null,null,null,null,null,null,null,null,null,null,null,"세액공제액",null,null,null,{"$f":"신고서!AR155","v":0}]
[null,null,null,null,null,null,null,null,null,null,null,null,"15년~29년",null,null,null,{"$f":"MIN(신고서!AP99,MAX(Q65-SUM(Q66:W84),0))","v":0},null,null,null,null,null,null,null,null,null,null,null,"(61)의료비",null,null,null,null,"공제대상금액",null,null,null,{"$f":"신고서!AJ161","v":0}]
[null,null,null,null,null,null,null,null,null,null,null,null,"30년이상",null,null,null,{"$f":"MIN(신고서!AP100,MAX(Q65-SUM(Q66:W85),0))","v":0},null,null,null,null,null,null,null,null,null,null,null,null,null,null,null,null,"세액공제액",null,null,null,{"$f":"신고서!AR161","v":0}]
[null,null,null,null,null,null,null,null,null,null,"2012년이후차입분(15년이상)",null,"고정금리이거나 \n비거치상환대출",null,null,null,{"$f":"MIN(신고서!AP101,MAX(Q65-SUM(Q66:W86),0))","v":0},null,null,null,null,null,null,null,null,null,null,null,"(62)교육비",null,null,null,null,"공제대상금액",null,null,null,{"$f":"신고서!AJ168","v":0}]
[null,null,null,null,null,null,null,null,null,null,null,null,"그 밖의 대출",null,null,null,{"$f":"MIN(신고서!AP102,MAX(Q65-SUM(Q66:W87),0))","v":0},null,null,null,null,null,null,null,null,null,null,null,null,null,null,null,null,"세액공제액",null,null,null,{"$f":"신고서!AR168","v":0}]
[null,null,null,null,null,null,null,null,null,null,"2015년\n이후\n차입분",null,"15년\n이상","고정금리이면서,\n비거치상환",null,null,{"$f":"MIN(신고서!AP103,MAX(Q65-SUM(Q66:W88),0))","v":0},null,null,null,null,null,null,null,null,null,null,null,"(63)기부금","㉮\n정치자금기부금",null,"10만원이하",null,"공제대상금액",null,null,null,{"$f":"신고서!AJ169","v":0}]
[null,null,null,null,null,null,null,null,null,null,null,null,null,"고정금리이거나,\n비거치상환",null,null,{"$f":"MIN(신고서!AP104,MAX(Q65-SUM(Q66:W89),0))","v":0},null,null,null,null,null,null,null,null,null,null,null,null,null,null,null,null,"세액공제액",null,null,null,{"$f":"신고서!AR169","v":0}]
[null,null,null,null,null,null,null,null,null,null,null,null,null,"그 밖의 대출",null,null,{"$f":"MIN(신고서!AP105,MAX(Q65-SUM(Q66:W90),0))","v":0},null,null,null,null,null,null,null,null,null,null,null,null,null,null,"10만원초과",null,"공제대상금액",null,null,null,{"$f":"신고서!AJ170","v":0}]
[null,null,null,null,null,null,null,null,null,null,null,null,"10년~15년","고정금리이거나,\n비거치상환",null,null,{"$f":"MIN(신고서!AP106,MAX(Q65-SUM(Q66:W91),0))","v":0},null,null,null,null,null,null,null,null,null,null,null,null,null,null,null,null,"세액공제액",null,null,null,{"$f":"신고서!AR170","v":0}]
[null,null,null,null,null,null,"(35) 기부금(이월분)",null,null,null,null,null,null,null,null,null,{"$f":"MIN(신고서!AP111,MAX(Q65-SUM(Q66:W89),0))","v":0},null,null,null,null,null,null,null,null,null,null,null,null,"㉯ 법정기부금",null,null,null,"공제대상금액",null,null,null,{"$f":"신고서!AJ171","v":0}]
[null,null,null,null,null,null,"(36) 계",null,null,null,null,null,null,null,null,null,{"$f":"IF(Q65=0,0,SUM(Q78:W93))","v":2654800},null,null,null,null,null,null,null,null,null,null,null,null,null,null,null,null,"세액공제액",null,null,null,{"$f":"신고서!AR171","v":0}]
[null,null,"(37) 차 감 소 득 금 액",null,null,null,null,null,null,null,null,null,null,null,null,null,{"$f":"MAX(0,Q65-SUM(Q66:W77)-Q94)","v":3581200},null,null,null,null,null,null,null,null,null,null,null,null,"㉰ 우리사주\n조합기부금",null,null,null,"공제대상금액",null,null,null,{"$f":"신고서!AJ172","v":0}]
[null,null,"그\n밖\n의\n소\n득\n공\n제",null,"(38) 개인연금저축",null,null,null,null,null,null,null,null,null,null,null,{"$f":"MIN(신고서!AP112,Q95)","v":0},null,null,null,null,null,null,null,null,null,null,null,null,null,null,null,null,"세액공제액",null,null,null,{"$f":"신고서!AR172","v":0}]
[null,null,null,null,"(39)소기업·소상공인공제부금",null,null,null,null,null,null,null,null,null,null,null,{"$f":"MIN(신고서!AP113,MAX((Q95-Q96),0))","v":0},null,null,null,null,null,null,null,null,null,null,null,null,"㉱ 지정기부금\n(종교단체외)",null,null,null,"공제대상금액",null,null,null,{"$f":"신고서!AJ173","v":0}]
[null,null,null,null,"(40)주택\n마련저축소득공제",null,null,null,"㉮청약저축",null,null,null,null,null,null,null,{"$f":"MIN(신고서!$AP$114,MAX((Q95-SUM(Q96:Q97)),0))","v":0},null,null,null,null,null,null,null,null,null,null,null,null,null,null,null,null,"세액공제액",null,null,null,{"$f":"신고서!AR173","v":0}]
[null,null,null,null,null,null,null,null,null,null,null,null,null,null,null,null,null,null,null,null,null,null,null,null,null,null,null,null,null,"㉲ 지정기부금\n  (종교단체)",null,null,null,"공제대상금액",null,null,null,{"$f":"신고서!AJ174","v":0}]
[null,null,null,null,null,null,null,null,"㉯주택청약종합저축",null,null,null,null,null,null,null,{"$f":"MIN(신고서!$AP$116,MAX((Q95-SUM(Q96:Q98)),0))","v":0},null,null,null,null,null,null,null,null,null,null,null,null,null,null,null,null,"세액공제액",null,null,null,{"$f":"신고서!AR174","v":0}]
[null,null,null,null,null,null,null,null,"㉰근로자주택마련저축",null,null,null,null,null,null,null,{"$f":"MIN(신고서!$AP$115,MAX((Q95-SUM(Q96:Q100)),0))","v":0},null,null,null,null,null,null,null,null,null,null,null,"(64)계",null,null,null,null,null,null,null,null,{"$f":"AL82+AL84+AL86+AL88+AL90+AL92+AL94+AL96+AL98+AL100","v":0}]
[null,null,null,null,"(41)투자조합출자 등",null,null,null,null,null,null,null,null,null,null,null,{"$f":"MIN(신고서!AP121,MAX((Q95-SUM(Q96:Q101)),0))","v":0},null,null,null,null,null,null,null,null,null,null,null,"(65)표준세액공제",null,null,null,null,null,null,null,{"$f":"(Q78+SUM(Q80:W83)+SUM(Q84:W93))*0.12+AL82+AL84+AL86+AL88+AL94+AL98+AL100+AL107","v":294384},{"$f":"IF(AK102>130000,\"\",130000)","v":""}]
[null,null,null,null,"(42)신용카드등 사용액",null,null,null,null,null,null,null,null,null,null,null,{"$f":"MIN(신고서!$AP$128,MAX((Q95-SUM(Q96:Q102)),0))","v":2685000},null,null,null,null,null,null,null,null,null,"(66)  납 세 조 합 공 제",null,null,null,null,null,null,null,null,null,null,{"$f":"급여내역!P42","v":0}]
[null,null,null,null,"(43) 우리사주조합 출연금",null,null,null,null,null,null,null,null,null,null,null,{"$f":"MIN(신고서!$AP$136,MAX((Q95-SUM(Q96:Q103)),0))","v":0},null,null,null,null,null,null,null,null,null,"(67)  주 택 차 입 금",null,null,null,null,null,null,null,null,null,null,{"$f":"신고서!AP182","v":0}]
[null,null,null,null,null,null,null,null,null,null,null,null,null,null,null,null,null,null,null,null,null,null,null,null,null,null,"(68)  외  국  납  부",null,null,null,null,null,null,null,null,null,null,{"$f":"IF(Q65=0,0,MIN(신고서!AD178,(AL65*(신고서!AP176/영수증!Q65))))","v":0}]
[null,null,null,null,"(44)고용유지 중소기업 근로자",null,null,null,null,null,null,null,null,null,null,null,{"$f":"MIN(신고서!$AP$138,MAX((Q95-SUM(Q96:Q105)),0))","v":0},null,null,null,null,null,null,null,null,null,"(69)  월세액",null,null,null,null,null,null,"공제대상금액",null,null,null,{"$f":"신고서!AD183","v":0}]
[null,null,null,null,"(45)장기집합투자증권저축",null,null,null,null,null,null,null,null,null,null,null,{"$f":"MIN(신고서!AP140,MAX((Q95-SUM(Q96:Q106)),0))","v":0},null,null,null,null,null,null,null,null,null,null,null,null,null,null,null,null,"세액공제액",null,null,null,{"$f":"신고서!AP183","v":0}]
[null,null,null,null,"(46)그밖의소득공제 계",null,null,null,null,null,null,null,null,null,null,null,{"$f":"SUM(Q96:W107)","v":2685000},null,null,null,null,null,null,null,null,null,"(70) 세액공제 계",null,null,null,null,null,null,null,null,null,null,{"$f":"MIN((AL71+AL72+AL74+AL76+AL78+AL80+MAX(AL101,AL102)+AL103+AL104+AL105+AL107),MAX(0,(AL65-AL70)))","v":53772}]
[null,null,"(47) 소득공제 종합한도 초과액",null,null,null,null,null,null,null,null,null,null,null,null,null,{"$f":"MAX((SUM(Q80:W93)+SUM(Q97:W104)-Q102+Q107)-25000000,0)","v":0},null,null,null,null,null,null,"(71) 결 정 세 액( (49)-(54)-(70) )",null,null,null,null,null,null,null,null,null,null,null,null,null,{"$f":"MAX(AL65-AL70-AL108,0)","v":0}]
[null,null,null,null,null,null,null,null,null,null,null,null,null,null,null,null,null,null,null,null,null,null,null,null,null,null,null,null,null,null,null,null,null,null,null,null,null,null,null,null,null,null,null,"210㎜×297㎜"]
[null," (77)소득ㆍ세액공제 명세[인적공제항목은 해당란에 “○”표시(장애인 해당 시 해당 코드 기재)를 하며, 각종 소득공제ㆍ세액공제 항목은 공제를 위하여 실제 지출한 금액을 적습니다.]"]
[]
[null,"인적공제항목",null,null,null,null,null,null,null,null,null,null,null,null,null,null,null,null,null,null,"각종 소득공제ㆍ세액공제 항목"]
[null,"관계코드",null,null,"성명",null,null,null,null,null,"기본공제",null,null,null,null,null,"경로우대",null,"출산입양",null,"자료\n구분",null,null,"보험료",null,null,null,null,null,null,null,"의료비",null,null,null,null,null,null,null,null,"교육비"]
[null,"내ㆍ외\n국인",null,null,"주민등록번호",null,null,null,null,null,"부녀자",null,null,"한부모",null,null,"장애인",null,"6세이하",null,null,null,null,"건강",null,"고용",null,"보장성",null,"장애인\n전용\n보장성",null,"일반",null,"난임",null,"65세이상•장애인  \n건강보험산정\n특례자",null,null,"실손의료\n보험금",null,"일반",null,"장애인\n특수교육"]
[null,"인적공제 항목에 해당하는",null,null,null,null,null,null,null,null,{"$f":"신고서!L17","v":5},null,null,null,null,null,{"$f":"신고서!R17","v":1},null,{"$f":"신고서!U17","v":0},null,"국세청계",null,null,{"$f":"신고서!AB17","v":0},null,{"$f":"신고서!AD17","v":0},null,{"$f":"신고서!AF17","v":0},null,{"$f":"신고서!AH17","v":0},null,{"$f":"신고서!AJ17","v":0},null,{"$f":"신고서!AL17","v":0},null,{"$f":"신고서!AN17","v":0},null,null,{"$f":"신고서!AP17","v":0},null,{"$f":"신고서!AR17","v":0},null,{"$f":"신고서!AT17","v":0}]
[null,"인원수를 기재 (자녀:",null,null,null,null,null,null,{"$f":"신고서!J18","v":3},"명)",{"$f":"신고서!L18","v":""},null,null,{"$f":"신고서!O18","v":""},null,null,{"$f":"신고서!R18","v":0},null,{"$f":"신고서!U18","v":1},null,"기타계",null,null,{"$f":"신고서!AB18","v":883200},null,{"$f":"신고서!AD18","v":201600},null,{"$f":"신고서!AF18","v":0},null,{"$f":"신고서!AH18","v":0},null,{"$f":"신고서!AJ18","v":0},null,{"$f":"신고서!AL18","v":0},null,{"$f":"신고서!AN18","v":0},null,null,{"$f":"신고서!AP18","v":0},null,{"$f":"신고서!AR18","v":0},null,{"$f":"신고서!AT18","v":0}]
[null,{"$f":"신고서!C19","v":"0"},null,null,{"$f":"신고서!F19","v":"이영화"},null,null,null,null,null,{"$f":"신고서!L19","v":"○"},null,null,null,null,null,{"$f":"신고서!R19","v":0},null,{"$f":"신고서!U19","v":0},null,"국세청",null,null,{"$f":"신고서!AB19","v":0},null,{"$f":"신고서!AD19","v":0},null,{"$f":"신고서!AF19","v":0},null,{"$f":"신고서!AH19","v":0},null,{"$f":"신고서!AJ19","v":0},null,{"$f":"신고서!AL19","v":0},null,{"$f":"신고서!AN19","v":0},null,null,{"$f":"신고서!AP19","v":0},null,{"$f":"신고서!AR19","v":0},null,{"$f":"신고서!AT19","v":0}]
[null,{"$f":"신고서!C20","v":1},null,null,{"$f":"신고서!F20","v":"(근로자 본인)"},null,null,null,null,null,{"$f":"신고서!L20","v":0},null,null,{"$f":"신고서!O20","v":0},null,null,{"$f":"신고서!R20","v":0},null,{"$f":"신고서!U20","v":0},null,"기타",null,null,{"$f":"신고서!AB20","v":883200},null,{"$f":"신고서!AD20","v":201600},null,{"$f":"신고서!AF20","v":0},null,{"$f":"신고서!AH20","v":0},null,{"$f":"신고서!AJ20","v":0},null,{"$f":"신고서!AL20","v":0},null,{"$f":"신고서!AN20","v":0},null,null,{"$f":"신고서!AP20","v":0},null,{"$f":"신고서!AR20","v":0},null,{"$f":"신고서!AT20","v":0}]
[null,{"$f":"신고서!C21","v":3},null,null,{"$f":"신고서!F21","v":"조세희"},null,null,null,null,null,{"$f":"신고서!L21","v":"○"},null,null,null,null,null,{"$f":"신고서!R21","v":0},null,{"$f":"신고서!U21","v":0},null,"국세청",null,null,{"$f":"신고서!AB21","v":0},null,{"$f":"신고서!AD21","v":0},null,{"$f":"신고서!AF21","v":0},null,{"$f":"신고서!AH21","v":0},null,{"$f":"신고서!AJ21","v":0},null,{"$f":"신고서!AL21","v":0},null,{"$f":"신고서!AN21","v":0},null,null,{"$f":"신고서!AP21","v":0},null,{"$f":"신고서!AR21","v":0},null,{"$f":"신고서!AT21","v":0}]
[null,{"$f":"신고서!C22","v":1},null,null,{"$f":"신고서!F22","v":"710415-2031653"},null,null,null,null,null,{"$f":"신고서!L22","v":0},null,null,{"$f":"신고서!O22","v":0},null,null,{"$f":"신고서!R22","v":0},null,{"$f":"신고서!U22","v":0},null,"기타",null,null,{"$f":"신고서!AB22","v":0},null,{"$f":"신고서!AD22","v":0},null,{"$f":"신고서!AF22","v":0},null,{"$f":"신고서!AH22","v":0},null,{"$f":"신고서!AJ22","v":0},null,{"$f":"신고서!AL22","v":0},null,{"$f":"신고서!AN22","v":0},null,null,{"$f":"신고서!AP22","v":0},null,{"$f":"신고서!AR22","v":0},null,{"$f":"신고서!AT22","v":0}]
[null,{"$f":"신고서!C23","v":1},null,null,{"$f":"신고서!F23","v":"편람일"},null,null,null,null,null,{"$f":"신고서!L23","v":"○"},null,null,null,null,null,{"$f":"신고서!R23","v":"○"},null,{"$f":"신고서!U23","v":0},null,"국세청",null,null,{"$f":"신고서!AB23","v":0},null,{"$f":"신고서!AD23","v":0},null,{"$f":"신고서!AF23","v":0},null,{"$f":"신고서!AH23","v":0},null,{"$f":"신고서!AJ23","v":0},null,{"$f":"신고서!AL23","v":0},null,{"$f":"신고서!AN23","v":0},null,null,{"$f":"신고서!AP23","v":0},null,{"$f":"신고서!AR23","v":0},null,{"$f":"신고서!AT23","v":0}]
[null,{"$f":"신고서!C24","v":1},null,null,{"$f":"신고서!F24","v":"481103-2019015"},null,null,null,null,null,{"$f":"신고서!L24","v":0},null,null,{"$f":"신고서!O24","v":0},null,null,{"$f":"신고서!R24","v":0},null,{"$f":"신고서!U24","v":0},null,"기타",null,null,{"$f":"신고서!AB24","v":0},null,{"$f":"신고서!AD24","v":0},null,{"$f":"신고서!AF24","v":0},null,{"$f":"신고서!AH24","v":0},null,{"$f":"신고서!AJ24","v":0},null,{"$f":"신고서!AL24","v":0},null,{"$f":"신고서!AN24","v":0},null,null,{"$f":"신고서!AP24","v":0},null,{"$f":"신고서!AR24","v":0},null,{"$f":"신고서!AT24","v":0}]
[null,{"$f":"신고서!C25","v":4},null,null,{"$f":"신고서!F25","v":"이대한"},null,null,null,null,null,{"$f":"신고서!L25","v":"○"},null,null,null,null,null,{"$f":"신고서!R25","v":0},null,{"$f":"신고서!U25","v":0},null,"국세청",null,null,{"$f":"신고서!AB25","v":0},null,{"$f":"신고서!AD25","v":0},null,{"$f":"신고서!AF25","v":0},null,{"$f":"신고서!AH25","v":0},null,{"$f":"신고서!AJ25","v":0},null,{"$f":"신고서!AL25","v":0},null,{"$f":"신고서!AN25","v":0},null,null,{"$f":"신고서!AP25","v":0},null,{"$f":"신고서!AR25","v":0},null,{"$f":"신고서!AT25","v":0}]
[null,{"$f":"신고서!C26","v":1},null,null,{"$f":"신고서!F26","v":"091206-4059631"},null,null,null,null,null,{"$f":"신고서!L26","v":0},null,null,{"$f":"신고서!O26","v":0},null,null,{"$f":"신고서!R26","v":0},null,{"$f":"신고서!U26","v":0},null,"기타",null,null,{"$f":"신고서!AB26","v":0},null,{"$f":"신고서!AD26","v":0},null,{"$f":"신고서!AF26","v":0},null,{"$f":"신고서!AH26","v":0},null,{"$f":"신고서!AJ26","v":0},null,{"$f":"신고서!AL26","v":0},null,{"$f":"신고서!AN26","v":0},null,null,{"$f":"신고서!AP26","v":0},null,{"$f":"신고서!AR26","v":0},null,{"$f":"신고서!AT26","v":0}]
[null,{"$f":"신고서!C27","v":4},null,null,{"$f":"신고서!F27","v":"이민국"},null,null,null,null,null,{"$f":"신고서!L27","v":"○"},null,null,null,null,null,{"$f":"신고서!R27","v":0},null,{"$f":"신고서!U27","v":0},null,"국세청",null,null,{"$f":"신고서!AB27","v":0},null,{"$f":"신고서!AD27","v":0},null,{"$f":"신고서!AF27","v":0},null,{"$f":"신고서!AH27","v":0},null,{"$f":"신고서!AJ27","v":0},null,{"$f":"신고서!AL27","v":0},null,{"$f":"신고서!AN27","v":0},null,null,{"$f":"신고서!AP27","v":0},null,{"$f":"신고서!AR27","v":0},null,{"$f":"신고서!AT27","v":0}]
[null,{"$f":"신고서!C28","v":1},null,null,{"$f":"신고서!F28","v":"151230-3059632"},null,null,null,null,null,{"$f":"신고서!L28","v":0},null,null,{"$f":"신고서!O28","v":0},null,null,{"$f":"신고서!R28","v":0},null,{"$f":"신고서!U28","v":"○"},null,"기타",null,null,{"$f":"신고서!AB28","v":0},null,{"$f":"신고서!AD28","v":0},null,{"$f":"신고서!AF28","v":0},null,{"$f":"신고서!AH28","v":0},null,{"$f":"신고서!AJ28","v":0},null,{"$f":"신고서!AL28","v":0},null,{"$f":"신고서!AN28","v":0},null,null,{"$f":"신고서!AP28","v":0},null,{"$f":"신고서!AR28","v":0},null,{"$f":"신고서!AT28","v":0}]
[null,{"$f":"신고서!C29","v":0},null,null,{"$f":"신고서!F29","v":0},null,null,null,null,null,{"$f":"신고서!L29","v":0},null,null,null,null,null,{"$f":"신고서!R29","v":0},null,{"$f":"신고서!U29","v":0},null,"국세청",null,null,{"$f":"신고서!AB29","v":0},null,{"$f":"신고서!AD29","v":0},null,{"$f":"신고서!AF29","v":0},null,{"$f":"신고서!AH29","v":0},null,{"$f":"신고서!AJ29","v":0},null,{"$f":"신고서!AL29","v":0},null,{"$f":"신고서!AN29","v":0},null,null,{"$f":"신고서!AP29","v":0},null,{"$f":"신고서!AR29","v":0},null,{"$f":"신고서!AT29","v":0}]
[null,{"$f":"신고서!C30","v":0},null,null,{"$f":"신고서!F30","v":0},null,null,null,null,null,{"$f":"신고서!L30","v":0},null,null,{"$f":"신고서!O30","v":0},null,null,{"$f":"신고서!R30","v":0},null,{"$f":"신고서!U30","v":0},null,"기타",null,null,{"$f":"신고서!AB30","v":0},null,{"$f":"신고서!AD30","v":0},null,{"$f":"신고서!AF30","v":0},null,{"$f":"신고서!AH30","v":0},null,{"$f":"신고서!AJ30","v":0},null,{"$f":"신고서!AL30","v":0},null,{"$f":"신고서!AN30","v":0},null,null,{"$f":"신고서!AP30","v":0},null,{"$f":"신고서!AR30","v":0},null,{"$f":"신고서!AT30","v":0}]
[null,{"$f":"신고서!C31","v":0},null,null,{"$f":"신고서!F31","v":0},null,null,null,null,null,{"$f":"신고서!L31","v":0},null,null,null,null,null,{"$f":"신고서!R31","v":0},null,{"$f":"신고서!U31","v":0},null,"국세청",null,null,{"$f":"신고서!AB31","v":0},null,{"$f":"신고서!AD31","v":0},null,{"$f":"신고서!AF31","v":0},null,{"$f":"신고서!AH31","v":0},null,{"$f":"신고서!AJ31","v":0},null,{"$f":"신고서!AL31","v":0},null,{"$f":"신고서!AN31","v":0},null,null,{"$f":"신고서!AP31","v":0},null,{"$f":"신고서!AR31","v":0},null,{"$f":"신고서!AT31","v":0}]
[null,{"$f":"신고서!C32","v":0},null,null,{"$f":"신고서!F32","v":0},null,null,null,null,null,{"$f":"신고서!L32","v":0},null,null,{"$f":"신고서!O32","v":0},null,null,{"$f":"신고서!R32","v":0},null,{"$f":"신고서!U32","v":0},null,"기타",null,null,{"$f":"신고서!AB32","v":0},null,{"$f":"신고서!AD32","v":0},null,{"$f":"신고서!AF32","v":0},null,{"$f":"신고서!AH32","v":0},null,{"$f":"신고서!AJ32","v":0},null,{"$f":"신고서!AL32","v":0},null,{"$f":"신고서!AN32","v":0},null,null,{"$f":"신고서!AP32","v":0},null,{"$f":"신고서!AR32","v":0},null,{"$f":"신고서!AT32","v":0}]
[null,{"$f":"신고서!C33","v":0},null,null,{"$f":"신고서!F33","v":0},null,null,null,null,null,{"$f":"신고서!L33","v":0},null,null,null,null,null,{"$f":"신고서!R33","v":0},null,{"$f":"신고서!U33","v":0},null,"국세청",null,null,{"$f":"신고서!AB33","v":0},null,{"$f":"신고서!AD33","v":0},null,{"$f":"신고서!AF33","v":0},null,{"$f":"신고서!AH33","v":0},null,{"$f":"신고서!AJ33","v":0},null,{"$f":"신고서!AL33","v":0},null,{"$f":"신고서!AN33","v":0},null,null,{"$f":"신고서!AP33","v":0},null,{"$f":"신고서!AR33","v":0},null,{"$f":"신고서!AT33","v":0}]
[null,{"$f":"신고서!C34","v":0},null,null,{"$f":"신고서!F34","v":0},null,null,null,null,null,{"$f":"신고서!L34","v":0},null,null,{"$f":"신고서!O34","v":0},null,null,{"$f":"신고서!R34","v":0},null,{"$f":"신고서!U34","v":0},null,"기타",null,null,{"$f":"신고서!AB34","v":0},null,{"$f":"신고서!AD34","v":0},null,{"$f":"신고서!AF34","v":0},null,{"$f":"신고서!AH34","v":0},null,{"$f":"신고서!AJ34","v":0},null,{"$f":"신고서!AL34","v":0},null,{"$f":"신고서!AN34","v":0},null,null,{"$f":"신고서!AP34","v":0},null,{"$f":"신고서!AR34","v":0},null,{"$f":"신고서!AT34","v":0}]
[null,{"$f":"신고서!C35","v":0},null,null,{"$f":"신고서!F35","v":0},null,null,null,null,null,{"$f":"신고서!L35","v":0},null,null,null,null,null,{"$f":"신고서!R35","v":0},null,{"$f":"신고서!U35","v":0},null,"국세청",null,null,{"$f":"신고서!AB35","v":0},null,{"$f":"신고서!AD35","v":0},null,{"$f":"신고서!AF35","v":0},null,{"$f":"신고서!AH35","v":0},null,{"$f":"신고서!AJ35","v":0},null,{"$f":"신고서!AL35","v":0},null,{"$f":"신고서!AN35","v":0},null,null,{"$f":"신고서!AP35","v":0},null,{"$f":"신고서!AR35","v":0},null,{"$f":"신고서!AT35","v":0}]
[null,{"$f":"신고서!C36","v":0},null,null,{"$f":"신고서!F36","v":0},null,null,null,null,null,{"$f":"신고서!L36","v":0},null,null,{"$f":"신고서!O36","v":0},null,null,{"$f":"신고서!R36","v":0},null,{"$f":"신고서!U36","v":0},null,"기타",null,null,{"$f":"신고서!AB36","v":0},null,{"$f":"신고서!AD36","v":0},null,{"$f":"신고서!AF36","v":0},null,{"$f":"신고서!AH36","v":0},null,{"$f":"신고서!AJ36","v":0},null,{"$f":"신고서!AL36","v":0},null,{"$f":"신고서!AN36","v":0},null,null,{"$f":"신고서!AP36","v":0},null,{"$f":"신고서!AR36","v":0},null,{"$f":"신고서!AT36","v":0}]
[null,{"$f":"신고서!C37","v":0},null,null,{"$f":"신고서!F37","v":0},null,null,null,null,null,{"$f":"신고서!L37","v":0},null,null,null,null,null,{"$f":"신고서!R37","v":0},null,{"$f":"신고서!U37","v":0},null,"국세청",null,null,{"$f":"신고서!AB37","v":0},null,{"$f":"신고서!AD37","v":0},null,{"$f":"신고서!AF37","v":0},null,{"$f":"신고서!AH37","v":0},null,{"$f":"신고서!AJ37","v":0},null,{"$f":"신고서!AL37","v":0},null,{"$f":"신고서!AN37","v":0},null,null,{"$f":"신고서!AP37","v":0},null,{"$f":"신고서!AR37","v":0},null,{"$f":"신고서!AT37","v":0}]
[null,{"$f":"신고서!C38","v":0},null,null,{"$f":"신고서!F38","v":0},null,null,null,null,null,{"$f":"신고서!L38","v":0},null,null,{"$f":"신고서!O38","v":0},null,null,{"$f":"신고서!R38","v":0},null,{"$f":"신고서!U38","v":0},null,"기타",null,null,{"$f":"신고서!AB38","v":0},null,{"$f":"신고서!AD38","v":0},null,{"$f":"신고서!AF38","v":0},null,{"$f":"신고서!AH38","v":0},null,{"$f":"신고서!AJ38","v":0},null,{"$f":"신고서!AL38","v":0},null,{"$f":"신고서!AN38","v":0},null,null,{"$f":"신고서!AP38","v":0},null,{"$f":"신고서!AR38","v":0},null,{"$f":"신고서!AT38","v":0}]
[null,"각종 소득공제ㆍ세액공제 항목"]
[null,"자료\n구분",null,null,"신용카드등 사용액공제",null,null,null,null,null,null,null,null,null,null,null,null,null,null,null,null,null,null,null,null,null,null,null,null,null,null,null,null,null,null,null,null,null,null,null,"기부금"]
[null,null,null,null,"신용카드",null,null,null,null,null,"직불카드등",null,null,null,null,null,"현금영수증",null,null,null,null,null,"도서공연등사용분\n(총급여 7천만원\n이하자만 기재)",null,null,null,null,null,"전통시장사용분",null,null,null,null,null,"대중교통"]
[]
[null,"국세청계",null,null,{"$f":"신고서!F43","v":12000000},null,null,null,null,null,{"$f":"신고서!L43","v":0},null,null,null,null,null,{"$f":"신고서!R43","v":4500000},null,null,null,null,null,{"$f":"신고서!X43","v":0},null,null,null,null,null,{"$f":"신고서!AD43","v":0},null,null,null,null,null,{"$f":"신고서!AK43","v":1200000},null,null,null,null,null,{"$f":"신고서!AR43","v":0}]
[null,"기타계",null,null,{"$f":"신고서!F44","v":0},null,null,null,null,null,{"$f":"신고서!L44","v":0},null,null,null,null,null,{"$f":"신고서!R44","v":0},null,null,null,null,null,{"$f":"신고서!X44","v":0},null,null,null,null,null,{"$f":"신고서!AD44","v":0},null,null,null,null,null,{"$f":"신고서!AK44","v":0},null,null,null,null,null,{"$f":"신고서!AR44","v":0}]
[null,"국세청",null,null,{"$f":"신고서!F45","v":12000000},null,null,null,null,null,{"$f":"신고서!L45","v":0},null,null,null,null,null,{"$f":"신고서!R45","v":4500000},null,null,null,null,null,{"$f":"신고서!X45","v":0},null,null,null,null,null,{"$f":"신고서!AD45","v":0},null,null,null,null,null,{"$f":"신고서!AK45","v":1200000},null,null,null,null,null,{"$f":"신고서!AR45","v":0}]
[null,"기타",null,null,{"$f":"신고서!F46","v":0},null,null,null,null,null,{"$f":"신고서!L46","v":0},null,null,null,null,null,{"$f":"신고서!R46","v":0},null,null,null,null,null,{"$f":"신고서!X46","v":0},null,null,null,null,null,{"$f":"신고서!AD46","v":0},null,null,null,null,null,{"$f":"신고서!AK46","v":0},null,null,null,null,null,{"$f":"신고서!AR46","v":0}]
[null,"국세청",null,null,{"$f":"신고서!F47","v":0},null,null,null,null,null,{"$f":"신고서!L47","v":0},null,null,null,null,null,{"$f":"신고서!R47","v":0},null,null,null,null,null,{"$f":"신고서!X47","v":0},null,null,null,null,null,{"$f":"신고서!AD47","v":0},null,null,null,null,null,{"$f":"신고서!AK47","v":0},null,null,null,null,null,{"$f":"신고서!AR47","v":0}]
[null,"기타",null,null,{"$f":"신고서!F48","v":0},null,null,null,null,null,{"$f":"신고서!L48","v":0},null,null,null,null,null,{"$f":"신고서!R48","v":0},null,null,null,null,null,{"$f":"신고서!X48","v":0},null,null,null,null,null,{"$f":"신고서!AD48","v":0},null,null,null,null,null,{"$f":"신고서!AK48","v":0},null,null,null,null,null,{"$f":"신고서!AR48","v":0}]
[null,"국세청",null,null,{"$f":"신고서!F49","v":0},null,null,null,null,null,{"$f":"신고서!L49","v":0},null,null,null,null,null,{"$f":"신고서!R49","v":0},null,null,null,null,null,{"$f":"신고서!X49","v":0},null,null,null,null,null,{"$f":"신고서!AD49","v":0},null,null,null,null,null,{"$f":"신고서!AK49","v":0},null,null,null,null,null,{"$f":"신고서!AR49","v":0}]
[null,"기타",null,null,{"$f":"신고서!F50","v":0},null,null,null,null,null,{"$f":"신고서!L50","v":0},null,null,null,null,null,{"$f":"신고서!R50","v":0},null,null,null,null,null,{"$f":"신고서!X50","v":0},null,null,null,null,null,{"$f":"신고서!AD50","v":0},null,null,null,null,null,{"$f":"신고서!AK50","v":0},null,null,null,null,null,{"$f":"신고서!AR50","v":0}]
[null,"국세청",null,null,{"$f":"신고서!F51","v":0},null,null,null,null,null,{"$f":"신고서!L51","v":0},null,null,null,null,null,{"$f":"신고서!R51","v":0},null,null,null,null,null,{"$f":"신고서!X51","v":0},null,null,null,null,null,{"$f":"신고서!AD51","v":0},null,null,null,null,null,{"$f":"신고서!AK51","v":0},null,null,null,null,null,{"$f":"신고서!AR51","v":0}]
[null,"기타",null,null,{"$f":"신고서!F52","v":0},null,null,null,null,null,{"$f":"신고서!L52","v":0},null,null,null,null,null,{"$f":"신고서!R52","v":0},null,null,null,null,null,{"$f":"신고서!X52","v":0},null,null,null,null,null,{"$f":"신고서!AD52","v":0},null,null,null,null,null,{"$f":"신고서!AK52","v":0},null,null,null,null,null,{"$f":"신고서!AR52","v":0}]
[null,"국세청",null,null,{"$f":"신고서!F53","v":0},null,null,null,null,null,{"$f":"신고서!L53","v":0},null,null,null,null,null,{"$f":"신고서!R53","v":0},null,null,null,null,null,{"$f":"신고서!X53","v":0},null,null,null,null,null,{"$f":"신고서!AD53","v":0},null,null,null,null,null,{"$f":"신고서!AK53","v":0},null,null,null,null,null,{"$f":"신고서!AR53","v":0}]
[null,"기타",null,null,{"$f":"신고서!F54","v":0},null,null,null,null,null,{"$f":"신고서!L54","v":0},null,null,null,null,null,{"$f":"신고서!R54","v":0},null,null,null,null,null,{"$f":"신고서!X54","v":0},null,null,null,null,null,{"$f":"신고서!AD54","v":0},null,null,null,null,null,{"$f":"신고서!AK54","v":0},null,null,null,null,null,{"$f":"신고서!AR54","v":0}]
[null,"국세청",null,null,{"$f":"신고서!F55","v":0},null,null,null,null,null,{"$f":"신고서!L55","v":0},null,null,null,null,null,{"$f":"신고서!R55","v":0},null,null,null,null,null,{"$f":"신고서!X55","v":0},null,null,null,null,null,{"$f":"신고서!AD55","v":0},null,null,null,null,null,{"$f":"신고서!AK55","v":0},null,null,null,null,null,{"$f":"신고서!AR55","v":0}]
[null,"기타",null,null,{"$f":"신고서!F56","v":0},null,null,null,null,null,{"$f":"신고서!L56","v":0},null,null,null,null,null,{"$f":"신고서!R56","v":0},null,null,null,null,null,{"$f":"신고서!X56","v":0},null,null,null,null,null,{"$f":"신고서!AD56","v":0},null,null,null,null,null,{"$f":"신고서!AK56","v":0},null,null,null,null,null,{"$f":"신고서!AR56","v":0}]
[null,"국세청",null,null,{"$f":"신고서!F57","v":0},null,null,null,null,null,{"$f":"신고서!L57","v":0},null,null,null,null,null,{"$f":"신고서!R57","v":0},null,null,null,null,null,{"$f":"신고서!X57","v":0},null,null,null,null,null,{"$f":"신고서!AD57","v":0},null,null,null,null,null,{"$f":"신고서!AK57","v":0},null,null,null,null,null,{"$f":"신고서!AR57","v":0}]
[null,"기타",null,null,{"$f":"신고서!F58","v":0},null,null,null,null,null,{"$f":"신고서!L58","v":0},null,null,null,null,null,{"$f":"신고서!R58","v":0},null,null,null,null,null,{"$f":"신고서!X58","v":0},null,null,null,null,null,{"$f":"신고서!AD58","v":0},null,null,null,null,null,{"$f":"신고서!AK58","v":0},null,null,null,null,null,{"$f":"신고서!AR58","v":0}]
[null,"국세청",null,null,{"$f":"신고서!F59","v":0},null,null,null,null,null,{"$f":"신고서!L59","v":0},null,null,null,null,null,{"$f":"신고서!R59","v":0},null,null,null,null,null,{"$f":"신고서!X59","v":0},null,null,null,null,null,{"$f":"신고서!AD59","v":0},null,null,null,null,null,{"$f":"신고서!AK59","v":0},null,null,null,null,null,{"$f":"신고서!AR59","v":0}]
[null,"기타",null,null,{"$f":"신고서!F60","v":0},null,null,null,null,null,{"$f":"신고서!L60","v":0},null,null,null,null,null,{"$f":"신고서!R60","v":0},null,null,null,null,null,{"$f":"신고서!X60","v":0},null,null,null,null,null,{"$f":"신고서!AD60","v":0},null,null,null,null,null,{"$f":"신고서!AK60","v":0},null,null,null,null,null,{"$f":"신고서!AR60","v":0}]
[null,"국세청",null,null,{"$f":"신고서!F61","v":0},null,null,null,null,null,{"$f":"신고서!L61","v":0},null,null,null,null,null,{"$f":"신고서!R61","v":0},null,null,null,null,null,{"$f":"신고서!X61","v":0},null,null,null,null,null,{"$f":"신고서!AD61","v":0},null,null,null,null,null,{"$f":"신고서!AK61","v":0},null,null,null,null,null,{"$f":"신고서!AR61","v":0}]
[null,"기타",null,null,{"$f":"신고서!F62","v":0},null,null,null,null,null,{"$f":"신고서!L62","v":0},null,null,null,null,null,{"$f":"신고서!R62","v":0},null,null,null,null,null,{"$f":"신고서!X62","v":0},null,null,null,null,null,{"$f":"신고서!AD62","v":0},null,null,null,null,null,{"$f":"신고서!AK62","v":0},null,null,null,null,null,{"$f":"신고서!AR62","v":0}]
[null,"국세청",null,null,{"$f":"신고서!F63","v":0},null,null,null,null,null,{"$f":"신고서!L63","v":0},null,null,null,null,null,{"$f":"신고서!R63","v":0},null,null,null,null,null,{"$f":"신고서!X63","v":0},null,null,null,null,null,{"$f":"신고서!AD63","v":0},null,null,null,null,null,{"$f":"신고서!AK63","v":0},null,null,null,null,null,{"$f":"신고서!AR63","v":0}]
[null,"기타",null,null,{"$f":"신고서!F64","v":0},null,null,null,null,null,{"$f":"신고서!L64","v":0},null,null,null,null,null,{"$f":"신고서!R64","v":0},null,null,null,null,null,{"$f":"신고서!X64","v":0},null,null,null,null,null,{"$f":"신고서!AD64","v":0},null,null,null,null,null,{"$f":"신고서!AK64","v":0},null,null,null,null,null,{"$f":"신고서!AR64","v":0}]
[null,null,null,null,null,null,null,null,null,null,null,null,null,null,null,null,null,null,null,null,null,null,null,null,null,null,null,null,null,null,null,null,null,null,null,null,null,null,null,null,null,null,null,"210㎜×297㎜"]

{"sheet":"징수부","index":8,"n_rows":73,"n_cols":17,"rows_kept":73,"cut":false,"hidden":false,"merged":[[71,1,71,16],[35,1,35,16],[69,2,69,3],[70,1,70,5],[63,2,63,3],[64,2,64,3],[65,2,65,3],[66,2,66,3],[59,2,59,3],[60,2,60,3],[61,2,61,3],[62,2,62,3],[54,1,54,16],[57,2,57,3],[58,2,58,3],[55,2,55,4],[56,2,56,3],[55,5,56,5],[55,6,55,9],[55,10,55,16],[50,2,50,3],[51,2,51,3],[37,16,38,16],[37,2,38,3],[16,11,17,11],[34,1,34,16],[39,2,39,3],[36,1,38,1],[36,2,36,12],[36,13,36,16],[37,8,38,8],[15,1,17,1],[16,4,17,4],[15,12,15,16],[16,12,16,13],[16,15,17,15],[16,16,17,16],[16,5,17,5],[16,6,17,6],[16,9,17,9],[16,10,17,10],[37,4,37,6],[20,2,20,3],[15,4,15,11],[46,2,46,3],[47,2,47,3],[48,2,48,3],[49,2,49,3],[42,2,42,3],[45,2,45,3],[43,2,43,3],[44,2,44,3],[10,9,10,10],[37,10,38,12],[24,2,24,3],[25,2,25,3],[29,2,29,3],[26,2,26,3],[27,2,27,3],[28,2,28,3],[16,7,17,7],[16,8,17,8],[22,2,22,3],[23,2,23,3],[21,2,21,3],[15,2,17,3],[18,2,18,3],[19,2,19,3],[11,4,11,10],[11,11,11,16],[10,11,10,13],[8,14,9,14],[8,4,9,6],[8,7,9,8],[14,1,14,16],[8,1,13,3],[12,4,12,10],[12,11,12,16],[13,4,13,6],[13,7,13,8],[13,9,13,10],[13,13,13,14],[13,11,13,12],[13,15,13,16],[7,1,7,3],[7,4,7,16],[8,11,9,13],[10,4,10,6],[10,7,10,8],[3,2,3,3],[5,1,6,3],[5,4,5,6],[6,4,6,6],[2,5,4,16],[5,7,5,16],[6,7,6,16],[8,15,8,16],[9,15,9,16],[8,9,9,10],[10,14,10,16],[55,1,56,1],[56,15,56,16],[37,7,38,7],[30,1,30,3],[40,2,40,3],[41,2,41,3],[56,13,56,14],[37,13,38,13],[37,14,38,14],[37,15,38,15],[51,10,51,12],[47,10,47,12],[48,10,48,12],[49,10,49,12],[50,10,50,12],[43,10,43,12],[44,10,44,12],[45,10,45,12],[46,10,46,12],[39,10,39,12],[40,10,40,12],[41,10,41,12],[42,10,42,12],[37,9,38,9],[67,2,67,3],[68,2,68,3],[65,13,65,14],[57,15,57,16],[58,15,58,16],[59,15,59,16],[60,15,60,16],[61,15,61,16],[62,15,62,16],[63,15,63,16],[64,15,64,16],[58,13,58,14],[57,13,57,14],[70,13,70,16],[70,6,70,7],[70,8,70,9],[70,10,70,12],[66,13,66,14],[67,13,67,14],[68,13,68,14],[69,13,69,14],[59,13,59,14],[69,15,69,16],[66,15,66,16],[67,15,67,16],[68,15,68,16],[61,13,61,14],[62,13,62,14],[65,15,65,16],[63,13,63,14],[64,13,64,14],[60,13,60,14]]}
[]
[null,"■ 소득세법 시행규칙 [별지 제25호서식(1)] <개정 2014.3.14>",null,null,null,null,null,null,null,null,null,null,null,null,null,null,"(3쪽 중 제1쪽)"]
[null," ",null,null,null,"소 득 자 별 근 로 소 득 원 천 징 수 부"]
[null," ","①귀속연도",null,{"$f":"기본사항!G10","v":2019}]
[]
[null,"징수의무자",null,null,"②법 인 명(상호)",null,null,{"$f":"기본사항!G14","v":"(주)조세통람"}]
[null,null,null,null,"③사업자등록번호",null,null,{"$f":"기본사항!G16","v":"203-81-11111"}]
[null,"④ 근무처"]
[null,"소   득  자",null,null," ⑤성          명",null,null,{"$f":"기본사항!G7","v":"이영화"},null,"⑥주민등록번호",null,{"$f":"기본사항!G8","v":"123456-1234567"},null,null,"⑦입사일\n  퇴사일"]
[]
[null,null,null,null,"⑧ 내외국인 구분",null,null,"내국인1/외국인9",null,"⑨ 국적",null,null,null,null,"(국적코드 :         )"]
[null,null,null,null,"⑩ 공제대상가족의 수(본인․배우자를 각각 1인으로 봄)",null,null,null,null,null,null,{"$f":"인적공제!G17","v":5}]
[null,null,null,null,"⑪ 20세 이하 자녀의 수",null,null,null,null,null,null,{"$f":"인적공제!O7","v":3}]
[null,null,null,null,"⑫ 감면 적용 여부",null,null,"여 1, 부 2",null,"⑬ 감면규정",null,null,null,"⑭ 감면기간",null,"~"]
[null,"Ⅰ. 근  로  소  득  지  급  명  세"]
[null,"월별","(15)지급연월",null,"1. 총       급       여 ",null,null,null,null,null,null,null,"2. 징수세액"]
[null,null,null,null,"(16)급여","(17)상여","(18)인정상여","(19)주식매수선택권행사이익","(20)우리사주조합인출금","(21)임원퇴직소득금액 한도초과액","(22)~(29)","(30)계","간이세액표 적용 대상",null,"그 외","(34)소득세계\n(32)+(33)","(35)지방\n소득세"]
[null,null,null,null,null,null,null,null,null,null,null,null,"(31)급여구간","(32)소득세","(33)소득세"]
[null,1,{"$f":"급여내역!E8","v":0},null,{"$f":"급여내역!H8","v":2100000},{"$f":"급여내역!M8","v":0},{"$f":"급여내역!Q8","v":0},{"$f":"급여내역!U8","v":0},{"$f":"급여내역!V8","v":0},{"$f":"급여내역!X8","v":0},null,{"$f":"SUM(E19:K19)","v":2100000},null,{"$f":"급여내역!AC8","v":22740},null,{"$f":"N19+O19","v":22740},{"$f":"P19*0.1","v":2274}]
[null,2,{"$f":"급여내역!E9","v":0},null,{"$f":"급여내역!H9","v":2100000},{"$f":"급여내역!M9","v":0},{"$f":"급여내역!Q9","v":0},{"$f":"급여내역!U9","v":0},{"$f":"급여내역!V9","v":0},{"$f":"급여내역!X9","v":0},null,{"$f":"SUM(E20:K20)","v":2100000},null,{"$f":"급여내역!AC9","v":22740},null,{"$f":"N20+O20","v":22740},{"$f":"P20*0.1","v":2274}]
[null,3,{"$f":"급여내역!E10","v":0},null,{"$f":"급여내역!H10","v":2100000},{"$f":"급여내역!M10","v":0},{"$f":"급여내역!Q10","v":0},{"$f":"급여내역!U10","v":0},{"$f":"급여내역!V10","v":0},{"$f":"급여내역!X10","v":0},null,2100000,null,{"$f":"급여내역!AC10","v":22740},null,22740,2274]
[null,4,{"$f":"급여내역!E11","v":0},null,{"$f":"급여내역!H11","v":2100000},{"$f":"급여내역!M11","v":0},{"$f":"급여내역!Q11","v":0},{"$f":"급여내역!U11","v":0},{"$f":"급여내역!V11","v":0},{"$f":"급여내역!X11","v":0},null,2100000,null,{"$f":"급여내역!AC11","v":22740},null,22740,2274]
[null,5,{"$f":"급여내역!E12","v":0},null,{"$f":"급여내역!H12","v":2100000},{"$f":"급여내역!M12","v":0},{"$f":"급여내역!Q12","v":0},{"$f":"급여내역!U12","v":0},{"$f":"급여내역!V12","v":0},{"$f":"급여내역!X12","v":0},null,2100000,null,{"$f":"급여내역!AC12","v":22740},null,22740,2274]
[null,6,{"$f":"급여내역!E13","v":0},null,{"$f":"급여내역!H13","v":2100000},{"$f":"급여내역!M13","v":0},{"$f":"급여내역!Q13","v":0},{"$f":"급여내역!U13","v":0},{"$f":"급여내역!V13","v":0},{"$f":"급여내역!X13","v":0},null,2100000,null,{"$f":"급여내역!AC13","v":22740},null,22740,2274]
[null,7,{"$f":"급여내역!E14","v":0},null,{"$f":"급여내역!H14","v":2100000},{"$f":"급여내역!M14","v":0},{"$f":"급여내역!Q14","v":0},{"$f":"급여내역!U14","v":0},{"$f":"급여내역!V14","v":0},{"$f":"급여내역!X14","v":0},null,2100000,null,{"$f":"급여내역!AC14","v":22740},null,22740,2274]
[null,8,{"$f":"급여내역!E15","v":0},null,{"$f":"급여내역!H15","v":2100000},{"$f":"급여내역!M15","v":0},{"$f":"급여내역!Q15","v":0},{"$f":"급여내역!U15","v":0},{"$f":"급여내역!V15","v":0},{"$f":"급여내역!X15","v":0},null,2100000,null,{"$f":"급여내역!AC15","v":22740},null,22740,2274]
[null,9,{"$f":"급여내역!E16","v":0},null,{"$f":"급여내역!H16","v":2100000},{"$f":"급여내역!M16","v":0},{"$f":"급여내역!Q16","v":0},{"$f":"급여내역!U16","v":0},{"$f":"급여내역!V16","v":0},{"$f":"급여내역!X16","v":0},null,2100000,null,{"$f":"급여내역!AC16","v":22740},null,22740,2274]
[null,10,{"$f":"급여내역!E17","v":0},null,{"$f":"급여내역!H17","v":2100000},{"$f":"급여내역!M17","v":0},{"$f":"급여내역!Q17","v":0},{"$f":"급여내역!U17","v":0},{"$f":"급여내역!V17","v":0},{"$f":"급여내역!X17","v":0},null,2100000,null,{"$f":"급여내역!AC17","v":22740},null,22740,2274]
[null,11,{"$f":"급여내역!E18","v":0},null,{"$f":"급여내역!H18","v":2100000},{"$f":"급여내역!M18","v":0},{"$f":"급여내역!Q18","v":0},{"$f":"급여내역!U18","v":0},{"$f":"급여내역!V18","v":0},{"$f":"급여내역!X18","v":0},null,2100000,null,{"$f":"급여내역!AC18","v":22740},null,22740,2274]
[null,12,{"$f":"급여내역!E19","v":0},null,{"$f":"급여내역!H19","v":2100000},{"$f":"급여내역!M19","v":0},{"$f":"급여내역!Q19","v":0},{"$f":"급여내역!U19","v":0},{"$f":"급여내역!V19","v":0},{"$f":"급여내역!X19","v":0},null,2100000,null,{"$f":"급여내역!AC19","v":22740},null,22740,2274]
[null,"계",null,null,{"$f":"SUM(E19:E30)","v":25200000},0,0,0,0,0,0,25200000,null,{"$f":"SUM(N19:N30)","v":272880},{"$f":"SUM(O19:O30)","v":0},{"$f":"SUM(P19:P30)","v":272880},{"$f":"SUM(Q19:Q30)","v":27288}]
[null,null,null,null,null,null,null,null,null,null,null,null,null,null,null,null,"297㎜×210㎜"]
[]
[null,null,null,null,null,null,null,null,null,null,null,null,null,null,null,null,"(3쪽 중 제2쪽)"]
[null,"Ⅱ. 비   과   세   소   득 "]
[null,"※소득세법 시행규칙 제24호 서식(1) 근로소득원천징수영수증(5쪽) 비과세 및 감면소득 코드 참조"]
[null,"월별","1. 지급명세서 작성 대상 비과세 소득",null,null,null,null,null,null,null,null,null,null,"2. 지급명세서 작성 제외대상 비과세 소득\n※해당 원천징수의무자가 지급한 \n소득을 적음"]
[null,null,"(15)지급연월",null,"국외근로소득\n(코드 :    )",null,null,"(39)야간근로\n수당 등\n(O01)","\n(40)출산˙\n보육수당\n(Q01)","(41)～(49)\n(코드 :  )"," (50)합계\n(38+～+49)",null,null," (51)일직료\n 등\n(H02)","(52)자가운전보조금\n(H03)","(53)～(59)","(60)합계\n(51+～+59)"]
[null,null,null,null," (36)외화","(37)환율","(38)원화"]
[null,1,{"$f":"급여내역!AX8","v":0},null,null,null,{"$f":"급여내역!BB8","v":0},{"$f":"급여내역!BK8","v":0},{"$f":"급여내역!BO8","v":0},{"$f":"급여내역!BP8","v":0},{"$f":"SUM(G40:J40)","v":0},null,null,null,null,null,{"$f":"SUM(N40:P40)","v":0}]
[null,2,{"$f":"급여내역!AX9","v":0},null,null,null,{"$f":"급여내역!BB9","v":0},{"$f":"급여내역!BK9","v":0},{"$f":"급여내역!BO9","v":0},{"$f":"급여내역!BP9","v":0},{"$f":"SUM(G41:J41)","v":0},null,null,null,null,null,{"$f":"SUM(N41:P41)","v":0}]
[null,3,{"$f":"급여내역!AX10","v":0},null,null,null,{"$f":"급여내역!BB10","v":0},{"$f":"급여내역!BK10","v":0},{"$f":"급여내역!BO10","v":0},{"$f":"급여내역!BP10","v":0},0,null,null,null,null,null,0]
[null,4,{"$f":"급여내역!AX11","v":0},null,null,null,{"$f":"급여내역!BB11","v":0},{"$f":"급여내역!BK11","v":0},{"$f":"급여내역!BO11","v":0},{"$f":"급여내역!BP11","v":0},0,null,null,null,null,null,0]
[null,5,{"$f":"급여내역!AX12","v":0},null,null,null,{"$f":"급여내역!BB12","v":0},{"$f":"급여내역!BK12","v":0},{"$f":"급여내역!BO12","v":0},{"$f":"급여내역!BP12","v":0},0,null,null,null,null,null,0]
[null,6,{"$f":"급여내역!AX13","v":0},null,null,null,{"$f":"급여내역!BB13","v":0},{"$f":"급여내역!BK13","v":0},{"$f":"급여내역!BO13","v":0},{"$f":"급여내역!BP13","v":0},0,null,null,null,null,null,0]
[null,7,{"$f":"급여내역!AX14","v":0},null,null,null,{"$f":"급여내역!BB14","v":0},{"$f":"급여내역!BK14","v":0},{"$f":"급여내역!BO14","v":0},{"$f":"급여내역!BP14","v":0},0,null,null,null,null,null,0]
[null,8,{"$f":"급여내역!AX15","v":0},null,null,null,{"$f":"급여내역!BB15","v":0},{"$f":"급여내역!BK15","v":0},{"$f":"급여내역!BO15","v":0},{"$f":"급여내역!BP15","v":0},0,null,null,null,null,null,0]
[null,9,{"$f":"급여내역!AX16","v":0},null,null,null,{"$f":"급여내역!BB16","v":0},{"$f":"급여내역!BK16","v":0},{"$f":"급여내역!BO16","v":0},{"$f":"급여내역!BP16","v":0},0,null,null,null,null,null,0]
[null,10,{"$f":"급여내역!AX17","v":0},null,null,null,{"$f":"급여내역!BB17","v":0},{"$f":"급여내역!BK17","v":0},{"$f":"급여내역!BO17","v":0},{"$f":"급여내역!BP17","v":0},0,null,null,null,null,null,0]
[null,11,{"$f":"급여내역!AX18","v":0},null,null,null,{"$f":"급여내역!BB18","v":0},{"$f":"급여내역!BK18","v":0},{"$f":"급여내역!BO18","v":0},{"$f":"급여내역!BP18","v":0},0,null,null,null,null,null,0]
[null,12,{"$f":"급여내역!AX19","v":0},null,null,null,{"$f":"급여내역!BB19","v":0},{"$f":"급여내역!BK19","v":0},{"$f":"급여내역!BO19","v":0},{"$f":"급여내역!BP19","v":0},0,null,null,null,null,null,0]
[null,"계",null,null,null,{"$f":"SUM(F40:F51)","v":0},{"$f":"SUM(G40:G51)","v":0},{"$f":"SUM(H40:H51)","v":0},0,0,0,null,null,0,0,{"$f":"SUM(P40:P51)","v":0},{"$f":"SUM(Q40:Q51)","v":0}]
[null,null,null,null,null,null,null,null,null,null,null,null,null,null,null,null,"297㎜×210㎜"]
[null,null,null,null,null,null,null,null,null,null,null,null,null,null,null,null,"(3쪽 중 제3쪽)"]
[null,"Ⅲ.  근    로   소   득   원   천   징   수   액   등"]
[null,"월별","1.감면세액",null,null,"(63)납세조합\n공제세액","2. 차  감  원  천  징  수  액",null,null,null,"3. 징수의무자 자체 증빙 지출액(소득공제)"]
[null,null,"(61)감면소득",null,"(62)감면세액",null,"(64)소득세","(65)지방소득세","(66)농어촌특별세","(67)외국납부세액","(68)연금보험","(69)건강보험","(70)고용보험","(71)기부금",null,"(72)비고"]
[null,1,null,null,{"$f":"급여내역!AI8","v":0},null,{"$f":"급여내역!AL8","v":22740},{"$f":"급여내역!AP8","v":2270},{"$f":"급여내역!AT8","v":0},null,{"$f":"급여내역!CA8","v":94500},{"$f":"급여내역!CB8+급여내역!CD8","v":73600},{"$f":"급여내역!CC8","v":16800}]
[null,2,null,null,{"$f":"급여내역!AI9","v":0},null,{"$f":"급여내역!AL9","v":22740},{"$f":"급여내역!AP9","v":2270},{"$f":"급여내역!AT9","v":0},null,{"$f":"급여내역!CA9","v":94500},{"$f":"급여내역!CB9+급여내역!CD9","v":73600},{"$f":"급여내역!CC9","v":16800}]
[null,3,null,null,{"$f":"급여내역!AI10","v":0},null,{"$f":"급여내역!AL10","v":22740},{"$f":"급여내역!AP10","v":2270},{"$f":"급여내역!AT10","v":0},null,{"$f":"급여내역!CA10","v":94500},{"$f":"급여내역!CB10+급여내역!CD10","v":73600},{"$f":"급여내역!CC10","v":16800}]
[null,4,null,null,{"$f":"급여내역!AI11","v":0},null,{"$f":"급여내역!AL11","v":22740},{"$f":"급여내역!AP11","v":2270},{"$f":"급여내역!AT11","v":0},null,{"$f":"급여내역!CA11","v":94500},{"$f":"급여내역!CB11+급여내역!CD11","v":73600},{"$f":"급여내역!CC11","v":16800}]
[null,5,null,null,{"$f":"급여내역!AI12","v":0},null,{"$f":"급여내역!AL12","v":22740},{"$f":"급여내역!AP12","v":2270},{"$f":"급여내역!AT12","v":0},null,{"$f":"급여내역!CA12","v":94500},{"$f":"급여내역!CB12+급여내역!CD12","v":73600},{"$f":"급여내역!CC12","v":16800}]
[null,6,null,null,{"$f":"급여내역!AI13","v":0},null,{"$f":"급여내역!AL13","v":22740},{"$f":"급여내역!AP13","v":2270},{"$f":"급여내역!AT13","v":0},null,{"$f":"급여내역!CA13","v":94500},{"$f":"급여내역!CB13+급여내역!CD13","v":73600},{"$f":"급여내역!CC13","v":16800}]
[null,7,null,null,{"$f":"급여내역!AI14","v":0},null,{"$f":"급여내역!AL14","v":22740},{"$f":"급여내역!AP14","v":2270},{"$f":"급여내역!AT14","v":0},null,{"$f":"급여내역!CA14","v":94500},{"$f":"급여내역!CB14+급여내역!CD14","v":73600},{"$f":"급여내역!CC14","v":16800}]
[null,8,null,null,{"$f":"급여내역!AI15","v":0},null,{"$f":"급여내역!AL15","v":22740},{"$f":"급여내역!AP15","v":2270},{"$f":"급여내역!AT15","v":0},null,{"$f":"급여내역!CA15","v":94500},{"$f":"급여내역!CB15+급여내역!CD15","v":73600},{"$f":"급여내역!CC15","v":16800}]
[null,9,null,null,{"$f":"급여내역!AI16","v":0},null,{"$f":"급여내역!AL16","v":22740},{"$f":"급여내역!AP16","v":2270},{"$f":"급여내역!AT16","v":0},null,{"$f":"급여내역!CA16","v":94500},{"$f":"급여내역!CB16+급여내역!CD16","v":73600},{"$f":"급여내역!CC16","v":16800}]
[null,10,null,null,{"$f":"급여내역!AI17","v":0},null,{"$f":"급여내역!AL17","v":22740},{"$f":"급여내역!AP17","v":2270},{"$f":"급여내역!AT17","v":0},null,{"$f":"급여내역!CA17","v":94500},{"$f":"급여내역!CB17+급여내역!CD17","v":73600},{"$f":"급여내역!CC17","v":16800}]
[null,11,null,null,{"$f":"급여내역!AI18","v":0},null,{"$f":"급여내역!AL18","v":22740},{"$f":"급여내역!AP18","v":2270},{"$f":"급여내역!AT18","v":0},null,{"$f":"급여내역!CA18","v":94500},{"$f":"급여내역!CB18+급여내역!CD18","v":73600},{"$f":"급여내역!CC18","v":16800}]
[null,12,null,null,{"$f":"급여내역!AI19","v":0},null,{"$f":"급여내역!AL19","v":22740},{"$f":"급여내역!AP19","v":2270},{"$f":"급여내역!AT19","v":0},null,{"$f":"급여내역!CA19","v":94500},{"$f":"급여내역!CB19+급여내역!CD19","v":73600},{"$f":"급여내역!CC19","v":16800}]
[null,"계",{"$f":"SUM(C58:D69)","v":0},null,{"$f":"SUM(E58:E69)","v":0},0,272880,27240,0,0,1134000,883200,201600]
[null,"작성일자:",null,null,null,null,{"$f":"기본사항!G19","v":"2020-02-28"},null,"징수의무자:",null,{"$f":"기본사항!G15","v":"김철수"},null,null,"(서명 또는 인)"]
[null,"※  (72)비고란에는 (71)기부금에 해당하는 기부금유형 및 코드를 적습니다."]
[null,"                                                    ",null,null,null,null,null,null,null,null,null,null,null,null,null,null,"297㎜×210㎜"]

{"sheet":"사용가이드","index":9,"n_rows":0,"n_cols":0,"rows_kept":0,"cut":false,"hidden":false,"merged":[]}